BEGIN:VCALENDAR
VERSION:2.0
PRODID:-//First Presbyterian Church of Darien - ECPv6.15.20//NONSGML v1.0//EN
CALSCALE:GREGORIAN
METHOD:PUBLISH
X-WR-CALNAME:First Presbyterian Church of Darien
X-ORIGINAL-URL:https://fpcdarien.com
X-WR-CALDESC:Events for First Presbyterian Church of Darien
REFRESH-INTERVAL;VALUE=DURATION:PT1H
X-Robots-Tag:noindex
X-PUBLISHED-TTL:PT1H
BEGIN:VTIMEZONE
TZID:America/New_York
BEGIN:DAYLIGHT
TZOFFSETFROM:-0500
TZOFFSETTO:-0400
TZNAME:EDT
DTSTART:20290311T070000
END:DAYLIGHT
BEGIN:STANDARD
TZOFFSETFROM:-0400
TZOFFSETTO:-0500
TZNAME:EST
DTSTART:20291104T060000
END:STANDARD
BEGIN:DAYLIGHT
TZOFFSETFROM:-0500
TZOFFSETTO:-0400
TZNAME:EDT
DTSTART:20300310T070000
END:DAYLIGHT
BEGIN:STANDARD
TZOFFSETFROM:-0400
TZOFFSETTO:-0500
TZNAME:EST
DTSTART:20301103T060000
END:STANDARD
BEGIN:DAYLIGHT
TZOFFSETFROM:-0500
TZOFFSETTO:-0400
TZNAME:EDT
DTSTART:20310309T070000
END:DAYLIGHT
BEGIN:STANDARD
TZOFFSETFROM:-0400
TZOFFSETTO:-0500
TZNAME:EST
DTSTART:20311102T060000
END:STANDARD
BEGIN:DAYLIGHT
TZOFFSETFROM:-0500
TZOFFSETTO:-0400
TZNAME:EDT
DTSTART:20320314T070000
END:DAYLIGHT
BEGIN:STANDARD
TZOFFSETFROM:-0400
TZOFFSETTO:-0500
TZNAME:EST
DTSTART:20321107T060000
END:STANDARD
END:VTIMEZONE
BEGIN:VEVENT
DTSTART;TZID=America/New_York:20301120T110000
DTEND;TZID=America/New_York:20301120T120000
DTSTAMP:20260425T232216
CREATED:20260414T192812Z
LAST-MODIFIED:20260414T192812Z
UID:10001960-1921402800-1921406400@fpcdarien.com
SUMMARY:Women's Bible Study
DESCRIPTION:
URL:https://fpcdarien.com/event/womens-bible-study-2/2030-11-20/
LOCATION:Adult Sunday School room
END:VEVENT
BEGIN:VEVENT
DTSTART;TZID=America/New_York:20301127T110000
DTEND;TZID=America/New_York:20301127T120000
DTSTAMP:20260425T232216
CREATED:20260414T192812Z
LAST-MODIFIED:20260414T192812Z
UID:10001961-1922007600-1922011200@fpcdarien.com
SUMMARY:Women's Bible Study
DESCRIPTION:
URL:https://fpcdarien.com/event/womens-bible-study-2/2030-11-27/
LOCATION:Adult Sunday School room
END:VEVENT
BEGIN:VEVENT
DTSTART;TZID=America/New_York:20301204T110000
DTEND;TZID=America/New_York:20301204T120000
DTSTAMP:20260425T232216
CREATED:20260414T192812Z
LAST-MODIFIED:20260414T192812Z
UID:10001962-1922612400-1922616000@fpcdarien.com
SUMMARY:Women's Bible Study
DESCRIPTION:
URL:https://fpcdarien.com/event/womens-bible-study-2/2030-12-04/
LOCATION:Adult Sunday School room
END:VEVENT
BEGIN:VEVENT
DTSTART;TZID=America/New_York:20301211T110000
DTEND;TZID=America/New_York:20301211T120000
DTSTAMP:20260425T232216
CREATED:20260414T192812Z
LAST-MODIFIED:20260414T192812Z
UID:10001963-1923217200-1923220800@fpcdarien.com
SUMMARY:Women's Bible Study
DESCRIPTION:
URL:https://fpcdarien.com/event/womens-bible-study-2/2030-12-11/
LOCATION:Adult Sunday School room
END:VEVENT
BEGIN:VEVENT
DTSTART;TZID=America/New_York:20301218T110000
DTEND;TZID=America/New_York:20301218T120000
DTSTAMP:20260425T232216
CREATED:20260414T192812Z
LAST-MODIFIED:20260414T192812Z
UID:10001964-1923822000-1923825600@fpcdarien.com
SUMMARY:Women's Bible Study
DESCRIPTION:
URL:https://fpcdarien.com/event/womens-bible-study-2/2030-12-18/
LOCATION:Adult Sunday School room
END:VEVENT
BEGIN:VEVENT
DTSTART;TZID=America/New_York:20301225T110000
DTEND;TZID=America/New_York:20301225T120000
DTSTAMP:20260425T232216
CREATED:20260414T192812Z
LAST-MODIFIED:20260414T192812Z
UID:10001965-1924426800-1924430400@fpcdarien.com
SUMMARY:Women's Bible Study
DESCRIPTION:
URL:https://fpcdarien.com/event/womens-bible-study-2/2030-12-25/
LOCATION:Adult Sunday School room
END:VEVENT
BEGIN:VEVENT
DTSTART;TZID=America/New_York:20310101T110000
DTEND;TZID=America/New_York:20310101T120000
DTSTAMP:20260425T232216
CREATED:20260414T192812Z
LAST-MODIFIED:20260414T192812Z
UID:10001966-1925031600-1925035200@fpcdarien.com
SUMMARY:Women's Bible Study
DESCRIPTION:
URL:https://fpcdarien.com/event/womens-bible-study-2/2031-01-01/
LOCATION:Adult Sunday School room
END:VEVENT
BEGIN:VEVENT
DTSTART;TZID=America/New_York:20310108T110000
DTEND;TZID=America/New_York:20310108T120000
DTSTAMP:20260425T232216
CREATED:20260414T192812Z
LAST-MODIFIED:20260414T192812Z
UID:10001967-1925636400-1925640000@fpcdarien.com
SUMMARY:Women's Bible Study
DESCRIPTION:
URL:https://fpcdarien.com/event/womens-bible-study-2/2031-01-08/
LOCATION:Adult Sunday School room
END:VEVENT
BEGIN:VEVENT
DTSTART;TZID=America/New_York:20310115T110000
DTEND;TZID=America/New_York:20310115T120000
DTSTAMP:20260425T232216
CREATED:20260414T192812Z
LAST-MODIFIED:20260414T192812Z
UID:10001968-1926241200-1926244800@fpcdarien.com
SUMMARY:Women's Bible Study
DESCRIPTION:
URL:https://fpcdarien.com/event/womens-bible-study-2/2031-01-15/
LOCATION:Adult Sunday School room
END:VEVENT
BEGIN:VEVENT
DTSTART;TZID=America/New_York:20310122T110000
DTEND;TZID=America/New_York:20310122T120000
DTSTAMP:20260425T232216
CREATED:20260414T192812Z
LAST-MODIFIED:20260414T192812Z
UID:10001969-1926846000-1926849600@fpcdarien.com
SUMMARY:Women's Bible Study
DESCRIPTION:
URL:https://fpcdarien.com/event/womens-bible-study-2/2031-01-22/
LOCATION:Adult Sunday School room
END:VEVENT
BEGIN:VEVENT
DTSTART;TZID=America/New_York:20310129T110000
DTEND;TZID=America/New_York:20310129T120000
DTSTAMP:20260425T232216
CREATED:20260414T192812Z
LAST-MODIFIED:20260414T192812Z
UID:10001970-1927450800-1927454400@fpcdarien.com
SUMMARY:Women's Bible Study
DESCRIPTION:
URL:https://fpcdarien.com/event/womens-bible-study-2/2031-01-29/
LOCATION:Adult Sunday School room
END:VEVENT
BEGIN:VEVENT
DTSTART;TZID=America/New_York:20310205T110000
DTEND;TZID=America/New_York:20310205T120000
DTSTAMP:20260425T232216
CREATED:20260414T192812Z
LAST-MODIFIED:20260414T192812Z
UID:10001971-1928055600-1928059200@fpcdarien.com
SUMMARY:Women's Bible Study
DESCRIPTION:
URL:https://fpcdarien.com/event/womens-bible-study-2/2031-02-05/
LOCATION:Adult Sunday School room
END:VEVENT
BEGIN:VEVENT
DTSTART;TZID=America/New_York:20310212T110000
DTEND;TZID=America/New_York:20310212T120000
DTSTAMP:20260425T232216
CREATED:20260414T192812Z
LAST-MODIFIED:20260414T192812Z
UID:10001972-1928660400-1928664000@fpcdarien.com
SUMMARY:Women's Bible Study
DESCRIPTION:
URL:https://fpcdarien.com/event/womens-bible-study-2/2031-02-12/
LOCATION:Adult Sunday School room
END:VEVENT
BEGIN:VEVENT
DTSTART;TZID=America/New_York:20310219T110000
DTEND;TZID=America/New_York:20310219T120000
DTSTAMP:20260425T232216
CREATED:20260414T192812Z
LAST-MODIFIED:20260414T192812Z
UID:10001973-1929265200-1929268800@fpcdarien.com
SUMMARY:Women's Bible Study
DESCRIPTION:
URL:https://fpcdarien.com/event/womens-bible-study-2/2031-02-19/
LOCATION:Adult Sunday School room
END:VEVENT
BEGIN:VEVENT
DTSTART;TZID=America/New_York:20310226T110000
DTEND;TZID=America/New_York:20310226T120000
DTSTAMP:20260425T232216
CREATED:20260414T192812Z
LAST-MODIFIED:20260414T192812Z
UID:10001974-1929870000-1929873600@fpcdarien.com
SUMMARY:Women's Bible Study
DESCRIPTION:
URL:https://fpcdarien.com/event/womens-bible-study-2/2031-02-26/
LOCATION:Adult Sunday School room
END:VEVENT
BEGIN:VEVENT
DTSTART;TZID=America/New_York:20310305T110000
DTEND;TZID=America/New_York:20310305T120000
DTSTAMP:20260425T232216
CREATED:20260414T192812Z
LAST-MODIFIED:20260414T192812Z
UID:10001975-1930474800-1930478400@fpcdarien.com
SUMMARY:Women's Bible Study
DESCRIPTION:
URL:https://fpcdarien.com/event/womens-bible-study-2/2031-03-05/
LOCATION:Adult Sunday School room
END:VEVENT
BEGIN:VEVENT
DTSTART;TZID=America/New_York:20310312T110000
DTEND;TZID=America/New_York:20310312T120000
DTSTAMP:20260425T232216
CREATED:20260414T192812Z
LAST-MODIFIED:20260414T192812Z
UID:10001976-1931079600-1931083200@fpcdarien.com
SUMMARY:Women's Bible Study
DESCRIPTION:
URL:https://fpcdarien.com/event/womens-bible-study-2/2031-03-12/
LOCATION:Adult Sunday School room
END:VEVENT
BEGIN:VEVENT
DTSTART;TZID=America/New_York:20310319T110000
DTEND;TZID=America/New_York:20310319T120000
DTSTAMP:20260425T232216
CREATED:20260414T192812Z
LAST-MODIFIED:20260414T192812Z
UID:10001977-1931684400-1931688000@fpcdarien.com
SUMMARY:Women's Bible Study
DESCRIPTION:
URL:https://fpcdarien.com/event/womens-bible-study-2/2031-03-19/
LOCATION:Adult Sunday School room
END:VEVENT
BEGIN:VEVENT
DTSTART;TZID=America/New_York:20310326T110000
DTEND;TZID=America/New_York:20310326T120000
DTSTAMP:20260425T232216
CREATED:20260414T192812Z
LAST-MODIFIED:20260414T192812Z
UID:10001978-1932289200-1932292800@fpcdarien.com
SUMMARY:Women's Bible Study
DESCRIPTION:
URL:https://fpcdarien.com/event/womens-bible-study-2/2031-03-26/
LOCATION:Adult Sunday School room
END:VEVENT
BEGIN:VEVENT
DTSTART;TZID=America/New_York:20310402T110000
DTEND;TZID=America/New_York:20310402T120000
DTSTAMP:20260425T232216
CREATED:20260414T192812Z
LAST-MODIFIED:20260414T192812Z
UID:10001979-1932894000-1932897600@fpcdarien.com
SUMMARY:Women's Bible Study
DESCRIPTION:
URL:https://fpcdarien.com/event/womens-bible-study-2/2031-04-02/
LOCATION:Adult Sunday School room
END:VEVENT
BEGIN:VEVENT
DTSTART;TZID=America/New_York:20310409T110000
DTEND;TZID=America/New_York:20310409T120000
DTSTAMP:20260425T232216
CREATED:20260414T192812Z
LAST-MODIFIED:20260414T192812Z
UID:10001980-1933498800-1933502400@fpcdarien.com
SUMMARY:Women's Bible Study
DESCRIPTION:
URL:https://fpcdarien.com/event/womens-bible-study-2/2031-04-09/
LOCATION:Adult Sunday School room
END:VEVENT
END:VCALENDAR