BEGIN:VCALENDAR
VERSION:2.0
PRODID:-//First Presbyterian Church of Darien - ECPv6.15.20//NONSGML v1.0//EN
CALSCALE:GREGORIAN
METHOD:PUBLISH
X-ORIGINAL-URL:https://fpcdarien.com
X-WR-CALDESC:Events for First Presbyterian Church of Darien
REFRESH-INTERVAL;VALUE=DURATION:PT1H
X-Robots-Tag:noindex
X-PUBLISHED-TTL:PT1H
BEGIN:VTIMEZONE
TZID:America/New_York
BEGIN:DAYLIGHT
TZOFFSETFROM:-0500
TZOFFSETTO:-0400
TZNAME:EDT
DTSTART:20290311T070000
END:DAYLIGHT
BEGIN:STANDARD
TZOFFSETFROM:-0400
TZOFFSETTO:-0500
TZNAME:EST
DTSTART:20291104T060000
END:STANDARD
BEGIN:DAYLIGHT
TZOFFSETFROM:-0500
TZOFFSETTO:-0400
TZNAME:EDT
DTSTART:20300310T070000
END:DAYLIGHT
BEGIN:STANDARD
TZOFFSETFROM:-0400
TZOFFSETTO:-0500
TZNAME:EST
DTSTART:20301103T060000
END:STANDARD
BEGIN:DAYLIGHT
TZOFFSETFROM:-0500
TZOFFSETTO:-0400
TZNAME:EDT
DTSTART:20310309T070000
END:DAYLIGHT
BEGIN:STANDARD
TZOFFSETFROM:-0400
TZOFFSETTO:-0500
TZNAME:EST
DTSTART:20311102T060000
END:STANDARD
END:VTIMEZONE
BEGIN:VEVENT
DTSTART;TZID=America/New_York:20300424T110000
DTEND;TZID=America/New_York:20300424T120000
DTSTAMP:20260425T190048
CREATED:20260414T192812Z
LAST-MODIFIED:20260414T192812Z
UID:10001930-1903258800-1903262400@fpcdarien.com
SUMMARY:Women's Bible Study
DESCRIPTION:
URL:https://fpcdarien.com/event/womens-bible-study-2/2030-04-24/
LOCATION:Adult Sunday School room
END:VEVENT
BEGIN:VEVENT
DTSTART;TZID=America/New_York:20300501T110000
DTEND;TZID=America/New_York:20300501T120000
DTSTAMP:20260425T190048
CREATED:20260414T192812Z
LAST-MODIFIED:20260414T192812Z
UID:10001931-1903863600-1903867200@fpcdarien.com
SUMMARY:Women's Bible Study
DESCRIPTION:
URL:https://fpcdarien.com/event/womens-bible-study-2/2030-05-01/
LOCATION:Adult Sunday School room
END:VEVENT
BEGIN:VEVENT
DTSTART;TZID=America/New_York:20300508T110000
DTEND;TZID=America/New_York:20300508T120000
DTSTAMP:20260425T190048
CREATED:20260414T192812Z
LAST-MODIFIED:20260414T192812Z
UID:10001932-1904468400-1904472000@fpcdarien.com
SUMMARY:Women's Bible Study
DESCRIPTION:
URL:https://fpcdarien.com/event/womens-bible-study-2/2030-05-08/
LOCATION:Adult Sunday School room
END:VEVENT
BEGIN:VEVENT
DTSTART;TZID=America/New_York:20300515T110000
DTEND;TZID=America/New_York:20300515T120000
DTSTAMP:20260425T190048
CREATED:20260414T192812Z
LAST-MODIFIED:20260414T192812Z
UID:10001933-1905073200-1905076800@fpcdarien.com
SUMMARY:Women's Bible Study
DESCRIPTION:
URL:https://fpcdarien.com/event/womens-bible-study-2/2030-05-15/
LOCATION:Adult Sunday School room
END:VEVENT
BEGIN:VEVENT
DTSTART;TZID=America/New_York:20300522T110000
DTEND;TZID=America/New_York:20300522T120000
DTSTAMP:20260425T190048
CREATED:20260414T192812Z
LAST-MODIFIED:20260414T192812Z
UID:10001934-1905678000-1905681600@fpcdarien.com
SUMMARY:Women's Bible Study
DESCRIPTION:
URL:https://fpcdarien.com/event/womens-bible-study-2/2030-05-22/
LOCATION:Adult Sunday School room
END:VEVENT
BEGIN:VEVENT
DTSTART;TZID=America/New_York:20300529T110000
DTEND;TZID=America/New_York:20300529T120000
DTSTAMP:20260425T190048
CREATED:20260414T192812Z
LAST-MODIFIED:20260414T192812Z
UID:10001935-1906282800-1906286400@fpcdarien.com
SUMMARY:Women's Bible Study
DESCRIPTION:
URL:https://fpcdarien.com/event/womens-bible-study-2/2030-05-29/
LOCATION:Adult Sunday School room
END:VEVENT
BEGIN:VEVENT
DTSTART;TZID=America/New_York:20300605T110000
DTEND;TZID=America/New_York:20300605T120000
DTSTAMP:20260425T190048
CREATED:20260414T192812Z
LAST-MODIFIED:20260414T192812Z
UID:10001936-1906887600-1906891200@fpcdarien.com
SUMMARY:Women's Bible Study
DESCRIPTION:
URL:https://fpcdarien.com/event/womens-bible-study-2/2030-06-05/
LOCATION:Adult Sunday School room
END:VEVENT
BEGIN:VEVENT
DTSTART;TZID=America/New_York:20300612T110000
DTEND;TZID=America/New_York:20300612T120000
DTSTAMP:20260425T190048
CREATED:20260414T192812Z
LAST-MODIFIED:20260414T192812Z
UID:10001937-1907492400-1907496000@fpcdarien.com
SUMMARY:Women's Bible Study
DESCRIPTION:
URL:https://fpcdarien.com/event/womens-bible-study-2/2030-06-12/
LOCATION:Adult Sunday School room
END:VEVENT
BEGIN:VEVENT
DTSTART;TZID=America/New_York:20300619T110000
DTEND;TZID=America/New_York:20300619T120000
DTSTAMP:20260425T190048
CREATED:20260414T192812Z
LAST-MODIFIED:20260414T192812Z
UID:10001938-1908097200-1908100800@fpcdarien.com
SUMMARY:Women's Bible Study
DESCRIPTION:
URL:https://fpcdarien.com/event/womens-bible-study-2/2030-06-19/
LOCATION:Adult Sunday School room
END:VEVENT
BEGIN:VEVENT
DTSTART;TZID=America/New_York:20300626T110000
DTEND;TZID=America/New_York:20300626T120000
DTSTAMP:20260425T190048
CREATED:20260414T192812Z
LAST-MODIFIED:20260414T192812Z
UID:10001939-1908702000-1908705600@fpcdarien.com
SUMMARY:Women's Bible Study
DESCRIPTION:
URL:https://fpcdarien.com/event/womens-bible-study-2/2030-06-26/
LOCATION:Adult Sunday School room
END:VEVENT
BEGIN:VEVENT
DTSTART;TZID=America/New_York:20300703T110000
DTEND;TZID=America/New_York:20300703T120000
DTSTAMP:20260425T190048
CREATED:20260414T192812Z
LAST-MODIFIED:20260414T192812Z
UID:10001940-1909306800-1909310400@fpcdarien.com
SUMMARY:Women's Bible Study
DESCRIPTION:
URL:https://fpcdarien.com/event/womens-bible-study-2/2030-07-03/
LOCATION:Adult Sunday School room
END:VEVENT
BEGIN:VEVENT
DTSTART;TZID=America/New_York:20300710T110000
DTEND;TZID=America/New_York:20300710T120000
DTSTAMP:20260425T190048
CREATED:20260414T192812Z
LAST-MODIFIED:20260414T192812Z
UID:10001941-1909911600-1909915200@fpcdarien.com
SUMMARY:Women's Bible Study
DESCRIPTION:
URL:https://fpcdarien.com/event/womens-bible-study-2/2030-07-10/
LOCATION:Adult Sunday School room
END:VEVENT
BEGIN:VEVENT
DTSTART;TZID=America/New_York:20300717T110000
DTEND;TZID=America/New_York:20300717T120000
DTSTAMP:20260425T190048
CREATED:20260414T192812Z
LAST-MODIFIED:20260414T192812Z
UID:10001942-1910516400-1910520000@fpcdarien.com
SUMMARY:Women's Bible Study
DESCRIPTION:
URL:https://fpcdarien.com/event/womens-bible-study-2/2030-07-17/
LOCATION:Adult Sunday School room
END:VEVENT
BEGIN:VEVENT
DTSTART;TZID=America/New_York:20300724T110000
DTEND;TZID=America/New_York:20300724T120000
DTSTAMP:20260425T190048
CREATED:20260414T192812Z
LAST-MODIFIED:20260414T192812Z
UID:10001943-1911121200-1911124800@fpcdarien.com
SUMMARY:Women's Bible Study
DESCRIPTION:
URL:https://fpcdarien.com/event/womens-bible-study-2/2030-07-24/
LOCATION:Adult Sunday School room
END:VEVENT
BEGIN:VEVENT
DTSTART;TZID=America/New_York:20300731T110000
DTEND;TZID=America/New_York:20300731T120000
DTSTAMP:20260425T190048
CREATED:20260414T192812Z
LAST-MODIFIED:20260414T192812Z
UID:10001944-1911726000-1911729600@fpcdarien.com
SUMMARY:Women's Bible Study
DESCRIPTION:
URL:https://fpcdarien.com/event/womens-bible-study-2/2030-07-31/
LOCATION:Adult Sunday School room
END:VEVENT
BEGIN:VEVENT
DTSTART;TZID=America/New_York:20300807T110000
DTEND;TZID=America/New_York:20300807T120000
DTSTAMP:20260425T190048
CREATED:20260414T192812Z
LAST-MODIFIED:20260414T192812Z
UID:10001945-1912330800-1912334400@fpcdarien.com
SUMMARY:Women's Bible Study
DESCRIPTION:
URL:https://fpcdarien.com/event/womens-bible-study-2/2030-08-07/
LOCATION:Adult Sunday School room
END:VEVENT
BEGIN:VEVENT
DTSTART;TZID=America/New_York:20300814T110000
DTEND;TZID=America/New_York:20300814T120000
DTSTAMP:20260425T190048
CREATED:20260414T192812Z
LAST-MODIFIED:20260414T192812Z
UID:10001946-1912935600-1912939200@fpcdarien.com
SUMMARY:Women's Bible Study
DESCRIPTION:
URL:https://fpcdarien.com/event/womens-bible-study-2/2030-08-14/
LOCATION:Adult Sunday School room
END:VEVENT
BEGIN:VEVENT
DTSTART;TZID=America/New_York:20300821T110000
DTEND;TZID=America/New_York:20300821T120000
DTSTAMP:20260425T190048
CREATED:20260414T192812Z
LAST-MODIFIED:20260414T192812Z
UID:10001947-1913540400-1913544000@fpcdarien.com
SUMMARY:Women's Bible Study
DESCRIPTION:
URL:https://fpcdarien.com/event/womens-bible-study-2/2030-08-21/
LOCATION:Adult Sunday School room
END:VEVENT
BEGIN:VEVENT
DTSTART;TZID=America/New_York:20300828T110000
DTEND;TZID=America/New_York:20300828T120000
DTSTAMP:20260425T190048
CREATED:20260414T192812Z
LAST-MODIFIED:20260414T192812Z
UID:10001948-1914145200-1914148800@fpcdarien.com
SUMMARY:Women's Bible Study
DESCRIPTION:
URL:https://fpcdarien.com/event/womens-bible-study-2/2030-08-28/
LOCATION:Adult Sunday School room
END:VEVENT
BEGIN:VEVENT
DTSTART;TZID=America/New_York:20300904T110000
DTEND;TZID=America/New_York:20300904T120000
DTSTAMP:20260425T190048
CREATED:20260414T192812Z
LAST-MODIFIED:20260414T192812Z
UID:10001949-1914750000-1914753600@fpcdarien.com
SUMMARY:Women's Bible Study
DESCRIPTION:
URL:https://fpcdarien.com/event/womens-bible-study-2/2030-09-04/
LOCATION:Adult Sunday School room
END:VEVENT
BEGIN:VEVENT
DTSTART;TZID=America/New_York:20300911T110000
DTEND;TZID=America/New_York:20300911T120000
DTSTAMP:20260425T190048
CREATED:20260414T192812Z
LAST-MODIFIED:20260414T192812Z
UID:10001950-1915354800-1915358400@fpcdarien.com
SUMMARY:Women's Bible Study
DESCRIPTION:
URL:https://fpcdarien.com/event/womens-bible-study-2/2030-09-11/
LOCATION:Adult Sunday School room
END:VEVENT
BEGIN:VEVENT
DTSTART;TZID=America/New_York:20300918T110000
DTEND;TZID=America/New_York:20300918T120000
DTSTAMP:20260425T190048
CREATED:20260414T192812Z
LAST-MODIFIED:20260414T192812Z
UID:10001951-1915959600-1915963200@fpcdarien.com
SUMMARY:Women's Bible Study
DESCRIPTION:
URL:https://fpcdarien.com/event/womens-bible-study-2/2030-09-18/
LOCATION:Adult Sunday School room
END:VEVENT
BEGIN:VEVENT
DTSTART;TZID=America/New_York:20300925T110000
DTEND;TZID=America/New_York:20300925T120000
DTSTAMP:20260425T190048
CREATED:20260414T192812Z
LAST-MODIFIED:20260414T192812Z
UID:10001952-1916564400-1916568000@fpcdarien.com
SUMMARY:Women's Bible Study
DESCRIPTION:
URL:https://fpcdarien.com/event/womens-bible-study-2/2030-09-25/
LOCATION:Adult Sunday School room
END:VEVENT
BEGIN:VEVENT
DTSTART;TZID=America/New_York:20301002T110000
DTEND;TZID=America/New_York:20301002T120000
DTSTAMP:20260425T190048
CREATED:20260414T192812Z
LAST-MODIFIED:20260414T192812Z
UID:10001953-1917169200-1917172800@fpcdarien.com
SUMMARY:Women's Bible Study
DESCRIPTION:
URL:https://fpcdarien.com/event/womens-bible-study-2/2030-10-02/
LOCATION:Adult Sunday School room
END:VEVENT
BEGIN:VEVENT
DTSTART;TZID=America/New_York:20301009T110000
DTEND;TZID=America/New_York:20301009T120000
DTSTAMP:20260425T190048
CREATED:20260414T192812Z
LAST-MODIFIED:20260414T192812Z
UID:10001954-1917774000-1917777600@fpcdarien.com
SUMMARY:Women's Bible Study
DESCRIPTION:
URL:https://fpcdarien.com/event/womens-bible-study-2/2030-10-09/
LOCATION:Adult Sunday School room
END:VEVENT
BEGIN:VEVENT
DTSTART;TZID=America/New_York:20301016T110000
DTEND;TZID=America/New_York:20301016T120000
DTSTAMP:20260425T190048
CREATED:20260414T192812Z
LAST-MODIFIED:20260414T192812Z
UID:10001955-1918378800-1918382400@fpcdarien.com
SUMMARY:Women's Bible Study
DESCRIPTION:
URL:https://fpcdarien.com/event/womens-bible-study-2/2030-10-16/
LOCATION:Adult Sunday School room
END:VEVENT
BEGIN:VEVENT
DTSTART;TZID=America/New_York:20301023T110000
DTEND;TZID=America/New_York:20301023T120000
DTSTAMP:20260425T190048
CREATED:20260414T192812Z
LAST-MODIFIED:20260414T192812Z
UID:10001956-1918983600-1918987200@fpcdarien.com
SUMMARY:Women's Bible Study
DESCRIPTION:
URL:https://fpcdarien.com/event/womens-bible-study-2/2030-10-23/
LOCATION:Adult Sunday School room
END:VEVENT
BEGIN:VEVENT
DTSTART;TZID=America/New_York:20301030T110000
DTEND;TZID=America/New_York:20301030T120000
DTSTAMP:20260425T190048
CREATED:20260414T192812Z
LAST-MODIFIED:20260414T192812Z
UID:10001957-1919588400-1919592000@fpcdarien.com
SUMMARY:Women's Bible Study
DESCRIPTION:
URL:https://fpcdarien.com/event/womens-bible-study-2/2030-10-30/
LOCATION:Adult Sunday School room
END:VEVENT
BEGIN:VEVENT
DTSTART;TZID=America/New_York:20301106T110000
DTEND;TZID=America/New_York:20301106T120000
DTSTAMP:20260425T190048
CREATED:20260414T192812Z
LAST-MODIFIED:20260414T192812Z
UID:10001958-1920193200-1920196800@fpcdarien.com
SUMMARY:Women's Bible Study
DESCRIPTION:
URL:https://fpcdarien.com/event/womens-bible-study-2/2030-11-06/
LOCATION:Adult Sunday School room
END:VEVENT
BEGIN:VEVENT
DTSTART;TZID=America/New_York:20301113T110000
DTEND;TZID=America/New_York:20301113T120000
DTSTAMP:20260425T190048
CREATED:20260414T192812Z
LAST-MODIFIED:20260414T192812Z
UID:10001959-1920798000-1920801600@fpcdarien.com
SUMMARY:Women's Bible Study
DESCRIPTION:
URL:https://fpcdarien.com/event/womens-bible-study-2/2030-11-13/
LOCATION:Adult Sunday School room
END:VEVENT
END:VCALENDAR