BEGIN:VCALENDAR
VERSION:2.0
PRODID:-//First Presbyterian Church of Darien - ECPv6.15.20//NONSGML v1.0//EN
CALSCALE:GREGORIAN
METHOD:PUBLISH
X-ORIGINAL-URL:https://fpcdarien.com
X-WR-CALDESC:Events for First Presbyterian Church of Darien
REFRESH-INTERVAL;VALUE=DURATION:PT1H
X-Robots-Tag:noindex
X-PUBLISHED-TTL:PT1H
BEGIN:VTIMEZONE
TZID:America/New_York
BEGIN:DAYLIGHT
TZOFFSETFROM:-0500
TZOFFSETTO:-0400
TZNAME:EDT
DTSTART:20220313T070000
END:DAYLIGHT
BEGIN:STANDARD
TZOFFSETFROM:-0400
TZOFFSETTO:-0500
TZNAME:EST
DTSTART:20221106T060000
END:STANDARD
BEGIN:DAYLIGHT
TZOFFSETFROM:-0500
TZOFFSETTO:-0400
TZNAME:EDT
DTSTART:20230312T070000
END:DAYLIGHT
BEGIN:STANDARD
TZOFFSETFROM:-0400
TZOFFSETTO:-0500
TZNAME:EST
DTSTART:20231105T060000
END:STANDARD
BEGIN:DAYLIGHT
TZOFFSETFROM:-0500
TZOFFSETTO:-0400
TZNAME:EDT
DTSTART:20240310T070000
END:DAYLIGHT
BEGIN:STANDARD
TZOFFSETFROM:-0400
TZOFFSETTO:-0500
TZNAME:EST
DTSTART:20241103T060000
END:STANDARD
END:VTIMEZONE
BEGIN:VEVENT
DTSTART;TZID=America/New_York:20230912T110000
DTEND;TZID=America/New_York:20230912T120000
DTSTAMP:20260425T192720
CREATED:20230524T160321Z
LAST-MODIFIED:20230524T160849Z
UID:10000525-1694516400-1694520000@fpcdarien.com
SUMMARY:Women's Bible Study
DESCRIPTION:
URL:https://fpcdarien.com/event/womens-bible-study/2023-09-12/
LOCATION:Adult Sunday School room
END:VEVENT
BEGIN:VEVENT
DTSTART;TZID=America/New_York:20230911T100000
DTEND;TZID=America/New_York:20230911T110000
DTSTAMP:20260425T192720
CREATED:20230525T140937Z
LAST-MODIFIED:20230525T140937Z
UID:10001537-1694426400-1694430000@fpcdarien.com
SUMMARY:Session
DESCRIPTION:
URL:https://fpcdarien.com/event/session/2023-09-11/
LOCATION:Adult Sunday School room
END:VEVENT
BEGIN:VEVENT
DTSTART;TZID=America/New_York:20230910T093000
DTEND;TZID=America/New_York:20230910T103000
DTSTAMP:20260425T192720
CREATED:20230525T135738Z
LAST-MODIFIED:20230525T135738Z
UID:10001107-1694338200-1694341800@fpcdarien.com
SUMMARY:Adult Sunday School
DESCRIPTION:
URL:https://fpcdarien.com/event/adult-sunday-school/2023-09-10/
LOCATION:Adult Sunday School room
END:VEVENT
BEGIN:VEVENT
DTSTART;TZID=America/New_York:20230909T100000
DTEND;TZID=America/New_York:20230909T110000
DTSTAMP:20260425T192720
CREATED:20230524T161020Z
LAST-MODIFIED:20230524T161020Z
UID:10000786-1694253600-1694257200@fpcdarien.com
SUMMARY:Men's Bible Study
DESCRIPTION:
URL:https://fpcdarien.com/event/mens-bible-study/2023-09-09/
LOCATION:Adult Sunday School room
END:VEVENT
BEGIN:VEVENT
DTSTART;TZID=America/New_York:20230905T110000
DTEND;TZID=America/New_York:20230905T120000
DTSTAMP:20260425T192720
CREATED:20230524T160321Z
LAST-MODIFIED:20230524T160849Z
UID:10000524-1693911600-1693915200@fpcdarien.com
SUMMARY:Women's Bible Study
DESCRIPTION:
URL:https://fpcdarien.com/event/womens-bible-study/2023-09-05/
LOCATION:Adult Sunday School room
END:VEVENT
BEGIN:VEVENT
DTSTART;TZID=America/New_York:20230903T093000
DTEND;TZID=America/New_York:20230903T103000
DTSTAMP:20260425T192720
CREATED:20230525T135738Z
LAST-MODIFIED:20230525T135738Z
UID:10001106-1693733400-1693737000@fpcdarien.com
SUMMARY:Adult Sunday School
DESCRIPTION:
URL:https://fpcdarien.com/event/adult-sunday-school/2023-09-03/
LOCATION:Adult Sunday School room
END:VEVENT
BEGIN:VEVENT
DTSTART;TZID=America/New_York:20230902T100000
DTEND;TZID=America/New_York:20230902T110000
DTSTAMP:20260425T192720
CREATED:20230524T161020Z
LAST-MODIFIED:20230524T161020Z
UID:10000785-1693648800-1693652400@fpcdarien.com
SUMMARY:Men's Bible Study
DESCRIPTION:
URL:https://fpcdarien.com/event/mens-bible-study/2023-09-02/
LOCATION:Adult Sunday School room
END:VEVENT
BEGIN:VEVENT
DTSTART;TZID=America/New_York:20230827T093000
DTEND;TZID=America/New_York:20230827T103000
DTSTAMP:20260425T192720
CREATED:20230525T135738Z
LAST-MODIFIED:20230525T135738Z
UID:10001105-1693128600-1693132200@fpcdarien.com
SUMMARY:Adult Sunday School
DESCRIPTION:
URL:https://fpcdarien.com/event/adult-sunday-school/2023-08-27/
LOCATION:Adult Sunday School room
END:VEVENT
BEGIN:VEVENT
DTSTART;TZID=America/New_York:20230826T100000
DTEND;TZID=America/New_York:20230826T110000
DTSTAMP:20260425T192720
CREATED:20230524T161020Z
LAST-MODIFIED:20230524T161020Z
UID:10000784-1693044000-1693047600@fpcdarien.com
SUMMARY:Men's Bible Study
DESCRIPTION:
URL:https://fpcdarien.com/event/mens-bible-study/2023-08-26/
LOCATION:Adult Sunday School room
END:VEVENT
BEGIN:VEVENT
DTSTART;TZID=America/New_York:20230820T093000
DTEND;TZID=America/New_York:20230820T103000
DTSTAMP:20260425T192720
CREATED:20230525T135738Z
LAST-MODIFIED:20230525T135738Z
UID:10001104-1692523800-1692527400@fpcdarien.com
SUMMARY:Adult Sunday School
DESCRIPTION:
URL:https://fpcdarien.com/event/adult-sunday-school/2023-08-20/
LOCATION:Adult Sunday School room
END:VEVENT
BEGIN:VEVENT
DTSTART;TZID=America/New_York:20230819T100000
DTEND;TZID=America/New_York:20230819T110000
DTSTAMP:20260425T192720
CREATED:20230524T161020Z
LAST-MODIFIED:20230524T161020Z
UID:10000783-1692439200-1692442800@fpcdarien.com
SUMMARY:Men's Bible Study
DESCRIPTION:
URL:https://fpcdarien.com/event/mens-bible-study/2023-08-19/
LOCATION:Adult Sunday School room
END:VEVENT
BEGIN:VEVENT
DTSTART;TZID=America/New_York:20230814T100000
DTEND;TZID=America/New_York:20230814T110000
DTSTAMP:20260425T192720
CREATED:20230525T140937Z
LAST-MODIFIED:20230525T140937Z
UID:10001536-1692007200-1692010800@fpcdarien.com
SUMMARY:Session
DESCRIPTION:
URL:https://fpcdarien.com/event/session/2023-08-14/
LOCATION:Adult Sunday School room
END:VEVENT
BEGIN:VEVENT
DTSTART;TZID=America/New_York:20230813T093000
DTEND;TZID=America/New_York:20230813T103000
DTSTAMP:20260425T192720
CREATED:20230525T135738Z
LAST-MODIFIED:20230525T135738Z
UID:10001103-1691919000-1691922600@fpcdarien.com
SUMMARY:Adult Sunday School
DESCRIPTION:
URL:https://fpcdarien.com/event/adult-sunday-school/2023-08-13/
LOCATION:Adult Sunday School room
END:VEVENT
BEGIN:VEVENT
DTSTART;TZID=America/New_York:20230812T100000
DTEND;TZID=America/New_York:20230812T110000
DTSTAMP:20260425T192720
CREATED:20230524T161020Z
LAST-MODIFIED:20230524T161020Z
UID:10000782-1691834400-1691838000@fpcdarien.com
SUMMARY:Men's Bible Study
DESCRIPTION:
URL:https://fpcdarien.com/event/mens-bible-study/2023-08-12/
LOCATION:Adult Sunday School room
END:VEVENT
BEGIN:VEVENT
DTSTART;TZID=America/New_York:20230806T093000
DTEND;TZID=America/New_York:20230806T103000
DTSTAMP:20260425T192720
CREATED:20230525T135738Z
LAST-MODIFIED:20230525T135738Z
UID:10001102-1691314200-1691317800@fpcdarien.com
SUMMARY:Adult Sunday School
DESCRIPTION:
URL:https://fpcdarien.com/event/adult-sunday-school/2023-08-06/
LOCATION:Adult Sunday School room
END:VEVENT
BEGIN:VEVENT
DTSTART;TZID=America/New_York:20230805T100000
DTEND;TZID=America/New_York:20230805T110000
DTSTAMP:20260425T192720
CREATED:20230524T161020Z
LAST-MODIFIED:20230524T161020Z
UID:10000781-1691229600-1691233200@fpcdarien.com
SUMMARY:Men's Bible Study
DESCRIPTION:
URL:https://fpcdarien.com/event/mens-bible-study/2023-08-05/
LOCATION:Adult Sunday School room
END:VEVENT
BEGIN:VEVENT
DTSTART;TZID=America/New_York:20230730T093000
DTEND;TZID=America/New_York:20230730T103000
DTSTAMP:20260425T192720
CREATED:20230525T135738Z
LAST-MODIFIED:20230525T135738Z
UID:10001101-1690709400-1690713000@fpcdarien.com
SUMMARY:Adult Sunday School
DESCRIPTION:
URL:https://fpcdarien.com/event/adult-sunday-school/2023-07-30/
LOCATION:Adult Sunday School room
END:VEVENT
BEGIN:VEVENT
DTSTART;TZID=America/New_York:20230729T100000
DTEND;TZID=America/New_York:20230729T110000
DTSTAMP:20260425T192720
CREATED:20230524T161020Z
LAST-MODIFIED:20230524T161020Z
UID:10000780-1690624800-1690628400@fpcdarien.com
SUMMARY:Men's Bible Study
DESCRIPTION:
URL:https://fpcdarien.com/event/mens-bible-study/2023-07-29/
LOCATION:Adult Sunday School room
END:VEVENT
BEGIN:VEVENT
DTSTART;TZID=America/New_York:20230723T093000
DTEND;TZID=America/New_York:20230723T103000
DTSTAMP:20260425T192720
CREATED:20230525T135738Z
LAST-MODIFIED:20230525T135738Z
UID:10001100-1690104600-1690108200@fpcdarien.com
SUMMARY:Adult Sunday School
DESCRIPTION:
URL:https://fpcdarien.com/event/adult-sunday-school/2023-07-23/
LOCATION:Adult Sunday School room
END:VEVENT
BEGIN:VEVENT
DTSTART;TZID=America/New_York:20230722T100000
DTEND;TZID=America/New_York:20230722T110000
DTSTAMP:20260425T192720
CREATED:20230524T161020Z
LAST-MODIFIED:20230524T161020Z
UID:10000779-1690020000-1690023600@fpcdarien.com
SUMMARY:Men's Bible Study
DESCRIPTION:
URL:https://fpcdarien.com/event/mens-bible-study/2023-07-22/
LOCATION:Adult Sunday School room
END:VEVENT
BEGIN:VEVENT
DTSTART;TZID=America/New_York:20230716T093000
DTEND;TZID=America/New_York:20230716T103000
DTSTAMP:20260425T192720
CREATED:20230525T135738Z
LAST-MODIFIED:20230525T135738Z
UID:10001099-1689499800-1689503400@fpcdarien.com
SUMMARY:Adult Sunday School
DESCRIPTION:
URL:https://fpcdarien.com/event/adult-sunday-school/2023-07-16/
LOCATION:Adult Sunday School room
END:VEVENT
BEGIN:VEVENT
DTSTART;TZID=America/New_York:20230715T100000
DTEND;TZID=America/New_York:20230715T110000
DTSTAMP:20260425T192720
CREATED:20230524T161020Z
LAST-MODIFIED:20230524T161020Z
UID:10000778-1689415200-1689418800@fpcdarien.com
SUMMARY:Men's Bible Study
DESCRIPTION:
URL:https://fpcdarien.com/event/mens-bible-study/2023-07-15/
LOCATION:Adult Sunday School room
END:VEVENT
BEGIN:VEVENT
DTSTART;TZID=America/New_York:20230710T100000
DTEND;TZID=America/New_York:20230710T110000
DTSTAMP:20260425T192720
CREATED:20230525T140937Z
LAST-MODIFIED:20230525T140937Z
UID:10001535-1688983200-1688986800@fpcdarien.com
SUMMARY:Session
DESCRIPTION:
URL:https://fpcdarien.com/event/session/2023-07-10/
LOCATION:Adult Sunday School room
END:VEVENT
BEGIN:VEVENT
DTSTART;TZID=America/New_York:20230709T093000
DTEND;TZID=America/New_York:20230709T103000
DTSTAMP:20260425T192720
CREATED:20230525T135738Z
LAST-MODIFIED:20230525T135738Z
UID:10001098-1688895000-1688898600@fpcdarien.com
SUMMARY:Adult Sunday School
DESCRIPTION:
URL:https://fpcdarien.com/event/adult-sunday-school/2023-07-09/
LOCATION:Adult Sunday School room
END:VEVENT
BEGIN:VEVENT
DTSTART;TZID=America/New_York:20230708T100000
DTEND;TZID=America/New_York:20230708T110000
DTSTAMP:20260425T192720
CREATED:20230524T161020Z
LAST-MODIFIED:20230524T161020Z
UID:10000777-1688810400-1688814000@fpcdarien.com
SUMMARY:Men's Bible Study
DESCRIPTION:
URL:https://fpcdarien.com/event/mens-bible-study/2023-07-08/
LOCATION:Adult Sunday School room
END:VEVENT
BEGIN:VEVENT
DTSTART;TZID=America/New_York:20230702T093000
DTEND;TZID=America/New_York:20230702T103000
DTSTAMP:20260425T192720
CREATED:20230525T135738Z
LAST-MODIFIED:20230525T135738Z
UID:10001097-1688290200-1688293800@fpcdarien.com
SUMMARY:Adult Sunday School
DESCRIPTION:
URL:https://fpcdarien.com/event/adult-sunday-school/2023-07-02/
LOCATION:Adult Sunday School room
END:VEVENT
BEGIN:VEVENT
DTSTART;TZID=America/New_York:20230701T100000
DTEND;TZID=America/New_York:20230701T110000
DTSTAMP:20260425T192720
CREATED:20230524T161020Z
LAST-MODIFIED:20230524T161020Z
UID:10000776-1688205600-1688209200@fpcdarien.com
SUMMARY:Men's Bible Study
DESCRIPTION:
URL:https://fpcdarien.com/event/mens-bible-study/2023-07-01/
LOCATION:Adult Sunday School room
END:VEVENT
BEGIN:VEVENT
DTSTART;TZID=America/New_York:20230625T093000
DTEND;TZID=America/New_York:20230625T103000
DTSTAMP:20260425T192720
CREATED:20230525T135738Z
LAST-MODIFIED:20230525T135738Z
UID:10001096-1687685400-1687689000@fpcdarien.com
SUMMARY:Adult Sunday School
DESCRIPTION:
URL:https://fpcdarien.com/event/adult-sunday-school/2023-06-25/
LOCATION:Adult Sunday School room
END:VEVENT
BEGIN:VEVENT
DTSTART;TZID=America/New_York:20230624T100000
DTEND;TZID=America/New_York:20230624T110000
DTSTAMP:20260425T192720
CREATED:20230524T161020Z
LAST-MODIFIED:20230524T161020Z
UID:10000775-1687600800-1687604400@fpcdarien.com
SUMMARY:Men's Bible Study
DESCRIPTION:
URL:https://fpcdarien.com/event/mens-bible-study/2023-06-24/
LOCATION:Adult Sunday School room
END:VEVENT
BEGIN:VEVENT
DTSTART;TZID=America/New_York:20230618T093000
DTEND;TZID=America/New_York:20230618T103000
DTSTAMP:20260425T192720
CREATED:20230525T135738Z
LAST-MODIFIED:20230525T135738Z
UID:10001095-1687080600-1687084200@fpcdarien.com
SUMMARY:Adult Sunday School
DESCRIPTION:
URL:https://fpcdarien.com/event/adult-sunday-school/2023-06-18/
LOCATION:Adult Sunday School room
END:VEVENT
END:VCALENDAR