BEGIN:VCALENDAR
VERSION:2.0
PRODID:-//First Presbyterian Church of Darien - ECPv6.15.20//NONSGML v1.0//EN
CALSCALE:GREGORIAN
METHOD:PUBLISH
X-WR-CALNAME:First Presbyterian Church of Darien
X-ORIGINAL-URL:https://fpcdarien.com
X-WR-CALDESC:Events for First Presbyterian Church of Darien
REFRESH-INTERVAL;VALUE=DURATION:PT1H
X-Robots-Tag:noindex
X-PUBLISHED-TTL:PT1H
BEGIN:VTIMEZONE
TZID:America/New_York
BEGIN:DAYLIGHT
TZOFFSETFROM:-0500
TZOFFSETTO:-0400
TZNAME:EDT
DTSTART:20280312T070000
END:DAYLIGHT
BEGIN:STANDARD
TZOFFSETFROM:-0400
TZOFFSETTO:-0500
TZNAME:EST
DTSTART:20281105T060000
END:STANDARD
BEGIN:DAYLIGHT
TZOFFSETFROM:-0500
TZOFFSETTO:-0400
TZNAME:EDT
DTSTART:20290311T070000
END:DAYLIGHT
BEGIN:STANDARD
TZOFFSETFROM:-0400
TZOFFSETTO:-0500
TZNAME:EST
DTSTART:20291104T060000
END:STANDARD
BEGIN:DAYLIGHT
TZOFFSETFROM:-0500
TZOFFSETTO:-0400
TZNAME:EDT
DTSTART:20300310T070000
END:DAYLIGHT
BEGIN:STANDARD
TZOFFSETFROM:-0400
TZOFFSETTO:-0500
TZNAME:EST
DTSTART:20301103T060000
END:STANDARD
BEGIN:DAYLIGHT
TZOFFSETFROM:-0500
TZOFFSETTO:-0400
TZNAME:EDT
DTSTART:20310309T070000
END:DAYLIGHT
BEGIN:STANDARD
TZOFFSETFROM:-0400
TZOFFSETTO:-0500
TZNAME:EST
DTSTART:20311102T060000
END:STANDARD
END:VTIMEZONE
BEGIN:VEVENT
DTSTART;TZID=America/New_York:20290926T110000
DTEND;TZID=America/New_York:20290926T120000
DTSTAMP:20260425T141736
CREATED:20260414T192812Z
LAST-MODIFIED:20260414T192812Z
UID:10001900-1885114800-1885118400@fpcdarien.com
SUMMARY:Women's Bible Study
DESCRIPTION:
URL:https://fpcdarien.com/event/womens-bible-study-2/2029-09-26/
LOCATION:Adult Sunday School room
END:VEVENT
BEGIN:VEVENT
DTSTART;TZID=America/New_York:20291003T110000
DTEND;TZID=America/New_York:20291003T120000
DTSTAMP:20260425T141736
CREATED:20260414T192812Z
LAST-MODIFIED:20260414T192812Z
UID:10001901-1885719600-1885723200@fpcdarien.com
SUMMARY:Women's Bible Study
DESCRIPTION:
URL:https://fpcdarien.com/event/womens-bible-study-2/2029-10-03/
LOCATION:Adult Sunday School room
END:VEVENT
BEGIN:VEVENT
DTSTART;TZID=America/New_York:20291010T110000
DTEND;TZID=America/New_York:20291010T120000
DTSTAMP:20260425T141736
CREATED:20260414T192812Z
LAST-MODIFIED:20260414T192812Z
UID:10001902-1886324400-1886328000@fpcdarien.com
SUMMARY:Women's Bible Study
DESCRIPTION:
URL:https://fpcdarien.com/event/womens-bible-study-2/2029-10-10/
LOCATION:Adult Sunday School room
END:VEVENT
BEGIN:VEVENT
DTSTART;TZID=America/New_York:20291017T110000
DTEND;TZID=America/New_York:20291017T120000
DTSTAMP:20260425T141736
CREATED:20260414T192812Z
LAST-MODIFIED:20260414T192812Z
UID:10001903-1886929200-1886932800@fpcdarien.com
SUMMARY:Women's Bible Study
DESCRIPTION:
URL:https://fpcdarien.com/event/womens-bible-study-2/2029-10-17/
LOCATION:Adult Sunday School room
END:VEVENT
BEGIN:VEVENT
DTSTART;TZID=America/New_York:20291024T110000
DTEND;TZID=America/New_York:20291024T120000
DTSTAMP:20260425T141736
CREATED:20260414T192812Z
LAST-MODIFIED:20260414T192812Z
UID:10001904-1887534000-1887537600@fpcdarien.com
SUMMARY:Women's Bible Study
DESCRIPTION:
URL:https://fpcdarien.com/event/womens-bible-study-2/2029-10-24/
LOCATION:Adult Sunday School room
END:VEVENT
BEGIN:VEVENT
DTSTART;TZID=America/New_York:20291031T110000
DTEND;TZID=America/New_York:20291031T120000
DTSTAMP:20260425T141736
CREATED:20260414T192812Z
LAST-MODIFIED:20260414T192812Z
UID:10001905-1888138800-1888142400@fpcdarien.com
SUMMARY:Women's Bible Study
DESCRIPTION:
URL:https://fpcdarien.com/event/womens-bible-study-2/2029-10-31/
LOCATION:Adult Sunday School room
END:VEVENT
BEGIN:VEVENT
DTSTART;TZID=America/New_York:20291107T110000
DTEND;TZID=America/New_York:20291107T120000
DTSTAMP:20260425T141736
CREATED:20260414T192812Z
LAST-MODIFIED:20260414T192812Z
UID:10001906-1888743600-1888747200@fpcdarien.com
SUMMARY:Women's Bible Study
DESCRIPTION:
URL:https://fpcdarien.com/event/womens-bible-study-2/2029-11-07/
LOCATION:Adult Sunday School room
END:VEVENT
BEGIN:VEVENT
DTSTART;TZID=America/New_York:20291114T110000
DTEND;TZID=America/New_York:20291114T120000
DTSTAMP:20260425T141736
CREATED:20260414T192812Z
LAST-MODIFIED:20260414T192812Z
UID:10001907-1889348400-1889352000@fpcdarien.com
SUMMARY:Women's Bible Study
DESCRIPTION:
URL:https://fpcdarien.com/event/womens-bible-study-2/2029-11-14/
LOCATION:Adult Sunday School room
END:VEVENT
BEGIN:VEVENT
DTSTART;TZID=America/New_York:20291121T110000
DTEND;TZID=America/New_York:20291121T120000
DTSTAMP:20260425T141736
CREATED:20260414T192812Z
LAST-MODIFIED:20260414T192812Z
UID:10001908-1889953200-1889956800@fpcdarien.com
SUMMARY:Women's Bible Study
DESCRIPTION:
URL:https://fpcdarien.com/event/womens-bible-study-2/2029-11-21/
LOCATION:Adult Sunday School room
END:VEVENT
BEGIN:VEVENT
DTSTART;TZID=America/New_York:20291128T110000
DTEND;TZID=America/New_York:20291128T120000
DTSTAMP:20260425T141736
CREATED:20260414T192812Z
LAST-MODIFIED:20260414T192812Z
UID:10001909-1890558000-1890561600@fpcdarien.com
SUMMARY:Women's Bible Study
DESCRIPTION:
URL:https://fpcdarien.com/event/womens-bible-study-2/2029-11-28/
LOCATION:Adult Sunday School room
END:VEVENT
BEGIN:VEVENT
DTSTART;TZID=America/New_York:20291205T110000
DTEND;TZID=America/New_York:20291205T120000
DTSTAMP:20260425T141736
CREATED:20260414T192812Z
LAST-MODIFIED:20260414T192812Z
UID:10001910-1891162800-1891166400@fpcdarien.com
SUMMARY:Women's Bible Study
DESCRIPTION:
URL:https://fpcdarien.com/event/womens-bible-study-2/2029-12-05/
LOCATION:Adult Sunday School room
END:VEVENT
BEGIN:VEVENT
DTSTART;TZID=America/New_York:20291212T110000
DTEND;TZID=America/New_York:20291212T120000
DTSTAMP:20260425T141737
CREATED:20260414T192812Z
LAST-MODIFIED:20260414T192812Z
UID:10001911-1891767600-1891771200@fpcdarien.com
SUMMARY:Women's Bible Study
DESCRIPTION:
URL:https://fpcdarien.com/event/womens-bible-study-2/2029-12-12/
LOCATION:Adult Sunday School room
END:VEVENT
BEGIN:VEVENT
DTSTART;TZID=America/New_York:20291219T110000
DTEND;TZID=America/New_York:20291219T120000
DTSTAMP:20260425T141737
CREATED:20260414T192812Z
LAST-MODIFIED:20260414T192812Z
UID:10001912-1892372400-1892376000@fpcdarien.com
SUMMARY:Women's Bible Study
DESCRIPTION:
URL:https://fpcdarien.com/event/womens-bible-study-2/2029-12-19/
LOCATION:Adult Sunday School room
END:VEVENT
BEGIN:VEVENT
DTSTART;TZID=America/New_York:20291226T110000
DTEND;TZID=America/New_York:20291226T120000
DTSTAMP:20260425T141737
CREATED:20260414T192812Z
LAST-MODIFIED:20260414T192812Z
UID:10001913-1892977200-1892980800@fpcdarien.com
SUMMARY:Women's Bible Study
DESCRIPTION:
URL:https://fpcdarien.com/event/womens-bible-study-2/2029-12-26/
LOCATION:Adult Sunday School room
END:VEVENT
BEGIN:VEVENT
DTSTART;TZID=America/New_York:20300102T110000
DTEND;TZID=America/New_York:20300102T120000
DTSTAMP:20260425T141737
CREATED:20260414T192812Z
LAST-MODIFIED:20260414T192812Z
UID:10001914-1893582000-1893585600@fpcdarien.com
SUMMARY:Women's Bible Study
DESCRIPTION:
URL:https://fpcdarien.com/event/womens-bible-study-2/2030-01-02/
LOCATION:Adult Sunday School room
END:VEVENT
BEGIN:VEVENT
DTSTART;TZID=America/New_York:20300109T110000
DTEND;TZID=America/New_York:20300109T120000
DTSTAMP:20260425T141737
CREATED:20260414T192812Z
LAST-MODIFIED:20260414T192812Z
UID:10001915-1894186800-1894190400@fpcdarien.com
SUMMARY:Women's Bible Study
DESCRIPTION:
URL:https://fpcdarien.com/event/womens-bible-study-2/2030-01-09/
LOCATION:Adult Sunday School room
END:VEVENT
BEGIN:VEVENT
DTSTART;TZID=America/New_York:20300116T110000
DTEND;TZID=America/New_York:20300116T120000
DTSTAMP:20260425T141737
CREATED:20260414T192812Z
LAST-MODIFIED:20260414T192812Z
UID:10001916-1894791600-1894795200@fpcdarien.com
SUMMARY:Women's Bible Study
DESCRIPTION:
URL:https://fpcdarien.com/event/womens-bible-study-2/2030-01-16/
LOCATION:Adult Sunday School room
END:VEVENT
BEGIN:VEVENT
DTSTART;TZID=America/New_York:20300123T110000
DTEND;TZID=America/New_York:20300123T120000
DTSTAMP:20260425T141737
CREATED:20260414T192812Z
LAST-MODIFIED:20260414T192812Z
UID:10001917-1895396400-1895400000@fpcdarien.com
SUMMARY:Women's Bible Study
DESCRIPTION:
URL:https://fpcdarien.com/event/womens-bible-study-2/2030-01-23/
LOCATION:Adult Sunday School room
END:VEVENT
BEGIN:VEVENT
DTSTART;TZID=America/New_York:20300130T110000
DTEND;TZID=America/New_York:20300130T120000
DTSTAMP:20260425T141737
CREATED:20260414T192812Z
LAST-MODIFIED:20260414T192812Z
UID:10001918-1896001200-1896004800@fpcdarien.com
SUMMARY:Women's Bible Study
DESCRIPTION:
URL:https://fpcdarien.com/event/womens-bible-study-2/2030-01-30/
LOCATION:Adult Sunday School room
END:VEVENT
BEGIN:VEVENT
DTSTART;TZID=America/New_York:20300206T110000
DTEND;TZID=America/New_York:20300206T120000
DTSTAMP:20260425T141737
CREATED:20260414T192812Z
LAST-MODIFIED:20260414T192812Z
UID:10001919-1896606000-1896609600@fpcdarien.com
SUMMARY:Women's Bible Study
DESCRIPTION:
URL:https://fpcdarien.com/event/womens-bible-study-2/2030-02-06/
LOCATION:Adult Sunday School room
END:VEVENT
BEGIN:VEVENT
DTSTART;TZID=America/New_York:20300213T110000
DTEND;TZID=America/New_York:20300213T120000
DTSTAMP:20260425T141737
CREATED:20260414T192812Z
LAST-MODIFIED:20260414T192812Z
UID:10001920-1897210800-1897214400@fpcdarien.com
SUMMARY:Women's Bible Study
DESCRIPTION:
URL:https://fpcdarien.com/event/womens-bible-study-2/2030-02-13/
LOCATION:Adult Sunday School room
END:VEVENT
BEGIN:VEVENT
DTSTART;TZID=America/New_York:20300220T110000
DTEND;TZID=America/New_York:20300220T120000
DTSTAMP:20260425T141737
CREATED:20260414T192812Z
LAST-MODIFIED:20260414T192812Z
UID:10001921-1897815600-1897819200@fpcdarien.com
SUMMARY:Women's Bible Study
DESCRIPTION:
URL:https://fpcdarien.com/event/womens-bible-study-2/2030-02-20/
LOCATION:Adult Sunday School room
END:VEVENT
BEGIN:VEVENT
DTSTART;TZID=America/New_York:20300227T110000
DTEND;TZID=America/New_York:20300227T120000
DTSTAMP:20260425T141737
CREATED:20260414T192812Z
LAST-MODIFIED:20260414T192812Z
UID:10001922-1898420400-1898424000@fpcdarien.com
SUMMARY:Women's Bible Study
DESCRIPTION:
URL:https://fpcdarien.com/event/womens-bible-study-2/2030-02-27/
LOCATION:Adult Sunday School room
END:VEVENT
BEGIN:VEVENT
DTSTART;TZID=America/New_York:20300306T110000
DTEND;TZID=America/New_York:20300306T120000
DTSTAMP:20260425T141737
CREATED:20260414T192812Z
LAST-MODIFIED:20260414T192812Z
UID:10001923-1899025200-1899028800@fpcdarien.com
SUMMARY:Women's Bible Study
DESCRIPTION:
URL:https://fpcdarien.com/event/womens-bible-study-2/2030-03-06/
LOCATION:Adult Sunday School room
END:VEVENT
BEGIN:VEVENT
DTSTART;TZID=America/New_York:20300313T110000
DTEND;TZID=America/New_York:20300313T120000
DTSTAMP:20260425T141737
CREATED:20260414T192812Z
LAST-MODIFIED:20260414T192812Z
UID:10001924-1899630000-1899633600@fpcdarien.com
SUMMARY:Women's Bible Study
DESCRIPTION:
URL:https://fpcdarien.com/event/womens-bible-study-2/2030-03-13/
LOCATION:Adult Sunday School room
END:VEVENT
BEGIN:VEVENT
DTSTART;TZID=America/New_York:20300320T110000
DTEND;TZID=America/New_York:20300320T120000
DTSTAMP:20260425T141737
CREATED:20260414T192812Z
LAST-MODIFIED:20260414T192812Z
UID:10001925-1900234800-1900238400@fpcdarien.com
SUMMARY:Women's Bible Study
DESCRIPTION:
URL:https://fpcdarien.com/event/womens-bible-study-2/2030-03-20/
LOCATION:Adult Sunday School room
END:VEVENT
BEGIN:VEVENT
DTSTART;TZID=America/New_York:20300327T110000
DTEND;TZID=America/New_York:20300327T120000
DTSTAMP:20260425T141737
CREATED:20260414T192812Z
LAST-MODIFIED:20260414T192812Z
UID:10001926-1900839600-1900843200@fpcdarien.com
SUMMARY:Women's Bible Study
DESCRIPTION:
URL:https://fpcdarien.com/event/womens-bible-study-2/2030-03-27/
LOCATION:Adult Sunday School room
END:VEVENT
BEGIN:VEVENT
DTSTART;TZID=America/New_York:20300403T110000
DTEND;TZID=America/New_York:20300403T120000
DTSTAMP:20260425T141737
CREATED:20260414T192812Z
LAST-MODIFIED:20260414T192812Z
UID:10001927-1901444400-1901448000@fpcdarien.com
SUMMARY:Women's Bible Study
DESCRIPTION:
URL:https://fpcdarien.com/event/womens-bible-study-2/2030-04-03/
LOCATION:Adult Sunday School room
END:VEVENT
BEGIN:VEVENT
DTSTART;TZID=America/New_York:20300410T110000
DTEND;TZID=America/New_York:20300410T120000
DTSTAMP:20260425T141737
CREATED:20260414T192812Z
LAST-MODIFIED:20260414T192812Z
UID:10001928-1902049200-1902052800@fpcdarien.com
SUMMARY:Women's Bible Study
DESCRIPTION:
URL:https://fpcdarien.com/event/womens-bible-study-2/2030-04-10/
LOCATION:Adult Sunday School room
END:VEVENT
BEGIN:VEVENT
DTSTART;TZID=America/New_York:20300417T110000
DTEND;TZID=America/New_York:20300417T120000
DTSTAMP:20260425T141737
CREATED:20260414T192812Z
LAST-MODIFIED:20260414T192812Z
UID:10001929-1902654000-1902657600@fpcdarien.com
SUMMARY:Women's Bible Study
DESCRIPTION:
URL:https://fpcdarien.com/event/womens-bible-study-2/2030-04-17/
LOCATION:Adult Sunday School room
END:VEVENT
END:VCALENDAR