BEGIN:VCALENDAR
VERSION:2.0
PRODID:-//First Presbyterian Church of Darien - ECPv6.15.20//NONSGML v1.0//EN
CALSCALE:GREGORIAN
METHOD:PUBLISH
X-WR-CALNAME:First Presbyterian Church of Darien
X-ORIGINAL-URL:https://fpcdarien.com
X-WR-CALDESC:Events for First Presbyterian Church of Darien
REFRESH-INTERVAL;VALUE=DURATION:PT1H
X-Robots-Tag:noindex
X-PUBLISHED-TTL:PT1H
BEGIN:VTIMEZONE
TZID:America/New_York
BEGIN:DAYLIGHT
TZOFFSETFROM:-0500
TZOFFSETTO:-0400
TZNAME:EDT
DTSTART:20220313T070000
END:DAYLIGHT
BEGIN:STANDARD
TZOFFSETFROM:-0400
TZOFFSETTO:-0500
TZNAME:EST
DTSTART:20221106T060000
END:STANDARD
BEGIN:DAYLIGHT
TZOFFSETFROM:-0500
TZOFFSETTO:-0400
TZNAME:EDT
DTSTART:20230312T070000
END:DAYLIGHT
BEGIN:STANDARD
TZOFFSETFROM:-0400
TZOFFSETTO:-0500
TZNAME:EST
DTSTART:20231105T060000
END:STANDARD
BEGIN:DAYLIGHT
TZOFFSETFROM:-0500
TZOFFSETTO:-0400
TZNAME:EDT
DTSTART:20240310T070000
END:DAYLIGHT
BEGIN:STANDARD
TZOFFSETFROM:-0400
TZOFFSETTO:-0500
TZNAME:EST
DTSTART:20241103T060000
END:STANDARD
END:VTIMEZONE
BEGIN:VEVENT
DTSTART;TZID=America/New_York:20231118T100000
DTEND;TZID=America/New_York:20231118T110000
DTSTAMP:20260425T145750
CREATED:20230524T161020Z
LAST-MODIFIED:20230524T161020Z
UID:10000796-1700301600-1700305200@fpcdarien.com
SUMMARY:Men's Bible Study
DESCRIPTION:
URL:https://fpcdarien.com/event/mens-bible-study/2023-11-18/
LOCATION:Adult Sunday School room
END:VEVENT
BEGIN:VEVENT
DTSTART;TZID=America/New_York:20231114T110000
DTEND;TZID=America/New_York:20231114T120000
DTSTAMP:20260425T145750
CREATED:20230524T160321Z
LAST-MODIFIED:20230524T160849Z
UID:10000534-1699959600-1699963200@fpcdarien.com
SUMMARY:Women's Bible Study
DESCRIPTION:
URL:https://fpcdarien.com/event/womens-bible-study/2023-11-14/
LOCATION:Adult Sunday School room
END:VEVENT
BEGIN:VEVENT
DTSTART;TZID=America/New_York:20231113T100000
DTEND;TZID=America/New_York:20231113T110000
DTSTAMP:20260425T145750
CREATED:20230525T140937Z
LAST-MODIFIED:20230525T140937Z
UID:10001539-1699869600-1699873200@fpcdarien.com
SUMMARY:Session
DESCRIPTION:
URL:https://fpcdarien.com/event/session/2023-11-13/
LOCATION:Adult Sunday School room
END:VEVENT
BEGIN:VEVENT
DTSTART;TZID=America/New_York:20231112T093000
DTEND;TZID=America/New_York:20231112T103000
DTSTAMP:20260425T145750
CREATED:20230525T135738Z
LAST-MODIFIED:20230525T135738Z
UID:10001116-1699781400-1699785000@fpcdarien.com
SUMMARY:Adult Sunday School
DESCRIPTION:
URL:https://fpcdarien.com/event/adult-sunday-school/2023-11-12/
LOCATION:Adult Sunday School room
END:VEVENT
BEGIN:VEVENT
DTSTART;TZID=America/New_York:20231111T100000
DTEND;TZID=America/New_York:20231111T110000
DTSTAMP:20260425T145750
CREATED:20230524T161020Z
LAST-MODIFIED:20230524T161020Z
UID:10000795-1699696800-1699700400@fpcdarien.com
SUMMARY:Men's Bible Study
DESCRIPTION:
URL:https://fpcdarien.com/event/mens-bible-study/2023-11-11/
LOCATION:Adult Sunday School room
END:VEVENT
BEGIN:VEVENT
DTSTART;TZID=America/New_York:20231107T110000
DTEND;TZID=America/New_York:20231107T120000
DTSTAMP:20260425T145750
CREATED:20230524T160321Z
LAST-MODIFIED:20230524T160849Z
UID:10000533-1699354800-1699358400@fpcdarien.com
SUMMARY:Women's Bible Study
DESCRIPTION:
URL:https://fpcdarien.com/event/womens-bible-study/2023-11-07/
LOCATION:Adult Sunday School room
END:VEVENT
BEGIN:VEVENT
DTSTART;TZID=America/New_York:20231105T093000
DTEND;TZID=America/New_York:20231105T103000
DTSTAMP:20260425T145750
CREATED:20230525T135738Z
LAST-MODIFIED:20230525T135738Z
UID:10001115-1699176600-1699180200@fpcdarien.com
SUMMARY:Adult Sunday School
DESCRIPTION:
URL:https://fpcdarien.com/event/adult-sunday-school/2023-11-05/
LOCATION:Adult Sunday School room
END:VEVENT
BEGIN:VEVENT
DTSTART;TZID=America/New_York:20231104T100000
DTEND;TZID=America/New_York:20231104T110000
DTSTAMP:20260425T145750
CREATED:20230524T161020Z
LAST-MODIFIED:20230524T161020Z
UID:10000794-1699092000-1699095600@fpcdarien.com
SUMMARY:Men's Bible Study
DESCRIPTION:
URL:https://fpcdarien.com/event/mens-bible-study/2023-11-04/
LOCATION:Adult Sunday School room
END:VEVENT
BEGIN:VEVENT
DTSTART;TZID=America/New_York:20231031T110000
DTEND;TZID=America/New_York:20231031T120000
DTSTAMP:20260425T145750
CREATED:20230524T160321Z
LAST-MODIFIED:20230524T160849Z
UID:10000532-1698750000-1698753600@fpcdarien.com
SUMMARY:Women's Bible Study
DESCRIPTION:
URL:https://fpcdarien.com/event/womens-bible-study/2023-10-31/
LOCATION:Adult Sunday School room
END:VEVENT
BEGIN:VEVENT
DTSTART;TZID=America/New_York:20231029T093000
DTEND;TZID=America/New_York:20231029T103000
DTSTAMP:20260425T145750
CREATED:20230525T135738Z
LAST-MODIFIED:20230525T135738Z
UID:10001114-1698571800-1698575400@fpcdarien.com
SUMMARY:Adult Sunday School
DESCRIPTION:
URL:https://fpcdarien.com/event/adult-sunday-school/2023-10-29/
LOCATION:Adult Sunday School room
END:VEVENT
BEGIN:VEVENT
DTSTART;TZID=America/New_York:20231028T100000
DTEND;TZID=America/New_York:20231028T110000
DTSTAMP:20260425T145750
CREATED:20230524T161020Z
LAST-MODIFIED:20230524T161020Z
UID:10000793-1698487200-1698490800@fpcdarien.com
SUMMARY:Men's Bible Study
DESCRIPTION:
URL:https://fpcdarien.com/event/mens-bible-study/2023-10-28/
LOCATION:Adult Sunday School room
END:VEVENT
BEGIN:VEVENT
DTSTART;TZID=America/New_York:20231024T110000
DTEND;TZID=America/New_York:20231024T120000
DTSTAMP:20260425T145750
CREATED:20230524T160321Z
LAST-MODIFIED:20230524T160849Z
UID:10000531-1698145200-1698148800@fpcdarien.com
SUMMARY:Women's Bible Study
DESCRIPTION:
URL:https://fpcdarien.com/event/womens-bible-study/2023-10-24/
LOCATION:Adult Sunday School room
END:VEVENT
BEGIN:VEVENT
DTSTART;TZID=America/New_York:20231022T093000
DTEND;TZID=America/New_York:20231022T103000
DTSTAMP:20260425T145750
CREATED:20230525T135738Z
LAST-MODIFIED:20230525T135738Z
UID:10001113-1697967000-1697970600@fpcdarien.com
SUMMARY:Adult Sunday School
DESCRIPTION:
URL:https://fpcdarien.com/event/adult-sunday-school/2023-10-22/
LOCATION:Adult Sunday School room
END:VEVENT
BEGIN:VEVENT
DTSTART;TZID=America/New_York:20231021T100000
DTEND;TZID=America/New_York:20231021T110000
DTSTAMP:20260425T145750
CREATED:20230524T161020Z
LAST-MODIFIED:20230524T161020Z
UID:10000792-1697882400-1697886000@fpcdarien.com
SUMMARY:Men's Bible Study
DESCRIPTION:
URL:https://fpcdarien.com/event/mens-bible-study/2023-10-21/
LOCATION:Adult Sunday School room
END:VEVENT
BEGIN:VEVENT
DTSTART;TZID=America/New_York:20231017T110000
DTEND;TZID=America/New_York:20231017T120000
DTSTAMP:20260425T145750
CREATED:20230524T160321Z
LAST-MODIFIED:20230524T160849Z
UID:10000530-1697540400-1697544000@fpcdarien.com
SUMMARY:Women's Bible Study
DESCRIPTION:
URL:https://fpcdarien.com/event/womens-bible-study/2023-10-17/
LOCATION:Adult Sunday School room
END:VEVENT
BEGIN:VEVENT
DTSTART;TZID=America/New_York:20231015T093000
DTEND;TZID=America/New_York:20231015T103000
DTSTAMP:20260425T145750
CREATED:20230525T135738Z
LAST-MODIFIED:20230525T135738Z
UID:10001112-1697362200-1697365800@fpcdarien.com
SUMMARY:Adult Sunday School
DESCRIPTION:
URL:https://fpcdarien.com/event/adult-sunday-school/2023-10-15/
LOCATION:Adult Sunday School room
END:VEVENT
BEGIN:VEVENT
DTSTART;TZID=America/New_York:20231014T100000
DTEND;TZID=America/New_York:20231014T110000
DTSTAMP:20260425T145750
CREATED:20230524T161020Z
LAST-MODIFIED:20230524T161020Z
UID:10000791-1697277600-1697281200@fpcdarien.com
SUMMARY:Men's Bible Study
DESCRIPTION:
URL:https://fpcdarien.com/event/mens-bible-study/2023-10-14/
LOCATION:Adult Sunday School room
END:VEVENT
BEGIN:VEVENT
DTSTART;TZID=America/New_York:20231010T110000
DTEND;TZID=America/New_York:20231010T120000
DTSTAMP:20260425T145750
CREATED:20230524T160321Z
LAST-MODIFIED:20230524T160849Z
UID:10000529-1696935600-1696939200@fpcdarien.com
SUMMARY:Women's Bible Study
DESCRIPTION:
URL:https://fpcdarien.com/event/womens-bible-study/2023-10-10/
LOCATION:Adult Sunday School room
END:VEVENT
BEGIN:VEVENT
DTSTART;TZID=America/New_York:20231009T100000
DTEND;TZID=America/New_York:20231009T110000
DTSTAMP:20260425T145750
CREATED:20230525T140937Z
LAST-MODIFIED:20230525T140937Z
UID:10001538-1696845600-1696849200@fpcdarien.com
SUMMARY:Session
DESCRIPTION:
URL:https://fpcdarien.com/event/session/2023-10-09/
LOCATION:Adult Sunday School room
END:VEVENT
BEGIN:VEVENT
DTSTART;TZID=America/New_York:20231008T093000
DTEND;TZID=America/New_York:20231008T103000
DTSTAMP:20260425T145750
CREATED:20230525T135738Z
LAST-MODIFIED:20230525T135738Z
UID:10001111-1696757400-1696761000@fpcdarien.com
SUMMARY:Adult Sunday School
DESCRIPTION:
URL:https://fpcdarien.com/event/adult-sunday-school/2023-10-08/
LOCATION:Adult Sunday School room
END:VEVENT
BEGIN:VEVENT
DTSTART;TZID=America/New_York:20231007T100000
DTEND;TZID=America/New_York:20231007T110000
DTSTAMP:20260425T145750
CREATED:20230524T161020Z
LAST-MODIFIED:20230524T161020Z
UID:10000790-1696672800-1696676400@fpcdarien.com
SUMMARY:Men's Bible Study
DESCRIPTION:
URL:https://fpcdarien.com/event/mens-bible-study/2023-10-07/
LOCATION:Adult Sunday School room
END:VEVENT
BEGIN:VEVENT
DTSTART;TZID=America/New_York:20231003T110000
DTEND;TZID=America/New_York:20231003T120000
DTSTAMP:20260425T145750
CREATED:20230524T160321Z
LAST-MODIFIED:20230524T160849Z
UID:10000528-1696330800-1696334400@fpcdarien.com
SUMMARY:Women's Bible Study
DESCRIPTION:
URL:https://fpcdarien.com/event/womens-bible-study/2023-10-03/
LOCATION:Adult Sunday School room
END:VEVENT
BEGIN:VEVENT
DTSTART;TZID=America/New_York:20231001T093000
DTEND;TZID=America/New_York:20231001T103000
DTSTAMP:20260425T145750
CREATED:20230525T135738Z
LAST-MODIFIED:20230525T135738Z
UID:10001110-1696152600-1696156200@fpcdarien.com
SUMMARY:Adult Sunday School
DESCRIPTION:
URL:https://fpcdarien.com/event/adult-sunday-school/2023-10-01/
LOCATION:Adult Sunday School room
END:VEVENT
BEGIN:VEVENT
DTSTART;TZID=America/New_York:20230930T100000
DTEND;TZID=America/New_York:20230930T110000
DTSTAMP:20260425T145750
CREATED:20230524T161020Z
LAST-MODIFIED:20230524T161020Z
UID:10000789-1696068000-1696071600@fpcdarien.com
SUMMARY:Men's Bible Study
DESCRIPTION:
URL:https://fpcdarien.com/event/mens-bible-study/2023-09-30/
LOCATION:Adult Sunday School room
END:VEVENT
BEGIN:VEVENT
DTSTART;TZID=America/New_York:20230926T110000
DTEND;TZID=America/New_York:20230926T120000
DTSTAMP:20260425T145750
CREATED:20230524T160321Z
LAST-MODIFIED:20230524T160849Z
UID:10000527-1695726000-1695729600@fpcdarien.com
SUMMARY:Women's Bible Study
DESCRIPTION:
URL:https://fpcdarien.com/event/womens-bible-study/2023-09-26/
LOCATION:Adult Sunday School room
END:VEVENT
BEGIN:VEVENT
DTSTART;TZID=America/New_York:20230924T093000
DTEND;TZID=America/New_York:20230924T103000
DTSTAMP:20260425T145750
CREATED:20230525T135738Z
LAST-MODIFIED:20230525T135738Z
UID:10001109-1695547800-1695551400@fpcdarien.com
SUMMARY:Adult Sunday School
DESCRIPTION:
URL:https://fpcdarien.com/event/adult-sunday-school/2023-09-24/
LOCATION:Adult Sunday School room
END:VEVENT
BEGIN:VEVENT
DTSTART;TZID=America/New_York:20230923T100000
DTEND;TZID=America/New_York:20230923T110000
DTSTAMP:20260425T145750
CREATED:20230524T161020Z
LAST-MODIFIED:20230524T161020Z
UID:10000788-1695463200-1695466800@fpcdarien.com
SUMMARY:Men's Bible Study
DESCRIPTION:
URL:https://fpcdarien.com/event/mens-bible-study/2023-09-23/
LOCATION:Adult Sunday School room
END:VEVENT
BEGIN:VEVENT
DTSTART;TZID=America/New_York:20230919T110000
DTEND;TZID=America/New_York:20230919T120000
DTSTAMP:20260425T145750
CREATED:20230524T160321Z
LAST-MODIFIED:20230524T160849Z
UID:10000526-1695121200-1695124800@fpcdarien.com
SUMMARY:Women's Bible Study
DESCRIPTION:
URL:https://fpcdarien.com/event/womens-bible-study/2023-09-19/
LOCATION:Adult Sunday School room
END:VEVENT
BEGIN:VEVENT
DTSTART;TZID=America/New_York:20230917T093000
DTEND;TZID=America/New_York:20230917T103000
DTSTAMP:20260425T145750
CREATED:20230525T135738Z
LAST-MODIFIED:20230525T135738Z
UID:10001108-1694943000-1694946600@fpcdarien.com
SUMMARY:Adult Sunday School
DESCRIPTION:
URL:https://fpcdarien.com/event/adult-sunday-school/2023-09-17/
LOCATION:Adult Sunday School room
END:VEVENT
BEGIN:VEVENT
DTSTART;TZID=America/New_York:20230916T100000
DTEND;TZID=America/New_York:20230916T110000
DTSTAMP:20260425T145750
CREATED:20230524T161020Z
LAST-MODIFIED:20230524T161020Z
UID:10000787-1694858400-1694862000@fpcdarien.com
SUMMARY:Men's Bible Study
DESCRIPTION:
URL:https://fpcdarien.com/event/mens-bible-study/2023-09-16/
LOCATION:Adult Sunday School room
END:VEVENT
END:VCALENDAR