BEGIN:VCALENDAR
VERSION:2.0
PRODID:-//First Presbyterian Church of Darien - ECPv6.15.20//NONSGML v1.0//EN
CALSCALE:GREGORIAN
METHOD:PUBLISH
X-ORIGINAL-URL:https://fpcdarien.com
X-WR-CALDESC:Events for First Presbyterian Church of Darien
REFRESH-INTERVAL;VALUE=DURATION:PT1H
X-Robots-Tag:noindex
X-PUBLISHED-TTL:PT1H
BEGIN:VTIMEZONE
TZID:America/New_York
BEGIN:DAYLIGHT
TZOFFSETFROM:-0500
TZOFFSETTO:-0400
TZNAME:EDT
DTSTART:20280312T070000
END:DAYLIGHT
BEGIN:STANDARD
TZOFFSETFROM:-0400
TZOFFSETTO:-0500
TZNAME:EST
DTSTART:20281105T060000
END:STANDARD
BEGIN:DAYLIGHT
TZOFFSETFROM:-0500
TZOFFSETTO:-0400
TZNAME:EDT
DTSTART:20290311T070000
END:DAYLIGHT
BEGIN:STANDARD
TZOFFSETFROM:-0400
TZOFFSETTO:-0500
TZNAME:EST
DTSTART:20291104T060000
END:STANDARD
BEGIN:DAYLIGHT
TZOFFSETFROM:-0500
TZOFFSETTO:-0400
TZNAME:EDT
DTSTART:20300310T070000
END:DAYLIGHT
BEGIN:STANDARD
TZOFFSETFROM:-0400
TZOFFSETTO:-0500
TZNAME:EST
DTSTART:20301103T060000
END:STANDARD
END:VTIMEZONE
BEGIN:VEVENT
DTSTART;TZID=America/New_York:20290509T110000
DTEND;TZID=America/New_York:20290509T120000
DTSTAMP:20260425T114410
CREATED:20260414T192812Z
LAST-MODIFIED:20260414T192812Z
UID:10001880-1873018800-1873022400@fpcdarien.com
SUMMARY:Women's Bible Study
DESCRIPTION:
URL:https://fpcdarien.com/event/womens-bible-study-2/2029-05-09/
LOCATION:Adult Sunday School room
END:VEVENT
BEGIN:VEVENT
DTSTART;TZID=America/New_York:20290516T110000
DTEND;TZID=America/New_York:20290516T120000
DTSTAMP:20260425T114410
CREATED:20260414T192812Z
LAST-MODIFIED:20260414T192812Z
UID:10001881-1873623600-1873627200@fpcdarien.com
SUMMARY:Women's Bible Study
DESCRIPTION:
URL:https://fpcdarien.com/event/womens-bible-study-2/2029-05-16/
LOCATION:Adult Sunday School room
END:VEVENT
BEGIN:VEVENT
DTSTART;TZID=America/New_York:20290523T110000
DTEND;TZID=America/New_York:20290523T120000
DTSTAMP:20260425T114410
CREATED:20260414T192812Z
LAST-MODIFIED:20260414T192812Z
UID:10001882-1874228400-1874232000@fpcdarien.com
SUMMARY:Women's Bible Study
DESCRIPTION:
URL:https://fpcdarien.com/event/womens-bible-study-2/2029-05-23/
LOCATION:Adult Sunday School room
END:VEVENT
BEGIN:VEVENT
DTSTART;TZID=America/New_York:20290530T110000
DTEND;TZID=America/New_York:20290530T120000
DTSTAMP:20260425T114410
CREATED:20260414T192812Z
LAST-MODIFIED:20260414T192812Z
UID:10001883-1874833200-1874836800@fpcdarien.com
SUMMARY:Women's Bible Study
DESCRIPTION:
URL:https://fpcdarien.com/event/womens-bible-study-2/2029-05-30/
LOCATION:Adult Sunday School room
END:VEVENT
BEGIN:VEVENT
DTSTART;TZID=America/New_York:20290606T110000
DTEND;TZID=America/New_York:20290606T120000
DTSTAMP:20260425T114410
CREATED:20260414T192812Z
LAST-MODIFIED:20260414T192812Z
UID:10001884-1875438000-1875441600@fpcdarien.com
SUMMARY:Women's Bible Study
DESCRIPTION:
URL:https://fpcdarien.com/event/womens-bible-study-2/2029-06-06/
LOCATION:Adult Sunday School room
END:VEVENT
BEGIN:VEVENT
DTSTART;TZID=America/New_York:20290613T110000
DTEND;TZID=America/New_York:20290613T120000
DTSTAMP:20260425T114410
CREATED:20260414T192812Z
LAST-MODIFIED:20260414T192812Z
UID:10001885-1876042800-1876046400@fpcdarien.com
SUMMARY:Women's Bible Study
DESCRIPTION:
URL:https://fpcdarien.com/event/womens-bible-study-2/2029-06-13/
LOCATION:Adult Sunday School room
END:VEVENT
BEGIN:VEVENT
DTSTART;TZID=America/New_York:20290620T110000
DTEND;TZID=America/New_York:20290620T120000
DTSTAMP:20260425T114410
CREATED:20260414T192812Z
LAST-MODIFIED:20260414T192812Z
UID:10001886-1876647600-1876651200@fpcdarien.com
SUMMARY:Women's Bible Study
DESCRIPTION:
URL:https://fpcdarien.com/event/womens-bible-study-2/2029-06-20/
LOCATION:Adult Sunday School room
END:VEVENT
BEGIN:VEVENT
DTSTART;TZID=America/New_York:20290627T110000
DTEND;TZID=America/New_York:20290627T120000
DTSTAMP:20260425T114410
CREATED:20260414T192812Z
LAST-MODIFIED:20260414T192812Z
UID:10001887-1877252400-1877256000@fpcdarien.com
SUMMARY:Women's Bible Study
DESCRIPTION:
URL:https://fpcdarien.com/event/womens-bible-study-2/2029-06-27/
LOCATION:Adult Sunday School room
END:VEVENT
BEGIN:VEVENT
DTSTART;TZID=America/New_York:20290704T110000
DTEND;TZID=America/New_York:20290704T120000
DTSTAMP:20260425T114410
CREATED:20260414T192812Z
LAST-MODIFIED:20260414T192812Z
UID:10001888-1877857200-1877860800@fpcdarien.com
SUMMARY:Women's Bible Study
DESCRIPTION:
URL:https://fpcdarien.com/event/womens-bible-study-2/2029-07-04/
LOCATION:Adult Sunday School room
END:VEVENT
BEGIN:VEVENT
DTSTART;TZID=America/New_York:20290711T110000
DTEND;TZID=America/New_York:20290711T120000
DTSTAMP:20260425T114410
CREATED:20260414T192812Z
LAST-MODIFIED:20260414T192812Z
UID:10001889-1878462000-1878465600@fpcdarien.com
SUMMARY:Women's Bible Study
DESCRIPTION:
URL:https://fpcdarien.com/event/womens-bible-study-2/2029-07-11/
LOCATION:Adult Sunday School room
END:VEVENT
BEGIN:VEVENT
DTSTART;TZID=America/New_York:20290718T110000
DTEND;TZID=America/New_York:20290718T120000
DTSTAMP:20260425T114410
CREATED:20260414T192812Z
LAST-MODIFIED:20260414T192812Z
UID:10001890-1879066800-1879070400@fpcdarien.com
SUMMARY:Women's Bible Study
DESCRIPTION:
URL:https://fpcdarien.com/event/womens-bible-study-2/2029-07-18/
LOCATION:Adult Sunday School room
END:VEVENT
BEGIN:VEVENT
DTSTART;TZID=America/New_York:20290725T110000
DTEND;TZID=America/New_York:20290725T120000
DTSTAMP:20260425T114410
CREATED:20260414T192812Z
LAST-MODIFIED:20260414T192812Z
UID:10001891-1879671600-1879675200@fpcdarien.com
SUMMARY:Women's Bible Study
DESCRIPTION:
URL:https://fpcdarien.com/event/womens-bible-study-2/2029-07-25/
LOCATION:Adult Sunday School room
END:VEVENT
BEGIN:VEVENT
DTSTART;TZID=America/New_York:20290801T110000
DTEND;TZID=America/New_York:20290801T120000
DTSTAMP:20260425T114410
CREATED:20260414T192812Z
LAST-MODIFIED:20260414T192812Z
UID:10001892-1880276400-1880280000@fpcdarien.com
SUMMARY:Women's Bible Study
DESCRIPTION:
URL:https://fpcdarien.com/event/womens-bible-study-2/2029-08-01/
LOCATION:Adult Sunday School room
END:VEVENT
BEGIN:VEVENT
DTSTART;TZID=America/New_York:20290808T110000
DTEND;TZID=America/New_York:20290808T120000
DTSTAMP:20260425T114410
CREATED:20260414T192812Z
LAST-MODIFIED:20260414T192812Z
UID:10001893-1880881200-1880884800@fpcdarien.com
SUMMARY:Women's Bible Study
DESCRIPTION:
URL:https://fpcdarien.com/event/womens-bible-study-2/2029-08-08/
LOCATION:Adult Sunday School room
END:VEVENT
BEGIN:VEVENT
DTSTART;TZID=America/New_York:20290815T110000
DTEND;TZID=America/New_York:20290815T120000
DTSTAMP:20260425T114410
CREATED:20260414T192812Z
LAST-MODIFIED:20260414T192812Z
UID:10001894-1881486000-1881489600@fpcdarien.com
SUMMARY:Women's Bible Study
DESCRIPTION:
URL:https://fpcdarien.com/event/womens-bible-study-2/2029-08-15/
LOCATION:Adult Sunday School room
END:VEVENT
BEGIN:VEVENT
DTSTART;TZID=America/New_York:20290822T110000
DTEND;TZID=America/New_York:20290822T120000
DTSTAMP:20260425T114410
CREATED:20260414T192812Z
LAST-MODIFIED:20260414T192812Z
UID:10001895-1882090800-1882094400@fpcdarien.com
SUMMARY:Women's Bible Study
DESCRIPTION:
URL:https://fpcdarien.com/event/womens-bible-study-2/2029-08-22/
LOCATION:Adult Sunday School room
END:VEVENT
BEGIN:VEVENT
DTSTART;TZID=America/New_York:20290829T110000
DTEND;TZID=America/New_York:20290829T120000
DTSTAMP:20260425T114410
CREATED:20260414T192812Z
LAST-MODIFIED:20260414T192812Z
UID:10001896-1882695600-1882699200@fpcdarien.com
SUMMARY:Women's Bible Study
DESCRIPTION:
URL:https://fpcdarien.com/event/womens-bible-study-2/2029-08-29/
LOCATION:Adult Sunday School room
END:VEVENT
BEGIN:VEVENT
DTSTART;TZID=America/New_York:20290905T110000
DTEND;TZID=America/New_York:20290905T120000
DTSTAMP:20260425T114410
CREATED:20260414T192812Z
LAST-MODIFIED:20260414T192812Z
UID:10001897-1883300400-1883304000@fpcdarien.com
SUMMARY:Women's Bible Study
DESCRIPTION:
URL:https://fpcdarien.com/event/womens-bible-study-2/2029-09-05/
LOCATION:Adult Sunday School room
END:VEVENT
BEGIN:VEVENT
DTSTART;TZID=America/New_York:20290912T110000
DTEND;TZID=America/New_York:20290912T120000
DTSTAMP:20260425T114410
CREATED:20260414T192812Z
LAST-MODIFIED:20260414T192812Z
UID:10001898-1883905200-1883908800@fpcdarien.com
SUMMARY:Women's Bible Study
DESCRIPTION:
URL:https://fpcdarien.com/event/womens-bible-study-2/2029-09-12/
LOCATION:Adult Sunday School room
END:VEVENT
BEGIN:VEVENT
DTSTART;TZID=America/New_York:20290919T110000
DTEND;TZID=America/New_York:20290919T120000
DTSTAMP:20260425T114410
CREATED:20260414T192812Z
LAST-MODIFIED:20260414T192812Z
UID:10001899-1884510000-1884513600@fpcdarien.com
SUMMARY:Women's Bible Study
DESCRIPTION:
URL:https://fpcdarien.com/event/womens-bible-study-2/2029-09-19/
LOCATION:Adult Sunday School room
END:VEVENT
BEGIN:VEVENT
DTSTART;TZID=America/New_York:20290926T110000
DTEND;TZID=America/New_York:20290926T120000
DTSTAMP:20260425T114410
CREATED:20260414T192812Z
LAST-MODIFIED:20260414T192812Z
UID:10001900-1885114800-1885118400@fpcdarien.com
SUMMARY:Women's Bible Study
DESCRIPTION:
URL:https://fpcdarien.com/event/womens-bible-study-2/2029-09-26/
LOCATION:Adult Sunday School room
END:VEVENT
BEGIN:VEVENT
DTSTART;TZID=America/New_York:20291003T110000
DTEND;TZID=America/New_York:20291003T120000
DTSTAMP:20260425T114410
CREATED:20260414T192812Z
LAST-MODIFIED:20260414T192812Z
UID:10001901-1885719600-1885723200@fpcdarien.com
SUMMARY:Women's Bible Study
DESCRIPTION:
URL:https://fpcdarien.com/event/womens-bible-study-2/2029-10-03/
LOCATION:Adult Sunday School room
END:VEVENT
BEGIN:VEVENT
DTSTART;TZID=America/New_York:20291010T110000
DTEND;TZID=America/New_York:20291010T120000
DTSTAMP:20260425T114410
CREATED:20260414T192812Z
LAST-MODIFIED:20260414T192812Z
UID:10001902-1886324400-1886328000@fpcdarien.com
SUMMARY:Women's Bible Study
DESCRIPTION:
URL:https://fpcdarien.com/event/womens-bible-study-2/2029-10-10/
LOCATION:Adult Sunday School room
END:VEVENT
BEGIN:VEVENT
DTSTART;TZID=America/New_York:20291017T110000
DTEND;TZID=America/New_York:20291017T120000
DTSTAMP:20260425T114410
CREATED:20260414T192812Z
LAST-MODIFIED:20260414T192812Z
UID:10001903-1886929200-1886932800@fpcdarien.com
SUMMARY:Women's Bible Study
DESCRIPTION:
URL:https://fpcdarien.com/event/womens-bible-study-2/2029-10-17/
LOCATION:Adult Sunday School room
END:VEVENT
BEGIN:VEVENT
DTSTART;TZID=America/New_York:20291024T110000
DTEND;TZID=America/New_York:20291024T120000
DTSTAMP:20260425T114410
CREATED:20260414T192812Z
LAST-MODIFIED:20260414T192812Z
UID:10001904-1887534000-1887537600@fpcdarien.com
SUMMARY:Women's Bible Study
DESCRIPTION:
URL:https://fpcdarien.com/event/womens-bible-study-2/2029-10-24/
LOCATION:Adult Sunday School room
END:VEVENT
BEGIN:VEVENT
DTSTART;TZID=America/New_York:20291031T110000
DTEND;TZID=America/New_York:20291031T120000
DTSTAMP:20260425T114410
CREATED:20260414T192812Z
LAST-MODIFIED:20260414T192812Z
UID:10001905-1888138800-1888142400@fpcdarien.com
SUMMARY:Women's Bible Study
DESCRIPTION:
URL:https://fpcdarien.com/event/womens-bible-study-2/2029-10-31/
LOCATION:Adult Sunday School room
END:VEVENT
BEGIN:VEVENT
DTSTART;TZID=America/New_York:20291107T110000
DTEND;TZID=America/New_York:20291107T120000
DTSTAMP:20260425T114410
CREATED:20260414T192812Z
LAST-MODIFIED:20260414T192812Z
UID:10001906-1888743600-1888747200@fpcdarien.com
SUMMARY:Women's Bible Study
DESCRIPTION:
URL:https://fpcdarien.com/event/womens-bible-study-2/2029-11-07/
LOCATION:Adult Sunday School room
END:VEVENT
BEGIN:VEVENT
DTSTART;TZID=America/New_York:20291114T110000
DTEND;TZID=America/New_York:20291114T120000
DTSTAMP:20260425T114410
CREATED:20260414T192812Z
LAST-MODIFIED:20260414T192812Z
UID:10001907-1889348400-1889352000@fpcdarien.com
SUMMARY:Women's Bible Study
DESCRIPTION:
URL:https://fpcdarien.com/event/womens-bible-study-2/2029-11-14/
LOCATION:Adult Sunday School room
END:VEVENT
BEGIN:VEVENT
DTSTART;TZID=America/New_York:20291121T110000
DTEND;TZID=America/New_York:20291121T120000
DTSTAMP:20260425T114410
CREATED:20260414T192812Z
LAST-MODIFIED:20260414T192812Z
UID:10001908-1889953200-1889956800@fpcdarien.com
SUMMARY:Women's Bible Study
DESCRIPTION:
URL:https://fpcdarien.com/event/womens-bible-study-2/2029-11-21/
LOCATION:Adult Sunday School room
END:VEVENT
BEGIN:VEVENT
DTSTART;TZID=America/New_York:20291128T110000
DTEND;TZID=America/New_York:20291128T120000
DTSTAMP:20260425T114410
CREATED:20260414T192812Z
LAST-MODIFIED:20260414T192812Z
UID:10001909-1890558000-1890561600@fpcdarien.com
SUMMARY:Women's Bible Study
DESCRIPTION:
URL:https://fpcdarien.com/event/womens-bible-study-2/2029-11-28/
LOCATION:Adult Sunday School room
END:VEVENT
END:VCALENDAR