BEGIN:VCALENDAR
VERSION:2.0
PRODID:-//First Presbyterian Church of Darien - ECPv6.15.20//NONSGML v1.0//EN
CALSCALE:GREGORIAN
METHOD:PUBLISH
X-ORIGINAL-URL:https://fpcdarien.com
X-WR-CALDESC:Events for First Presbyterian Church of Darien
REFRESH-INTERVAL;VALUE=DURATION:PT1H
X-Robots-Tag:noindex
X-PUBLISHED-TTL:PT1H
BEGIN:VTIMEZONE
TZID:America/New_York
BEGIN:DAYLIGHT
TZOFFSETFROM:-0500
TZOFFSETTO:-0400
TZNAME:EDT
DTSTART:20250309T070000
END:DAYLIGHT
BEGIN:STANDARD
TZOFFSETFROM:-0400
TZOFFSETTO:-0500
TZNAME:EST
DTSTART:20251102T060000
END:STANDARD
BEGIN:DAYLIGHT
TZOFFSETFROM:-0500
TZOFFSETTO:-0400
TZNAME:EDT
DTSTART:20260308T070000
END:DAYLIGHT
BEGIN:STANDARD
TZOFFSETFROM:-0400
TZOFFSETTO:-0500
TZNAME:EST
DTSTART:20261101T060000
END:STANDARD
BEGIN:DAYLIGHT
TZOFFSETFROM:-0500
TZOFFSETTO:-0400
TZNAME:EDT
DTSTART:20270314T070000
END:DAYLIGHT
BEGIN:STANDARD
TZOFFSETFROM:-0400
TZOFFSETTO:-0500
TZNAME:EST
DTSTART:20271107T060000
END:STANDARD
END:VTIMEZONE
BEGIN:VEVENT
DTSTART;TZID=America/New_York:20260628T093000
DTEND;TZID=America/New_York:20260628T103000
DTSTAMP:20260423T103537
CREATED:20230525T135738Z
LAST-MODIFIED:20230525T135738Z
UID:10001253-1782639000-1782642600@fpcdarien.com
SUMMARY:Adult Sunday School
DESCRIPTION:
URL:https://fpcdarien.com/event/adult-sunday-school/2026-06-28/
LOCATION:Adult Sunday School room
END:VEVENT
BEGIN:VEVENT
DTSTART;TZID=America/New_York:20260701T110000
DTEND;TZID=America/New_York:20260701T120000
DTSTAMP:20260423T103537
CREATED:20260414T192812Z
LAST-MODIFIED:20260414T192812Z
UID:10001731-1782903600-1782907200@fpcdarien.com
SUMMARY:Women's Bible Study
DESCRIPTION:
URL:https://fpcdarien.com/event/womens-bible-study-2/2026-07-01/
LOCATION:Adult Sunday School room
END:VEVENT
BEGIN:VEVENT
DTSTART;TZID=America/New_York:20260704T100000
DTEND;TZID=America/New_York:20260704T110000
DTSTAMP:20260423T103537
CREATED:20230524T161020Z
LAST-MODIFIED:20230524T161020Z
UID:10000933-1783159200-1783162800@fpcdarien.com
SUMMARY:Men's Bible Study
DESCRIPTION:
URL:https://fpcdarien.com/event/mens-bible-study/2026-07-04/
LOCATION:Adult Sunday School room
END:VEVENT
BEGIN:VEVENT
DTSTART;TZID=America/New_York:20260705T093000
DTEND;TZID=America/New_York:20260705T103000
DTSTAMP:20260423T103537
CREATED:20230525T135738Z
LAST-MODIFIED:20230525T135738Z
UID:10001254-1783243800-1783247400@fpcdarien.com
SUMMARY:Adult Sunday School
DESCRIPTION:
URL:https://fpcdarien.com/event/adult-sunday-school/2026-07-05/
LOCATION:Adult Sunday School room
END:VEVENT
BEGIN:VEVENT
DTSTART;TZID=America/New_York:20260708T110000
DTEND;TZID=America/New_York:20260708T120000
DTSTAMP:20260423T103537
CREATED:20260414T192812Z
LAST-MODIFIED:20260414T192812Z
UID:10001732-1783508400-1783512000@fpcdarien.com
SUMMARY:Women's Bible Study
DESCRIPTION:
URL:https://fpcdarien.com/event/womens-bible-study-2/2026-07-08/
LOCATION:Adult Sunday School room
END:VEVENT
BEGIN:VEVENT
DTSTART;TZID=America/New_York:20260711T100000
DTEND;TZID=America/New_York:20260711T110000
DTSTAMP:20260423T103537
CREATED:20230524T161020Z
LAST-MODIFIED:20230524T161020Z
UID:10000934-1783764000-1783767600@fpcdarien.com
SUMMARY:Men's Bible Study
DESCRIPTION:
URL:https://fpcdarien.com/event/mens-bible-study/2026-07-11/
LOCATION:Adult Sunday School room
END:VEVENT
BEGIN:VEVENT
DTSTART;TZID=America/New_York:20260712T093000
DTEND;TZID=America/New_York:20260712T103000
DTSTAMP:20260423T103537
CREATED:20230525T135738Z
LAST-MODIFIED:20230525T135738Z
UID:10001255-1783848600-1783852200@fpcdarien.com
SUMMARY:Adult Sunday School
DESCRIPTION:
URL:https://fpcdarien.com/event/adult-sunday-school/2026-07-12/
LOCATION:Adult Sunday School room
END:VEVENT
BEGIN:VEVENT
DTSTART;TZID=America/New_York:20260713T100000
DTEND;TZID=America/New_York:20260713T110000
DTSTAMP:20260423T103537
CREATED:20230525T140937Z
LAST-MODIFIED:20230525T140937Z
UID:10001571-1783936800-1783940400@fpcdarien.com
SUMMARY:Session
DESCRIPTION:
URL:https://fpcdarien.com/event/session/2026-07-13/
LOCATION:Adult Sunday School room
END:VEVENT
BEGIN:VEVENT
DTSTART;TZID=America/New_York:20260715T110000
DTEND;TZID=America/New_York:20260715T120000
DTSTAMP:20260423T103537
CREATED:20260414T192812Z
LAST-MODIFIED:20260414T192812Z
UID:10001733-1784113200-1784116800@fpcdarien.com
SUMMARY:Women's Bible Study
DESCRIPTION:
URL:https://fpcdarien.com/event/womens-bible-study-2/2026-07-15/
LOCATION:Adult Sunday School room
END:VEVENT
BEGIN:VEVENT
DTSTART;TZID=America/New_York:20260718T100000
DTEND;TZID=America/New_York:20260718T110000
DTSTAMP:20260423T103537
CREATED:20230524T161020Z
LAST-MODIFIED:20230524T161020Z
UID:10000935-1784368800-1784372400@fpcdarien.com
SUMMARY:Men's Bible Study
DESCRIPTION:
URL:https://fpcdarien.com/event/mens-bible-study/2026-07-18/
LOCATION:Adult Sunday School room
END:VEVENT
BEGIN:VEVENT
DTSTART;TZID=America/New_York:20260719T093000
DTEND;TZID=America/New_York:20260719T103000
DTSTAMP:20260423T103537
CREATED:20230525T135738Z
LAST-MODIFIED:20230525T135738Z
UID:10001256-1784453400-1784457000@fpcdarien.com
SUMMARY:Adult Sunday School
DESCRIPTION:
URL:https://fpcdarien.com/event/adult-sunday-school/2026-07-19/
LOCATION:Adult Sunday School room
END:VEVENT
BEGIN:VEVENT
DTSTART;TZID=America/New_York:20260722T110000
DTEND;TZID=America/New_York:20260722T120000
DTSTAMP:20260423T103537
CREATED:20260414T192812Z
LAST-MODIFIED:20260414T192812Z
UID:10001734-1784718000-1784721600@fpcdarien.com
SUMMARY:Women's Bible Study
DESCRIPTION:
URL:https://fpcdarien.com/event/womens-bible-study-2/2026-07-22/
LOCATION:Adult Sunday School room
END:VEVENT
BEGIN:VEVENT
DTSTART;TZID=America/New_York:20260725T100000
DTEND;TZID=America/New_York:20260725T110000
DTSTAMP:20260423T103537
CREATED:20230524T161020Z
LAST-MODIFIED:20230524T161020Z
UID:10000936-1784973600-1784977200@fpcdarien.com
SUMMARY:Men's Bible Study
DESCRIPTION:
URL:https://fpcdarien.com/event/mens-bible-study/2026-07-25/
LOCATION:Adult Sunday School room
END:VEVENT
BEGIN:VEVENT
DTSTART;TZID=America/New_York:20260726T093000
DTEND;TZID=America/New_York:20260726T103000
DTSTAMP:20260423T103537
CREATED:20230525T135738Z
LAST-MODIFIED:20230525T135738Z
UID:10001257-1785058200-1785061800@fpcdarien.com
SUMMARY:Adult Sunday School
DESCRIPTION:
URL:https://fpcdarien.com/event/adult-sunday-school/2026-07-26/
LOCATION:Adult Sunday School room
END:VEVENT
BEGIN:VEVENT
DTSTART;TZID=America/New_York:20260729T110000
DTEND;TZID=America/New_York:20260729T120000
DTSTAMP:20260423T103537
CREATED:20260414T192812Z
LAST-MODIFIED:20260414T192812Z
UID:10001735-1785322800-1785326400@fpcdarien.com
SUMMARY:Women's Bible Study
DESCRIPTION:
URL:https://fpcdarien.com/event/womens-bible-study-2/2026-07-29/
LOCATION:Adult Sunday School room
END:VEVENT
BEGIN:VEVENT
DTSTART;TZID=America/New_York:20260801T100000
DTEND;TZID=America/New_York:20260801T110000
DTSTAMP:20260423T103537
CREATED:20230524T161020Z
LAST-MODIFIED:20230524T161020Z
UID:10000937-1785578400-1785582000@fpcdarien.com
SUMMARY:Men's Bible Study
DESCRIPTION:
URL:https://fpcdarien.com/event/mens-bible-study/2026-08-01/
LOCATION:Adult Sunday School room
END:VEVENT
BEGIN:VEVENT
DTSTART;TZID=America/New_York:20260802T093000
DTEND;TZID=America/New_York:20260802T103000
DTSTAMP:20260423T103537
CREATED:20230525T135738Z
LAST-MODIFIED:20230525T135738Z
UID:10001258-1785663000-1785666600@fpcdarien.com
SUMMARY:Adult Sunday School
DESCRIPTION:
URL:https://fpcdarien.com/event/adult-sunday-school/2026-08-02/
LOCATION:Adult Sunday School room
END:VEVENT
BEGIN:VEVENT
DTSTART;TZID=America/New_York:20260805T110000
DTEND;TZID=America/New_York:20260805T120000
DTSTAMP:20260423T103537
CREATED:20260414T192812Z
LAST-MODIFIED:20260414T192812Z
UID:10001736-1785927600-1785931200@fpcdarien.com
SUMMARY:Women's Bible Study
DESCRIPTION:
URL:https://fpcdarien.com/event/womens-bible-study-2/2026-08-05/
LOCATION:Adult Sunday School room
END:VEVENT
BEGIN:VEVENT
DTSTART;TZID=America/New_York:20260808T100000
DTEND;TZID=America/New_York:20260808T110000
DTSTAMP:20260423T103537
CREATED:20230524T161020Z
LAST-MODIFIED:20230524T161020Z
UID:10000938-1786183200-1786186800@fpcdarien.com
SUMMARY:Men's Bible Study
DESCRIPTION:
URL:https://fpcdarien.com/event/mens-bible-study/2026-08-08/
LOCATION:Adult Sunday School room
END:VEVENT
BEGIN:VEVENT
DTSTART;TZID=America/New_York:20260809T093000
DTEND;TZID=America/New_York:20260809T103000
DTSTAMP:20260423T103537
CREATED:20230525T135738Z
LAST-MODIFIED:20230525T135738Z
UID:10001259-1786267800-1786271400@fpcdarien.com
SUMMARY:Adult Sunday School
DESCRIPTION:
URL:https://fpcdarien.com/event/adult-sunday-school/2026-08-09/
LOCATION:Adult Sunday School room
END:VEVENT
BEGIN:VEVENT
DTSTART;TZID=America/New_York:20260810T100000
DTEND;TZID=America/New_York:20260810T110000
DTSTAMP:20260423T103537
CREATED:20230525T140937Z
LAST-MODIFIED:20230525T140937Z
UID:10001572-1786356000-1786359600@fpcdarien.com
SUMMARY:Session
DESCRIPTION:
URL:https://fpcdarien.com/event/session/2026-08-10/
LOCATION:Adult Sunday School room
END:VEVENT
BEGIN:VEVENT
DTSTART;TZID=America/New_York:20260812T110000
DTEND;TZID=America/New_York:20260812T120000
DTSTAMP:20260423T103537
CREATED:20260414T192812Z
LAST-MODIFIED:20260414T192812Z
UID:10001737-1786532400-1786536000@fpcdarien.com
SUMMARY:Women's Bible Study
DESCRIPTION:
URL:https://fpcdarien.com/event/womens-bible-study-2/2026-08-12/
LOCATION:Adult Sunday School room
END:VEVENT
BEGIN:VEVENT
DTSTART;TZID=America/New_York:20260815T100000
DTEND;TZID=America/New_York:20260815T110000
DTSTAMP:20260423T103537
CREATED:20230524T161020Z
LAST-MODIFIED:20230524T161020Z
UID:10000939-1786788000-1786791600@fpcdarien.com
SUMMARY:Men's Bible Study
DESCRIPTION:
URL:https://fpcdarien.com/event/mens-bible-study/2026-08-15/
LOCATION:Adult Sunday School room
END:VEVENT
BEGIN:VEVENT
DTSTART;TZID=America/New_York:20260816T093000
DTEND;TZID=America/New_York:20260816T103000
DTSTAMP:20260423T103537
CREATED:20230525T135738Z
LAST-MODIFIED:20230525T135738Z
UID:10001260-1786872600-1786876200@fpcdarien.com
SUMMARY:Adult Sunday School
DESCRIPTION:
URL:https://fpcdarien.com/event/adult-sunday-school/2026-08-16/
LOCATION:Adult Sunday School room
END:VEVENT
BEGIN:VEVENT
DTSTART;TZID=America/New_York:20260819T110000
DTEND;TZID=America/New_York:20260819T120000
DTSTAMP:20260423T103537
CREATED:20260414T192812Z
LAST-MODIFIED:20260414T192812Z
UID:10001738-1787137200-1787140800@fpcdarien.com
SUMMARY:Women's Bible Study
DESCRIPTION:
URL:https://fpcdarien.com/event/womens-bible-study-2/2026-08-19/
LOCATION:Adult Sunday School room
END:VEVENT
BEGIN:VEVENT
DTSTART;TZID=America/New_York:20260822T100000
DTEND;TZID=America/New_York:20260822T110000
DTSTAMP:20260423T103537
CREATED:20230524T161020Z
LAST-MODIFIED:20230524T161020Z
UID:10000940-1787392800-1787396400@fpcdarien.com
SUMMARY:Men's Bible Study
DESCRIPTION:
URL:https://fpcdarien.com/event/mens-bible-study/2026-08-22/
LOCATION:Adult Sunday School room
END:VEVENT
BEGIN:VEVENT
DTSTART;TZID=America/New_York:20260823T093000
DTEND;TZID=America/New_York:20260823T103000
DTSTAMP:20260423T103537
CREATED:20230525T135738Z
LAST-MODIFIED:20230525T135738Z
UID:10001261-1787477400-1787481000@fpcdarien.com
SUMMARY:Adult Sunday School
DESCRIPTION:
URL:https://fpcdarien.com/event/adult-sunday-school/2026-08-23/
LOCATION:Adult Sunday School room
END:VEVENT
BEGIN:VEVENT
DTSTART;TZID=America/New_York:20260826T110000
DTEND;TZID=America/New_York:20260826T120000
DTSTAMP:20260423T103537
CREATED:20260414T192812Z
LAST-MODIFIED:20260414T192812Z
UID:10001739-1787742000-1787745600@fpcdarien.com
SUMMARY:Women's Bible Study
DESCRIPTION:
URL:https://fpcdarien.com/event/womens-bible-study-2/2026-08-26/
LOCATION:Adult Sunday School room
END:VEVENT
BEGIN:VEVENT
DTSTART;TZID=America/New_York:20260829T100000
DTEND;TZID=America/New_York:20260829T110000
DTSTAMP:20260423T103537
CREATED:20230524T161020Z
LAST-MODIFIED:20230524T161020Z
UID:10000941-1787997600-1788001200@fpcdarien.com
SUMMARY:Men's Bible Study
DESCRIPTION:
URL:https://fpcdarien.com/event/mens-bible-study/2026-08-29/
LOCATION:Adult Sunday School room
END:VEVENT
BEGIN:VEVENT
DTSTART;TZID=America/New_York:20260830T093000
DTEND;TZID=America/New_York:20260830T103000
DTSTAMP:20260423T103537
CREATED:20230525T135738Z
LAST-MODIFIED:20230525T135738Z
UID:10001262-1788082200-1788085800@fpcdarien.com
SUMMARY:Adult Sunday School
DESCRIPTION:
URL:https://fpcdarien.com/event/adult-sunday-school/2026-08-30/
LOCATION:Adult Sunday School room
END:VEVENT
END:VCALENDAR