BEGIN:VCALENDAR
VERSION:2.0
PRODID:-//First Presbyterian Church of Darien - ECPv6.15.20//NONSGML v1.0//EN
CALSCALE:GREGORIAN
METHOD:PUBLISH
X-ORIGINAL-URL:https://fpcdarien.com
X-WR-CALDESC:Events for First Presbyterian Church of Darien
REFRESH-INTERVAL;VALUE=DURATION:PT1H
X-Robots-Tag:noindex
X-PUBLISHED-TTL:PT1H
BEGIN:VTIMEZONE
TZID:America/New_York
BEGIN:DAYLIGHT
TZOFFSETFROM:-0500
TZOFFSETTO:-0400
TZNAME:EDT
DTSTART:20270314T070000
END:DAYLIGHT
BEGIN:STANDARD
TZOFFSETFROM:-0400
TZOFFSETTO:-0500
TZNAME:EST
DTSTART:20271107T060000
END:STANDARD
BEGIN:DAYLIGHT
TZOFFSETFROM:-0500
TZOFFSETTO:-0400
TZNAME:EDT
DTSTART:20280312T070000
END:DAYLIGHT
BEGIN:STANDARD
TZOFFSETFROM:-0400
TZOFFSETTO:-0500
TZNAME:EST
DTSTART:20281105T060000
END:STANDARD
BEGIN:DAYLIGHT
TZOFFSETFROM:-0500
TZOFFSETTO:-0400
TZNAME:EDT
DTSTART:20290311T070000
END:DAYLIGHT
BEGIN:STANDARD
TZOFFSETFROM:-0400
TZOFFSETTO:-0500
TZNAME:EST
DTSTART:20291104T060000
END:STANDARD
BEGIN:DAYLIGHT
TZOFFSETFROM:-0500
TZOFFSETTO:-0400
TZNAME:EDT
DTSTART:20300310T070000
END:DAYLIGHT
BEGIN:STANDARD
TZOFFSETFROM:-0400
TZOFFSETTO:-0500
TZNAME:EST
DTSTART:20301103T060000
END:STANDARD
END:VTIMEZONE
BEGIN:VEVENT
DTSTART;TZID=America/New_York:20281213T110000
DTEND;TZID=America/New_York:20281213T120000
DTSTAMP:20260425T090439
CREATED:20260414T192812Z
LAST-MODIFIED:20260414T192812Z
UID:10001859-1860318000-1860321600@fpcdarien.com
SUMMARY:Women's Bible Study
DESCRIPTION:
URL:https://fpcdarien.com/event/womens-bible-study-2/2028-12-13/
LOCATION:Adult Sunday School room
END:VEVENT
BEGIN:VEVENT
DTSTART;TZID=America/New_York:20281220T110000
DTEND;TZID=America/New_York:20281220T120000
DTSTAMP:20260425T090439
CREATED:20260414T192812Z
LAST-MODIFIED:20260414T192812Z
UID:10001860-1860922800-1860926400@fpcdarien.com
SUMMARY:Women's Bible Study
DESCRIPTION:
URL:https://fpcdarien.com/event/womens-bible-study-2/2028-12-20/
LOCATION:Adult Sunday School room
END:VEVENT
BEGIN:VEVENT
DTSTART;TZID=America/New_York:20281227T110000
DTEND;TZID=America/New_York:20281227T120000
DTSTAMP:20260425T090439
CREATED:20260414T192812Z
LAST-MODIFIED:20260414T192812Z
UID:10001861-1861527600-1861531200@fpcdarien.com
SUMMARY:Women's Bible Study
DESCRIPTION:
URL:https://fpcdarien.com/event/womens-bible-study-2/2028-12-27/
LOCATION:Adult Sunday School room
END:VEVENT
BEGIN:VEVENT
DTSTART;TZID=America/New_York:20290103T110000
DTEND;TZID=America/New_York:20290103T120000
DTSTAMP:20260425T090439
CREATED:20260414T192812Z
LAST-MODIFIED:20260414T192812Z
UID:10001862-1862132400-1862136000@fpcdarien.com
SUMMARY:Women's Bible Study
DESCRIPTION:
URL:https://fpcdarien.com/event/womens-bible-study-2/2029-01-03/
LOCATION:Adult Sunday School room
END:VEVENT
BEGIN:VEVENT
DTSTART;TZID=America/New_York:20290110T110000
DTEND;TZID=America/New_York:20290110T120000
DTSTAMP:20260425T090439
CREATED:20260414T192812Z
LAST-MODIFIED:20260414T192812Z
UID:10001863-1862737200-1862740800@fpcdarien.com
SUMMARY:Women's Bible Study
DESCRIPTION:
URL:https://fpcdarien.com/event/womens-bible-study-2/2029-01-10/
LOCATION:Adult Sunday School room
END:VEVENT
BEGIN:VEVENT
DTSTART;TZID=America/New_York:20290117T110000
DTEND;TZID=America/New_York:20290117T120000
DTSTAMP:20260425T090439
CREATED:20260414T192812Z
LAST-MODIFIED:20260414T192812Z
UID:10001864-1863342000-1863345600@fpcdarien.com
SUMMARY:Women's Bible Study
DESCRIPTION:
URL:https://fpcdarien.com/event/womens-bible-study-2/2029-01-17/
LOCATION:Adult Sunday School room
END:VEVENT
BEGIN:VEVENT
DTSTART;TZID=America/New_York:20290124T110000
DTEND;TZID=America/New_York:20290124T120000
DTSTAMP:20260425T090439
CREATED:20260414T192812Z
LAST-MODIFIED:20260414T192812Z
UID:10001865-1863946800-1863950400@fpcdarien.com
SUMMARY:Women's Bible Study
DESCRIPTION:
URL:https://fpcdarien.com/event/womens-bible-study-2/2029-01-24/
LOCATION:Adult Sunday School room
END:VEVENT
BEGIN:VEVENT
DTSTART;TZID=America/New_York:20290131T110000
DTEND;TZID=America/New_York:20290131T120000
DTSTAMP:20260425T090439
CREATED:20260414T192812Z
LAST-MODIFIED:20260414T192812Z
UID:10001866-1864551600-1864555200@fpcdarien.com
SUMMARY:Women's Bible Study
DESCRIPTION:
URL:https://fpcdarien.com/event/womens-bible-study-2/2029-01-31/
LOCATION:Adult Sunday School room
END:VEVENT
BEGIN:VEVENT
DTSTART;TZID=America/New_York:20290207T110000
DTEND;TZID=America/New_York:20290207T120000
DTSTAMP:20260425T090439
CREATED:20260414T192812Z
LAST-MODIFIED:20260414T192812Z
UID:10001867-1865156400-1865160000@fpcdarien.com
SUMMARY:Women's Bible Study
DESCRIPTION:
URL:https://fpcdarien.com/event/womens-bible-study-2/2029-02-07/
LOCATION:Adult Sunday School room
END:VEVENT
BEGIN:VEVENT
DTSTART;TZID=America/New_York:20290214T110000
DTEND;TZID=America/New_York:20290214T120000
DTSTAMP:20260425T090439
CREATED:20260414T192812Z
LAST-MODIFIED:20260414T192812Z
UID:10001868-1865761200-1865764800@fpcdarien.com
SUMMARY:Women's Bible Study
DESCRIPTION:
URL:https://fpcdarien.com/event/womens-bible-study-2/2029-02-14/
LOCATION:Adult Sunday School room
END:VEVENT
BEGIN:VEVENT
DTSTART;TZID=America/New_York:20290221T110000
DTEND;TZID=America/New_York:20290221T120000
DTSTAMP:20260425T090439
CREATED:20260414T192812Z
LAST-MODIFIED:20260414T192812Z
UID:10001869-1866366000-1866369600@fpcdarien.com
SUMMARY:Women's Bible Study
DESCRIPTION:
URL:https://fpcdarien.com/event/womens-bible-study-2/2029-02-21/
LOCATION:Adult Sunday School room
END:VEVENT
BEGIN:VEVENT
DTSTART;TZID=America/New_York:20290228T110000
DTEND;TZID=America/New_York:20290228T120000
DTSTAMP:20260425T090439
CREATED:20260414T192812Z
LAST-MODIFIED:20260414T192812Z
UID:10001870-1866970800-1866974400@fpcdarien.com
SUMMARY:Women's Bible Study
DESCRIPTION:
URL:https://fpcdarien.com/event/womens-bible-study-2/2029-02-28/
LOCATION:Adult Sunday School room
END:VEVENT
BEGIN:VEVENT
DTSTART;TZID=America/New_York:20290307T110000
DTEND;TZID=America/New_York:20290307T120000
DTSTAMP:20260425T090439
CREATED:20260414T192812Z
LAST-MODIFIED:20260414T192812Z
UID:10001871-1867575600-1867579200@fpcdarien.com
SUMMARY:Women's Bible Study
DESCRIPTION:
URL:https://fpcdarien.com/event/womens-bible-study-2/2029-03-07/
LOCATION:Adult Sunday School room
END:VEVENT
BEGIN:VEVENT
DTSTART;TZID=America/New_York:20290314T110000
DTEND;TZID=America/New_York:20290314T120000
DTSTAMP:20260425T090439
CREATED:20260414T192812Z
LAST-MODIFIED:20260414T192812Z
UID:10001872-1868180400-1868184000@fpcdarien.com
SUMMARY:Women's Bible Study
DESCRIPTION:
URL:https://fpcdarien.com/event/womens-bible-study-2/2029-03-14/
LOCATION:Adult Sunday School room
END:VEVENT
BEGIN:VEVENT
DTSTART;TZID=America/New_York:20290321T110000
DTEND;TZID=America/New_York:20290321T120000
DTSTAMP:20260425T090439
CREATED:20260414T192812Z
LAST-MODIFIED:20260414T192812Z
UID:10001873-1868785200-1868788800@fpcdarien.com
SUMMARY:Women's Bible Study
DESCRIPTION:
URL:https://fpcdarien.com/event/womens-bible-study-2/2029-03-21/
LOCATION:Adult Sunday School room
END:VEVENT
BEGIN:VEVENT
DTSTART;TZID=America/New_York:20290328T110000
DTEND;TZID=America/New_York:20290328T120000
DTSTAMP:20260425T090439
CREATED:20260414T192812Z
LAST-MODIFIED:20260414T192812Z
UID:10001874-1869390000-1869393600@fpcdarien.com
SUMMARY:Women's Bible Study
DESCRIPTION:
URL:https://fpcdarien.com/event/womens-bible-study-2/2029-03-28/
LOCATION:Adult Sunday School room
END:VEVENT
BEGIN:VEVENT
DTSTART;TZID=America/New_York:20290404T110000
DTEND;TZID=America/New_York:20290404T120000
DTSTAMP:20260425T090439
CREATED:20260414T192812Z
LAST-MODIFIED:20260414T192812Z
UID:10001875-1869994800-1869998400@fpcdarien.com
SUMMARY:Women's Bible Study
DESCRIPTION:
URL:https://fpcdarien.com/event/womens-bible-study-2/2029-04-04/
LOCATION:Adult Sunday School room
END:VEVENT
BEGIN:VEVENT
DTSTART;TZID=America/New_York:20290411T110000
DTEND;TZID=America/New_York:20290411T120000
DTSTAMP:20260425T090439
CREATED:20260414T192812Z
LAST-MODIFIED:20260414T192812Z
UID:10001876-1870599600-1870603200@fpcdarien.com
SUMMARY:Women's Bible Study
DESCRIPTION:
URL:https://fpcdarien.com/event/womens-bible-study-2/2029-04-11/
LOCATION:Adult Sunday School room
END:VEVENT
BEGIN:VEVENT
DTSTART;TZID=America/New_York:20290418T110000
DTEND;TZID=America/New_York:20290418T120000
DTSTAMP:20260425T090439
CREATED:20260414T192812Z
LAST-MODIFIED:20260414T192812Z
UID:10001877-1871204400-1871208000@fpcdarien.com
SUMMARY:Women's Bible Study
DESCRIPTION:
URL:https://fpcdarien.com/event/womens-bible-study-2/2029-04-18/
LOCATION:Adult Sunday School room
END:VEVENT
BEGIN:VEVENT
DTSTART;TZID=America/New_York:20290425T110000
DTEND;TZID=America/New_York:20290425T120000
DTSTAMP:20260425T090439
CREATED:20260414T192812Z
LAST-MODIFIED:20260414T192812Z
UID:10001878-1871809200-1871812800@fpcdarien.com
SUMMARY:Women's Bible Study
DESCRIPTION:
URL:https://fpcdarien.com/event/womens-bible-study-2/2029-04-25/
LOCATION:Adult Sunday School room
END:VEVENT
BEGIN:VEVENT
DTSTART;TZID=America/New_York:20290502T110000
DTEND;TZID=America/New_York:20290502T120000
DTSTAMP:20260425T090439
CREATED:20260414T192812Z
LAST-MODIFIED:20260414T192812Z
UID:10001879-1872414000-1872417600@fpcdarien.com
SUMMARY:Women's Bible Study
DESCRIPTION:
URL:https://fpcdarien.com/event/womens-bible-study-2/2029-05-02/
LOCATION:Adult Sunday School room
END:VEVENT
BEGIN:VEVENT
DTSTART;TZID=America/New_York:20290509T110000
DTEND;TZID=America/New_York:20290509T120000
DTSTAMP:20260425T090439
CREATED:20260414T192812Z
LAST-MODIFIED:20260414T192812Z
UID:10001880-1873018800-1873022400@fpcdarien.com
SUMMARY:Women's Bible Study
DESCRIPTION:
URL:https://fpcdarien.com/event/womens-bible-study-2/2029-05-09/
LOCATION:Adult Sunday School room
END:VEVENT
BEGIN:VEVENT
DTSTART;TZID=America/New_York:20290516T110000
DTEND;TZID=America/New_York:20290516T120000
DTSTAMP:20260425T090439
CREATED:20260414T192812Z
LAST-MODIFIED:20260414T192812Z
UID:10001881-1873623600-1873627200@fpcdarien.com
SUMMARY:Women's Bible Study
DESCRIPTION:
URL:https://fpcdarien.com/event/womens-bible-study-2/2029-05-16/
LOCATION:Adult Sunday School room
END:VEVENT
BEGIN:VEVENT
DTSTART;TZID=America/New_York:20290523T110000
DTEND;TZID=America/New_York:20290523T120000
DTSTAMP:20260425T090439
CREATED:20260414T192812Z
LAST-MODIFIED:20260414T192812Z
UID:10001882-1874228400-1874232000@fpcdarien.com
SUMMARY:Women's Bible Study
DESCRIPTION:
URL:https://fpcdarien.com/event/womens-bible-study-2/2029-05-23/
LOCATION:Adult Sunday School room
END:VEVENT
BEGIN:VEVENT
DTSTART;TZID=America/New_York:20290530T110000
DTEND;TZID=America/New_York:20290530T120000
DTSTAMP:20260425T090439
CREATED:20260414T192812Z
LAST-MODIFIED:20260414T192812Z
UID:10001883-1874833200-1874836800@fpcdarien.com
SUMMARY:Women's Bible Study
DESCRIPTION:
URL:https://fpcdarien.com/event/womens-bible-study-2/2029-05-30/
LOCATION:Adult Sunday School room
END:VEVENT
BEGIN:VEVENT
DTSTART;TZID=America/New_York:20290606T110000
DTEND;TZID=America/New_York:20290606T120000
DTSTAMP:20260425T090439
CREATED:20260414T192812Z
LAST-MODIFIED:20260414T192812Z
UID:10001884-1875438000-1875441600@fpcdarien.com
SUMMARY:Women's Bible Study
DESCRIPTION:
URL:https://fpcdarien.com/event/womens-bible-study-2/2029-06-06/
LOCATION:Adult Sunday School room
END:VEVENT
BEGIN:VEVENT
DTSTART;TZID=America/New_York:20290613T110000
DTEND;TZID=America/New_York:20290613T120000
DTSTAMP:20260425T090439
CREATED:20260414T192812Z
LAST-MODIFIED:20260414T192812Z
UID:10001885-1876042800-1876046400@fpcdarien.com
SUMMARY:Women's Bible Study
DESCRIPTION:
URL:https://fpcdarien.com/event/womens-bible-study-2/2029-06-13/
LOCATION:Adult Sunday School room
END:VEVENT
BEGIN:VEVENT
DTSTART;TZID=America/New_York:20290620T110000
DTEND;TZID=America/New_York:20290620T120000
DTSTAMP:20260425T090439
CREATED:20260414T192812Z
LAST-MODIFIED:20260414T192812Z
UID:10001886-1876647600-1876651200@fpcdarien.com
SUMMARY:Women's Bible Study
DESCRIPTION:
URL:https://fpcdarien.com/event/womens-bible-study-2/2029-06-20/
LOCATION:Adult Sunday School room
END:VEVENT
BEGIN:VEVENT
DTSTART;TZID=America/New_York:20290627T110000
DTEND;TZID=America/New_York:20290627T120000
DTSTAMP:20260425T090439
CREATED:20260414T192812Z
LAST-MODIFIED:20260414T192812Z
UID:10001887-1877252400-1877256000@fpcdarien.com
SUMMARY:Women's Bible Study
DESCRIPTION:
URL:https://fpcdarien.com/event/womens-bible-study-2/2029-06-27/
LOCATION:Adult Sunday School room
END:VEVENT
BEGIN:VEVENT
DTSTART;TZID=America/New_York:20290704T110000
DTEND;TZID=America/New_York:20290704T120000
DTSTAMP:20260425T090439
CREATED:20260414T192812Z
LAST-MODIFIED:20260414T192812Z
UID:10001888-1877857200-1877860800@fpcdarien.com
SUMMARY:Women's Bible Study
DESCRIPTION:
URL:https://fpcdarien.com/event/womens-bible-study-2/2029-07-04/
LOCATION:Adult Sunday School room
END:VEVENT
END:VCALENDAR