BEGIN:VCALENDAR
VERSION:2.0
PRODID:-//First Presbyterian Church of Darien - ECPv6.15.20//NONSGML v1.0//EN
CALSCALE:GREGORIAN
METHOD:PUBLISH
X-ORIGINAL-URL:https://fpcdarien.com
X-WR-CALDESC:Events for First Presbyterian Church of Darien
REFRESH-INTERVAL;VALUE=DURATION:PT1H
X-Robots-Tag:noindex
X-PUBLISHED-TTL:PT1H
BEGIN:VTIMEZONE
TZID:America/New_York
BEGIN:DAYLIGHT
TZOFFSETFROM:-0500
TZOFFSETTO:-0400
TZNAME:EDT
DTSTART:20220313T070000
END:DAYLIGHT
BEGIN:STANDARD
TZOFFSETFROM:-0400
TZOFFSETTO:-0500
TZNAME:EST
DTSTART:20221106T060000
END:STANDARD
BEGIN:DAYLIGHT
TZOFFSETFROM:-0500
TZOFFSETTO:-0400
TZNAME:EDT
DTSTART:20230312T070000
END:DAYLIGHT
BEGIN:STANDARD
TZOFFSETFROM:-0400
TZOFFSETTO:-0500
TZNAME:EST
DTSTART:20231105T060000
END:STANDARD
BEGIN:DAYLIGHT
TZOFFSETFROM:-0500
TZOFFSETTO:-0400
TZNAME:EDT
DTSTART:20240310T070000
END:DAYLIGHT
BEGIN:STANDARD
TZOFFSETFROM:-0400
TZOFFSETTO:-0500
TZNAME:EST
DTSTART:20241103T060000
END:STANDARD
BEGIN:DAYLIGHT
TZOFFSETFROM:-0500
TZOFFSETTO:-0400
TZNAME:EDT
DTSTART:20250309T070000
END:DAYLIGHT
BEGIN:STANDARD
TZOFFSETFROM:-0400
TZOFFSETTO:-0500
TZNAME:EST
DTSTART:20251102T060000
END:STANDARD
END:VTIMEZONE
BEGIN:VEVENT
DTSTART;TZID=America/New_York:20240211T093000
DTEND;TZID=America/New_York:20240211T103000
DTSTAMP:20260425T093718
CREATED:20230525T135738Z
LAST-MODIFIED:20230525T135738Z
UID:10001129-1707643800-1707647400@fpcdarien.com
SUMMARY:Adult Sunday School
DESCRIPTION:
URL:https://fpcdarien.com/event/adult-sunday-school/2024-02-11/
LOCATION:Adult Sunday School room
END:VEVENT
BEGIN:VEVENT
DTSTART;TZID=America/New_York:20240210T100000
DTEND;TZID=America/New_York:20240210T110000
DTSTAMP:20260425T093718
CREATED:20230524T161020Z
LAST-MODIFIED:20230524T161020Z
UID:10000808-1707559200-1707562800@fpcdarien.com
SUMMARY:Men's Bible Study
DESCRIPTION:
URL:https://fpcdarien.com/event/mens-bible-study/2024-02-10/
LOCATION:Adult Sunday School room
END:VEVENT
BEGIN:VEVENT
DTSTART;TZID=America/New_York:20240206T110000
DTEND;TZID=America/New_York:20240206T120000
DTSTAMP:20260425T093718
CREATED:20230524T160321Z
LAST-MODIFIED:20230524T160849Z
UID:10000546-1707217200-1707220800@fpcdarien.com
SUMMARY:Women's Bible Study
DESCRIPTION:
URL:https://fpcdarien.com/event/womens-bible-study/2024-02-06/
LOCATION:Adult Sunday School room
END:VEVENT
BEGIN:VEVENT
DTSTART;TZID=America/New_York:20240204T093000
DTEND;TZID=America/New_York:20240204T103000
DTSTAMP:20260425T093718
CREATED:20230525T135738Z
LAST-MODIFIED:20230525T135738Z
UID:10001128-1707039000-1707042600@fpcdarien.com
SUMMARY:Adult Sunday School
DESCRIPTION:
URL:https://fpcdarien.com/event/adult-sunday-school/2024-02-04/
LOCATION:Adult Sunday School room
END:VEVENT
BEGIN:VEVENT
DTSTART;TZID=America/New_York:20240203T100000
DTEND;TZID=America/New_York:20240203T110000
DTSTAMP:20260425T093718
CREATED:20230524T161020Z
LAST-MODIFIED:20230524T161020Z
UID:10000807-1706954400-1706958000@fpcdarien.com
SUMMARY:Men's Bible Study
DESCRIPTION:
URL:https://fpcdarien.com/event/mens-bible-study/2024-02-03/
LOCATION:Adult Sunday School room
END:VEVENT
BEGIN:VEVENT
DTSTART;TZID=America/New_York:20240130T110000
DTEND;TZID=America/New_York:20240130T120000
DTSTAMP:20260425T093718
CREATED:20230524T160321Z
LAST-MODIFIED:20230524T160849Z
UID:10000545-1706612400-1706616000@fpcdarien.com
SUMMARY:Women's Bible Study
DESCRIPTION:
URL:https://fpcdarien.com/event/womens-bible-study/2024-01-30/
LOCATION:Adult Sunday School room
END:VEVENT
BEGIN:VEVENT
DTSTART;TZID=America/New_York:20240128T093000
DTEND;TZID=America/New_York:20240128T103000
DTSTAMP:20260425T093718
CREATED:20230525T135738Z
LAST-MODIFIED:20230525T135738Z
UID:10001127-1706434200-1706437800@fpcdarien.com
SUMMARY:Adult Sunday School
DESCRIPTION:
URL:https://fpcdarien.com/event/adult-sunday-school/2024-01-28/
LOCATION:Adult Sunday School room
END:VEVENT
BEGIN:VEVENT
DTSTART;TZID=America/New_York:20240127T100000
DTEND;TZID=America/New_York:20240127T110000
DTSTAMP:20260425T093718
CREATED:20230524T161020Z
LAST-MODIFIED:20230524T161020Z
UID:10000806-1706349600-1706353200@fpcdarien.com
SUMMARY:Men's Bible Study
DESCRIPTION:
URL:https://fpcdarien.com/event/mens-bible-study/2024-01-27/
LOCATION:Adult Sunday School room
END:VEVENT
BEGIN:VEVENT
DTSTART;TZID=America/New_York:20240123T110000
DTEND;TZID=America/New_York:20240123T120000
DTSTAMP:20260425T093718
CREATED:20230524T160321Z
LAST-MODIFIED:20230524T160849Z
UID:10000544-1706007600-1706011200@fpcdarien.com
SUMMARY:Women's Bible Study
DESCRIPTION:
URL:https://fpcdarien.com/event/womens-bible-study/2024-01-23/
LOCATION:Adult Sunday School room
END:VEVENT
BEGIN:VEVENT
DTSTART;TZID=America/New_York:20240121T093000
DTEND;TZID=America/New_York:20240121T103000
DTSTAMP:20260425T093718
CREATED:20230525T135738Z
LAST-MODIFIED:20230525T135738Z
UID:10001126-1705829400-1705833000@fpcdarien.com
SUMMARY:Adult Sunday School
DESCRIPTION:
URL:https://fpcdarien.com/event/adult-sunday-school/2024-01-21/
LOCATION:Adult Sunday School room
END:VEVENT
BEGIN:VEVENT
DTSTART;TZID=America/New_York:20240120T100000
DTEND;TZID=America/New_York:20240120T110000
DTSTAMP:20260425T093718
CREATED:20230524T161020Z
LAST-MODIFIED:20230524T161020Z
UID:10000805-1705744800-1705748400@fpcdarien.com
SUMMARY:Men's Bible Study
DESCRIPTION:
URL:https://fpcdarien.com/event/mens-bible-study/2024-01-20/
LOCATION:Adult Sunday School room
END:VEVENT
BEGIN:VEVENT
DTSTART;TZID=America/New_York:20240116T110000
DTEND;TZID=America/New_York:20240116T120000
DTSTAMP:20260425T093718
CREATED:20230524T160321Z
LAST-MODIFIED:20230524T160849Z
UID:10000543-1705402800-1705406400@fpcdarien.com
SUMMARY:Women's Bible Study
DESCRIPTION:
URL:https://fpcdarien.com/event/womens-bible-study/2024-01-16/
LOCATION:Adult Sunday School room
END:VEVENT
BEGIN:VEVENT
DTSTART;TZID=America/New_York:20240114T093000
DTEND;TZID=America/New_York:20240114T103000
DTSTAMP:20260425T093718
CREATED:20230525T135738Z
LAST-MODIFIED:20230525T135738Z
UID:10001125-1705224600-1705228200@fpcdarien.com
SUMMARY:Adult Sunday School
DESCRIPTION:
URL:https://fpcdarien.com/event/adult-sunday-school/2024-01-14/
LOCATION:Adult Sunday School room
END:VEVENT
BEGIN:VEVENT
DTSTART;TZID=America/New_York:20240113T100000
DTEND;TZID=America/New_York:20240113T110000
DTSTAMP:20260425T093718
CREATED:20230524T161020Z
LAST-MODIFIED:20230524T161020Z
UID:10000804-1705140000-1705143600@fpcdarien.com
SUMMARY:Men's Bible Study
DESCRIPTION:
URL:https://fpcdarien.com/event/mens-bible-study/2024-01-13/
LOCATION:Adult Sunday School room
END:VEVENT
BEGIN:VEVENT
DTSTART;TZID=America/New_York:20240109T110000
DTEND;TZID=America/New_York:20240109T120000
DTSTAMP:20260425T093718
CREATED:20230524T160321Z
LAST-MODIFIED:20230524T160849Z
UID:10000542-1704798000-1704801600@fpcdarien.com
SUMMARY:Women's Bible Study
DESCRIPTION:
URL:https://fpcdarien.com/event/womens-bible-study/2024-01-09/
LOCATION:Adult Sunday School room
END:VEVENT
BEGIN:VEVENT
DTSTART;TZID=America/New_York:20240108T100000
DTEND;TZID=America/New_York:20240108T110000
DTSTAMP:20260425T093718
CREATED:20230525T140937Z
LAST-MODIFIED:20230525T140937Z
UID:10001541-1704708000-1704711600@fpcdarien.com
SUMMARY:Session
DESCRIPTION:
URL:https://fpcdarien.com/event/session/2024-01-08/
LOCATION:Adult Sunday School room
END:VEVENT
BEGIN:VEVENT
DTSTART;TZID=America/New_York:20240107T093000
DTEND;TZID=America/New_York:20240107T103000
DTSTAMP:20260425T093718
CREATED:20230525T135738Z
LAST-MODIFIED:20230525T135738Z
UID:10001124-1704619800-1704623400@fpcdarien.com
SUMMARY:Adult Sunday School
DESCRIPTION:
URL:https://fpcdarien.com/event/adult-sunday-school/2024-01-07/
LOCATION:Adult Sunday School room
END:VEVENT
BEGIN:VEVENT
DTSTART;TZID=America/New_York:20240106T100000
DTEND;TZID=America/New_York:20240106T110000
DTSTAMP:20260425T093718
CREATED:20230524T161020Z
LAST-MODIFIED:20230524T161020Z
UID:10000803-1704535200-1704538800@fpcdarien.com
SUMMARY:Men's Bible Study
DESCRIPTION:
URL:https://fpcdarien.com/event/mens-bible-study/2024-01-06/
LOCATION:Adult Sunday School room
END:VEVENT
BEGIN:VEVENT
DTSTART;TZID=America/New_York:20240102T110000
DTEND;TZID=America/New_York:20240102T120000
DTSTAMP:20260425T093718
CREATED:20230524T160321Z
LAST-MODIFIED:20230524T160849Z
UID:10000541-1704193200-1704196800@fpcdarien.com
SUMMARY:Women's Bible Study
DESCRIPTION:
URL:https://fpcdarien.com/event/womens-bible-study/2024-01-02/
LOCATION:Adult Sunday School room
END:VEVENT
BEGIN:VEVENT
DTSTART;TZID=America/New_York:20231231T093000
DTEND;TZID=America/New_York:20231231T103000
DTSTAMP:20260425T093718
CREATED:20230525T135738Z
LAST-MODIFIED:20230525T135738Z
UID:10001123-1704015000-1704018600@fpcdarien.com
SUMMARY:Adult Sunday School
DESCRIPTION:
URL:https://fpcdarien.com/event/adult-sunday-school/2023-12-31/
LOCATION:Adult Sunday School room
END:VEVENT
BEGIN:VEVENT
DTSTART;TZID=America/New_York:20231230T100000
DTEND;TZID=America/New_York:20231230T110000
DTSTAMP:20260425T093718
CREATED:20230524T161020Z
LAST-MODIFIED:20230524T161020Z
UID:10000802-1703930400-1703934000@fpcdarien.com
SUMMARY:Men's Bible Study
DESCRIPTION:
URL:https://fpcdarien.com/event/mens-bible-study/2023-12-30/
LOCATION:Adult Sunday School room
END:VEVENT
BEGIN:VEVENT
DTSTART;TZID=America/New_York:20231226T110000
DTEND;TZID=America/New_York:20231226T120000
DTSTAMP:20260425T093718
CREATED:20230524T160321Z
LAST-MODIFIED:20230524T160849Z
UID:10000540-1703588400-1703592000@fpcdarien.com
SUMMARY:Women's Bible Study
DESCRIPTION:
URL:https://fpcdarien.com/event/womens-bible-study/2023-12-26/
LOCATION:Adult Sunday School room
END:VEVENT
BEGIN:VEVENT
DTSTART;TZID=America/New_York:20231224T093000
DTEND;TZID=America/New_York:20231224T103000
DTSTAMP:20260425T093718
CREATED:20230525T135738Z
LAST-MODIFIED:20230525T135738Z
UID:10001122-1703410200-1703413800@fpcdarien.com
SUMMARY:Adult Sunday School
DESCRIPTION:
URL:https://fpcdarien.com/event/adult-sunday-school/2023-12-24/
LOCATION:Adult Sunday School room
END:VEVENT
BEGIN:VEVENT
DTSTART;TZID=America/New_York:20231223T100000
DTEND;TZID=America/New_York:20231223T110000
DTSTAMP:20260425T093718
CREATED:20230524T161020Z
LAST-MODIFIED:20230524T161020Z
UID:10000801-1703325600-1703329200@fpcdarien.com
SUMMARY:Men's Bible Study
DESCRIPTION:
URL:https://fpcdarien.com/event/mens-bible-study/2023-12-23/
LOCATION:Adult Sunday School room
END:VEVENT
BEGIN:VEVENT
DTSTART;TZID=America/New_York:20231219T110000
DTEND;TZID=America/New_York:20231219T120000
DTSTAMP:20260425T093718
CREATED:20230524T160321Z
LAST-MODIFIED:20230524T160849Z
UID:10000539-1702983600-1702987200@fpcdarien.com
SUMMARY:Women's Bible Study
DESCRIPTION:
URL:https://fpcdarien.com/event/womens-bible-study/2023-12-19/
LOCATION:Adult Sunday School room
END:VEVENT
BEGIN:VEVENT
DTSTART;TZID=America/New_York:20231217T093000
DTEND;TZID=America/New_York:20231217T103000
DTSTAMP:20260425T093718
CREATED:20230525T135738Z
LAST-MODIFIED:20230525T135738Z
UID:10001121-1702805400-1702809000@fpcdarien.com
SUMMARY:Adult Sunday School
DESCRIPTION:
URL:https://fpcdarien.com/event/adult-sunday-school/2023-12-17/
LOCATION:Adult Sunday School room
END:VEVENT
BEGIN:VEVENT
DTSTART;TZID=America/New_York:20231216T100000
DTEND;TZID=America/New_York:20231216T110000
DTSTAMP:20260425T093718
CREATED:20230524T161020Z
LAST-MODIFIED:20230524T161020Z
UID:10000800-1702720800-1702724400@fpcdarien.com
SUMMARY:Men's Bible Study
DESCRIPTION:
URL:https://fpcdarien.com/event/mens-bible-study/2023-12-16/
LOCATION:Adult Sunday School room
END:VEVENT
BEGIN:VEVENT
DTSTART;TZID=America/New_York:20231212T110000
DTEND;TZID=America/New_York:20231212T120000
DTSTAMP:20260425T093718
CREATED:20230524T160321Z
LAST-MODIFIED:20230524T160849Z
UID:10000538-1702378800-1702382400@fpcdarien.com
SUMMARY:Women's Bible Study
DESCRIPTION:
URL:https://fpcdarien.com/event/womens-bible-study/2023-12-12/
LOCATION:Adult Sunday School room
END:VEVENT
BEGIN:VEVENT
DTSTART;TZID=America/New_York:20231211T100000
DTEND;TZID=America/New_York:20231211T110000
DTSTAMP:20260425T093718
CREATED:20230525T140937Z
LAST-MODIFIED:20230525T140937Z
UID:10001540-1702288800-1702292400@fpcdarien.com
SUMMARY:Session
DESCRIPTION:
URL:https://fpcdarien.com/event/session/2023-12-11/
LOCATION:Adult Sunday School room
END:VEVENT
BEGIN:VEVENT
DTSTART;TZID=America/New_York:20231210T093000
DTEND;TZID=America/New_York:20231210T103000
DTSTAMP:20260425T093718
CREATED:20230525T135738Z
LAST-MODIFIED:20230525T135738Z
UID:10001120-1702200600-1702204200@fpcdarien.com
SUMMARY:Adult Sunday School
DESCRIPTION:
URL:https://fpcdarien.com/event/adult-sunday-school/2023-12-10/
LOCATION:Adult Sunday School room
END:VEVENT
END:VCALENDAR