BEGIN:VCALENDAR
VERSION:2.0
PRODID:-//First Presbyterian Church of Darien - ECPv6.15.20//NONSGML v1.0//EN
CALSCALE:GREGORIAN
METHOD:PUBLISH
X-ORIGINAL-URL:https://fpcdarien.com
X-WR-CALDESC:Events for First Presbyterian Church of Darien
REFRESH-INTERVAL;VALUE=DURATION:PT1H
X-Robots-Tag:noindex
X-PUBLISHED-TTL:PT1H
BEGIN:VTIMEZONE
TZID:America/New_York
BEGIN:DAYLIGHT
TZOFFSETFROM:-0500
TZOFFSETTO:-0400
TZNAME:EDT
DTSTART:20230312T070000
END:DAYLIGHT
BEGIN:STANDARD
TZOFFSETFROM:-0400
TZOFFSETTO:-0500
TZNAME:EST
DTSTART:20231105T060000
END:STANDARD
BEGIN:DAYLIGHT
TZOFFSETFROM:-0500
TZOFFSETTO:-0400
TZNAME:EDT
DTSTART:20240310T070000
END:DAYLIGHT
BEGIN:STANDARD
TZOFFSETFROM:-0400
TZOFFSETTO:-0500
TZNAME:EST
DTSTART:20241103T060000
END:STANDARD
BEGIN:DAYLIGHT
TZOFFSETFROM:-0500
TZOFFSETTO:-0400
TZNAME:EDT
DTSTART:20250309T070000
END:DAYLIGHT
BEGIN:STANDARD
TZOFFSETFROM:-0400
TZOFFSETTO:-0500
TZNAME:EST
DTSTART:20251102T060000
END:STANDARD
END:VTIMEZONE
BEGIN:VEVENT
DTSTART;TZID=America/New_York:20240324T093000
DTEND;TZID=America/New_York:20240324T103000
DTSTAMP:20260425T063200
CREATED:20230525T135738Z
LAST-MODIFIED:20230525T135738Z
UID:10001135-1711272600-1711276200@fpcdarien.com
SUMMARY:Adult Sunday School
DESCRIPTION:
URL:https://fpcdarien.com/event/adult-sunday-school/2024-03-24/
LOCATION:Adult Sunday School room
END:VEVENT
BEGIN:VEVENT
DTSTART;TZID=America/New_York:20240323T100000
DTEND;TZID=America/New_York:20240323T110000
DTSTAMP:20260425T063200
CREATED:20230524T161020Z
LAST-MODIFIED:20230524T161020Z
UID:10000814-1711188000-1711191600@fpcdarien.com
SUMMARY:Men's Bible Study
DESCRIPTION:
URL:https://fpcdarien.com/event/mens-bible-study/2024-03-23/
LOCATION:Adult Sunday School room
END:VEVENT
BEGIN:VEVENT
DTSTART;TZID=America/New_York:20240319T110000
DTEND;TZID=America/New_York:20240319T120000
DTSTAMP:20260425T063200
CREATED:20230524T160321Z
LAST-MODIFIED:20230524T160849Z
UID:10000552-1710846000-1710849600@fpcdarien.com
SUMMARY:Women's Bible Study
DESCRIPTION:
URL:https://fpcdarien.com/event/womens-bible-study/2024-03-19/
LOCATION:Adult Sunday School room
END:VEVENT
BEGIN:VEVENT
DTSTART;TZID=America/New_York:20240317T093000
DTEND;TZID=America/New_York:20240317T103000
DTSTAMP:20260425T063200
CREATED:20230525T135738Z
LAST-MODIFIED:20230525T135738Z
UID:10001134-1710667800-1710671400@fpcdarien.com
SUMMARY:Adult Sunday School
DESCRIPTION:
URL:https://fpcdarien.com/event/adult-sunday-school/2024-03-17/
LOCATION:Adult Sunday School room
END:VEVENT
BEGIN:VEVENT
DTSTART;TZID=America/New_York:20240316T100000
DTEND;TZID=America/New_York:20240316T110000
DTSTAMP:20260425T063200
CREATED:20230524T161020Z
LAST-MODIFIED:20230524T161020Z
UID:10000813-1710583200-1710586800@fpcdarien.com
SUMMARY:Men's Bible Study
DESCRIPTION:
URL:https://fpcdarien.com/event/mens-bible-study/2024-03-16/
LOCATION:Adult Sunday School room
END:VEVENT
BEGIN:VEVENT
DTSTART;TZID=America/New_York:20240312T110000
DTEND;TZID=America/New_York:20240312T120000
DTSTAMP:20260425T063200
CREATED:20230524T160321Z
LAST-MODIFIED:20230524T160849Z
UID:10000551-1710241200-1710244800@fpcdarien.com
SUMMARY:Women's Bible Study
DESCRIPTION:
URL:https://fpcdarien.com/event/womens-bible-study/2024-03-12/
LOCATION:Adult Sunday School room
END:VEVENT
BEGIN:VEVENT
DTSTART;TZID=America/New_York:20240311T100000
DTEND;TZID=America/New_York:20240311T110000
DTSTAMP:20260425T063200
CREATED:20230525T140937Z
LAST-MODIFIED:20230525T140937Z
UID:10001543-1710151200-1710154800@fpcdarien.com
SUMMARY:Session
DESCRIPTION:
URL:https://fpcdarien.com/event/session/2024-03-11/
LOCATION:Adult Sunday School room
END:VEVENT
BEGIN:VEVENT
DTSTART;TZID=America/New_York:20240310T093000
DTEND;TZID=America/New_York:20240310T103000
DTSTAMP:20260425T063200
CREATED:20230525T135738Z
LAST-MODIFIED:20230525T135738Z
UID:10001133-1710063000-1710066600@fpcdarien.com
SUMMARY:Adult Sunday School
DESCRIPTION:
URL:https://fpcdarien.com/event/adult-sunday-school/2024-03-10/
LOCATION:Adult Sunday School room
END:VEVENT
BEGIN:VEVENT
DTSTART;TZID=America/New_York:20240309T100000
DTEND;TZID=America/New_York:20240309T110000
DTSTAMP:20260425T063200
CREATED:20230524T161020Z
LAST-MODIFIED:20230524T161020Z
UID:10000812-1709978400-1709982000@fpcdarien.com
SUMMARY:Men's Bible Study
DESCRIPTION:
URL:https://fpcdarien.com/event/mens-bible-study/2024-03-09/
LOCATION:Adult Sunday School room
END:VEVENT
BEGIN:VEVENT
DTSTART;TZID=America/New_York:20240305T110000
DTEND;TZID=America/New_York:20240305T120000
DTSTAMP:20260425T063200
CREATED:20230524T160321Z
LAST-MODIFIED:20230524T160849Z
UID:10000550-1709636400-1709640000@fpcdarien.com
SUMMARY:Women's Bible Study
DESCRIPTION:
URL:https://fpcdarien.com/event/womens-bible-study/2024-03-05/
LOCATION:Adult Sunday School room
END:VEVENT
BEGIN:VEVENT
DTSTART;TZID=America/New_York:20240303T093000
DTEND;TZID=America/New_York:20240303T103000
DTSTAMP:20260425T063200
CREATED:20230525T135738Z
LAST-MODIFIED:20230525T135738Z
UID:10001132-1709458200-1709461800@fpcdarien.com
SUMMARY:Adult Sunday School
DESCRIPTION:
URL:https://fpcdarien.com/event/adult-sunday-school/2024-03-03/
LOCATION:Adult Sunday School room
END:VEVENT
BEGIN:VEVENT
DTSTART;TZID=America/New_York:20240302T100000
DTEND;TZID=America/New_York:20240302T110000
DTSTAMP:20260425T063200
CREATED:20230524T161020Z
LAST-MODIFIED:20230524T161020Z
UID:10000811-1709373600-1709377200@fpcdarien.com
SUMMARY:Men's Bible Study
DESCRIPTION:
URL:https://fpcdarien.com/event/mens-bible-study/2024-03-02/
LOCATION:Adult Sunday School room
END:VEVENT
BEGIN:VEVENT
DTSTART;TZID=America/New_York:20240227T110000
DTEND;TZID=America/New_York:20240227T120000
DTSTAMP:20260425T063200
CREATED:20230524T160321Z
LAST-MODIFIED:20230524T160849Z
UID:10000549-1709031600-1709035200@fpcdarien.com
SUMMARY:Women's Bible Study
DESCRIPTION:
URL:https://fpcdarien.com/event/womens-bible-study/2024-02-27/
LOCATION:Adult Sunday School room
END:VEVENT
BEGIN:VEVENT
DTSTART;TZID=America/New_York:20240225T093000
DTEND;TZID=America/New_York:20240225T103000
DTSTAMP:20260425T063200
CREATED:20230525T135738Z
LAST-MODIFIED:20230525T135738Z
UID:10001131-1708853400-1708857000@fpcdarien.com
SUMMARY:Adult Sunday School
DESCRIPTION:
URL:https://fpcdarien.com/event/adult-sunday-school/2024-02-25/
LOCATION:Adult Sunday School room
END:VEVENT
BEGIN:VEVENT
DTSTART;TZID=America/New_York:20240224T100000
DTEND;TZID=America/New_York:20240224T110000
DTSTAMP:20260425T063200
CREATED:20230524T161020Z
LAST-MODIFIED:20230524T161020Z
UID:10000810-1708768800-1708772400@fpcdarien.com
SUMMARY:Men's Bible Study
DESCRIPTION:
URL:https://fpcdarien.com/event/mens-bible-study/2024-02-24/
LOCATION:Adult Sunday School room
END:VEVENT
BEGIN:VEVENT
DTSTART;TZID=America/New_York:20240220T110000
DTEND;TZID=America/New_York:20240220T120000
DTSTAMP:20260425T063200
CREATED:20230524T160321Z
LAST-MODIFIED:20230524T160849Z
UID:10000548-1708426800-1708430400@fpcdarien.com
SUMMARY:Women's Bible Study
DESCRIPTION:
URL:https://fpcdarien.com/event/womens-bible-study/2024-02-20/
LOCATION:Adult Sunday School room
END:VEVENT
BEGIN:VEVENT
DTSTART;TZID=America/New_York:20240218T093000
DTEND;TZID=America/New_York:20240218T103000
DTSTAMP:20260425T063200
CREATED:20230525T135738Z
LAST-MODIFIED:20230525T135738Z
UID:10001130-1708248600-1708252200@fpcdarien.com
SUMMARY:Adult Sunday School
DESCRIPTION:
URL:https://fpcdarien.com/event/adult-sunday-school/2024-02-18/
LOCATION:Adult Sunday School room
END:VEVENT
BEGIN:VEVENT
DTSTART;TZID=America/New_York:20240217T100000
DTEND;TZID=America/New_York:20240217T110000
DTSTAMP:20260425T063200
CREATED:20230524T161020Z
LAST-MODIFIED:20230524T161020Z
UID:10000809-1708164000-1708167600@fpcdarien.com
SUMMARY:Men's Bible Study
DESCRIPTION:
URL:https://fpcdarien.com/event/mens-bible-study/2024-02-17/
LOCATION:Adult Sunday School room
END:VEVENT
BEGIN:VEVENT
DTSTART;TZID=America/New_York:20240213T110000
DTEND;TZID=America/New_York:20240213T120000
DTSTAMP:20260425T063200
CREATED:20230524T160321Z
LAST-MODIFIED:20230524T160849Z
UID:10000547-1707822000-1707825600@fpcdarien.com
SUMMARY:Women's Bible Study
DESCRIPTION:
URL:https://fpcdarien.com/event/womens-bible-study/2024-02-13/
LOCATION:Adult Sunday School room
END:VEVENT
BEGIN:VEVENT
DTSTART;TZID=America/New_York:20240212T100000
DTEND;TZID=America/New_York:20240212T110000
DTSTAMP:20260425T063200
CREATED:20230525T140937Z
LAST-MODIFIED:20230525T140937Z
UID:10001542-1707732000-1707735600@fpcdarien.com
SUMMARY:Session
DESCRIPTION:
URL:https://fpcdarien.com/event/session/2024-02-12/
LOCATION:Adult Sunday School room
END:VEVENT
BEGIN:VEVENT
DTSTART;TZID=America/New_York:20240211T093000
DTEND;TZID=America/New_York:20240211T103000
DTSTAMP:20260425T063200
CREATED:20230525T135738Z
LAST-MODIFIED:20230525T135738Z
UID:10001129-1707643800-1707647400@fpcdarien.com
SUMMARY:Adult Sunday School
DESCRIPTION:
URL:https://fpcdarien.com/event/adult-sunday-school/2024-02-11/
LOCATION:Adult Sunday School room
END:VEVENT
BEGIN:VEVENT
DTSTART;TZID=America/New_York:20240210T100000
DTEND;TZID=America/New_York:20240210T110000
DTSTAMP:20260425T063200
CREATED:20230524T161020Z
LAST-MODIFIED:20230524T161020Z
UID:10000808-1707559200-1707562800@fpcdarien.com
SUMMARY:Men's Bible Study
DESCRIPTION:
URL:https://fpcdarien.com/event/mens-bible-study/2024-02-10/
LOCATION:Adult Sunday School room
END:VEVENT
BEGIN:VEVENT
DTSTART;TZID=America/New_York:20240206T110000
DTEND;TZID=America/New_York:20240206T120000
DTSTAMP:20260425T063200
CREATED:20230524T160321Z
LAST-MODIFIED:20230524T160849Z
UID:10000546-1707217200-1707220800@fpcdarien.com
SUMMARY:Women's Bible Study
DESCRIPTION:
URL:https://fpcdarien.com/event/womens-bible-study/2024-02-06/
LOCATION:Adult Sunday School room
END:VEVENT
BEGIN:VEVENT
DTSTART;TZID=America/New_York:20240204T093000
DTEND;TZID=America/New_York:20240204T103000
DTSTAMP:20260425T063200
CREATED:20230525T135738Z
LAST-MODIFIED:20230525T135738Z
UID:10001128-1707039000-1707042600@fpcdarien.com
SUMMARY:Adult Sunday School
DESCRIPTION:
URL:https://fpcdarien.com/event/adult-sunday-school/2024-02-04/
LOCATION:Adult Sunday School room
END:VEVENT
BEGIN:VEVENT
DTSTART;TZID=America/New_York:20240203T100000
DTEND;TZID=America/New_York:20240203T110000
DTSTAMP:20260425T063200
CREATED:20230524T161020Z
LAST-MODIFIED:20230524T161020Z
UID:10000807-1706954400-1706958000@fpcdarien.com
SUMMARY:Men's Bible Study
DESCRIPTION:
URL:https://fpcdarien.com/event/mens-bible-study/2024-02-03/
LOCATION:Adult Sunday School room
END:VEVENT
BEGIN:VEVENT
DTSTART;TZID=America/New_York:20240130T110000
DTEND;TZID=America/New_York:20240130T120000
DTSTAMP:20260425T063200
CREATED:20230524T160321Z
LAST-MODIFIED:20230524T160849Z
UID:10000545-1706612400-1706616000@fpcdarien.com
SUMMARY:Women's Bible Study
DESCRIPTION:
URL:https://fpcdarien.com/event/womens-bible-study/2024-01-30/
LOCATION:Adult Sunday School room
END:VEVENT
BEGIN:VEVENT
DTSTART;TZID=America/New_York:20240128T093000
DTEND;TZID=America/New_York:20240128T103000
DTSTAMP:20260425T063200
CREATED:20230525T135738Z
LAST-MODIFIED:20230525T135738Z
UID:10001127-1706434200-1706437800@fpcdarien.com
SUMMARY:Adult Sunday School
DESCRIPTION:
URL:https://fpcdarien.com/event/adult-sunday-school/2024-01-28/
LOCATION:Adult Sunday School room
END:VEVENT
BEGIN:VEVENT
DTSTART;TZID=America/New_York:20240127T100000
DTEND;TZID=America/New_York:20240127T110000
DTSTAMP:20260425T063200
CREATED:20230524T161020Z
LAST-MODIFIED:20230524T161020Z
UID:10000806-1706349600-1706353200@fpcdarien.com
SUMMARY:Men's Bible Study
DESCRIPTION:
URL:https://fpcdarien.com/event/mens-bible-study/2024-01-27/
LOCATION:Adult Sunday School room
END:VEVENT
BEGIN:VEVENT
DTSTART;TZID=America/New_York:20240123T110000
DTEND;TZID=America/New_York:20240123T120000
DTSTAMP:20260425T063200
CREATED:20230524T160321Z
LAST-MODIFIED:20230524T160849Z
UID:10000544-1706007600-1706011200@fpcdarien.com
SUMMARY:Women's Bible Study
DESCRIPTION:
URL:https://fpcdarien.com/event/womens-bible-study/2024-01-23/
LOCATION:Adult Sunday School room
END:VEVENT
BEGIN:VEVENT
DTSTART;TZID=America/New_York:20240121T093000
DTEND;TZID=America/New_York:20240121T103000
DTSTAMP:20260425T063200
CREATED:20230525T135738Z
LAST-MODIFIED:20230525T135738Z
UID:10001126-1705829400-1705833000@fpcdarien.com
SUMMARY:Adult Sunday School
DESCRIPTION:
URL:https://fpcdarien.com/event/adult-sunday-school/2024-01-21/
LOCATION:Adult Sunday School room
END:VEVENT
END:VCALENDAR