BEGIN:VCALENDAR
VERSION:2.0
PRODID:-//First Presbyterian Church of Darien - ECPv6.15.20//NONSGML v1.0//EN
CALSCALE:GREGORIAN
METHOD:PUBLISH
X-ORIGINAL-URL:https://fpcdarien.com
X-WR-CALDESC:Events for First Presbyterian Church of Darien
REFRESH-INTERVAL;VALUE=DURATION:PT1H
X-Robots-Tag:noindex
X-PUBLISHED-TTL:PT1H
BEGIN:VTIMEZONE
TZID:America/New_York
BEGIN:DAYLIGHT
TZOFFSETFROM:-0500
TZOFFSETTO:-0400
TZNAME:EDT
DTSTART:20270314T070000
END:DAYLIGHT
BEGIN:STANDARD
TZOFFSETFROM:-0400
TZOFFSETTO:-0500
TZNAME:EST
DTSTART:20271107T060000
END:STANDARD
BEGIN:DAYLIGHT
TZOFFSETFROM:-0500
TZOFFSETTO:-0400
TZNAME:EDT
DTSTART:20280312T070000
END:DAYLIGHT
BEGIN:STANDARD
TZOFFSETFROM:-0400
TZOFFSETTO:-0500
TZNAME:EST
DTSTART:20281105T060000
END:STANDARD
BEGIN:DAYLIGHT
TZOFFSETFROM:-0500
TZOFFSETTO:-0400
TZNAME:EDT
DTSTART:20290311T070000
END:DAYLIGHT
BEGIN:STANDARD
TZOFFSETFROM:-0400
TZOFFSETTO:-0500
TZNAME:EST
DTSTART:20291104T060000
END:STANDARD
END:VTIMEZONE
BEGIN:VEVENT
DTSTART;TZID=America/New_York:20280226T100000
DTEND;TZID=America/New_York:20280226T110000
DTSTAMP:20260424T234721
CREATED:20230524T161020Z
LAST-MODIFIED:20230524T161020Z
UID:10001019-1835172000-1835175600@fpcdarien.com
SUMMARY:Men's Bible Study
DESCRIPTION:
URL:https://fpcdarien.com/event/mens-bible-study/2028-02-26/
LOCATION:Adult Sunday School room
END:VEVENT
BEGIN:VEVENT
DTSTART;TZID=America/New_York:20280227T093000
DTEND;TZID=America/New_York:20280227T103000
DTSTAMP:20260424T234721
CREATED:20230525T135738Z
LAST-MODIFIED:20230525T135738Z
UID:10001340-1835256600-1835260200@fpcdarien.com
SUMMARY:Adult Sunday School
DESCRIPTION:
URL:https://fpcdarien.com/event/adult-sunday-school/2028-02-27/
LOCATION:Adult Sunday School room
END:VEVENT
BEGIN:VEVENT
DTSTART;TZID=America/New_York:20280301T110000
DTEND;TZID=America/New_York:20280301T120000
DTSTAMP:20260424T234721
CREATED:20260414T192812Z
LAST-MODIFIED:20260414T192812Z
UID:10001818-1835521200-1835524800@fpcdarien.com
SUMMARY:Women's Bible Study
DESCRIPTION:
URL:https://fpcdarien.com/event/womens-bible-study-2/2028-03-01/
LOCATION:Adult Sunday School room
END:VEVENT
BEGIN:VEVENT
DTSTART;TZID=America/New_York:20280304T100000
DTEND;TZID=America/New_York:20280304T110000
DTSTAMP:20260424T234721
CREATED:20230524T161020Z
LAST-MODIFIED:20230524T161020Z
UID:10001020-1835776800-1835780400@fpcdarien.com
SUMMARY:Men's Bible Study
DESCRIPTION:
URL:https://fpcdarien.com/event/mens-bible-study/2028-03-04/
LOCATION:Adult Sunday School room
END:VEVENT
BEGIN:VEVENT
DTSTART;TZID=America/New_York:20280305T093000
DTEND;TZID=America/New_York:20280305T103000
DTSTAMP:20260424T234721
CREATED:20230525T135738Z
LAST-MODIFIED:20230525T135738Z
UID:10001341-1835861400-1835865000@fpcdarien.com
SUMMARY:Adult Sunday School
DESCRIPTION:
URL:https://fpcdarien.com/event/adult-sunday-school/2028-03-05/
LOCATION:Adult Sunday School room
END:VEVENT
BEGIN:VEVENT
DTSTART;TZID=America/New_York:20280308T110000
DTEND;TZID=America/New_York:20280308T120000
DTSTAMP:20260424T234721
CREATED:20260414T192812Z
LAST-MODIFIED:20260414T192812Z
UID:10001819-1836126000-1836129600@fpcdarien.com
SUMMARY:Women's Bible Study
DESCRIPTION:
URL:https://fpcdarien.com/event/womens-bible-study-2/2028-03-08/
LOCATION:Adult Sunday School room
END:VEVENT
BEGIN:VEVENT
DTSTART;TZID=America/New_York:20280311T100000
DTEND;TZID=America/New_York:20280311T110000
DTSTAMP:20260424T234721
CREATED:20230524T161020Z
LAST-MODIFIED:20230524T161020Z
UID:10001021-1836381600-1836385200@fpcdarien.com
SUMMARY:Men's Bible Study
DESCRIPTION:
URL:https://fpcdarien.com/event/mens-bible-study/2028-03-11/
LOCATION:Adult Sunday School room
END:VEVENT
BEGIN:VEVENT
DTSTART;TZID=America/New_York:20280312T093000
DTEND;TZID=America/New_York:20280312T103000
DTSTAMP:20260424T234721
CREATED:20230525T135738Z
LAST-MODIFIED:20230525T135738Z
UID:10001342-1836466200-1836469800@fpcdarien.com
SUMMARY:Adult Sunday School
DESCRIPTION:
URL:https://fpcdarien.com/event/adult-sunday-school/2028-03-12/
LOCATION:Adult Sunday School room
END:VEVENT
BEGIN:VEVENT
DTSTART;TZID=America/New_York:20280313T100000
DTEND;TZID=America/New_York:20280313T110000
DTSTAMP:20260424T234721
CREATED:20230525T140937Z
LAST-MODIFIED:20230525T140937Z
UID:10001591-1836554400-1836558000@fpcdarien.com
SUMMARY:Session
DESCRIPTION:
URL:https://fpcdarien.com/event/session/2028-03-13/
LOCATION:Adult Sunday School room
END:VEVENT
BEGIN:VEVENT
DTSTART;TZID=America/New_York:20280315T110000
DTEND;TZID=America/New_York:20280315T120000
DTSTAMP:20260424T234721
CREATED:20260414T192812Z
LAST-MODIFIED:20260414T192812Z
UID:10001820-1836730800-1836734400@fpcdarien.com
SUMMARY:Women's Bible Study
DESCRIPTION:
URL:https://fpcdarien.com/event/womens-bible-study-2/2028-03-15/
LOCATION:Adult Sunday School room
END:VEVENT
BEGIN:VEVENT
DTSTART;TZID=America/New_York:20280318T100000
DTEND;TZID=America/New_York:20280318T110000
DTSTAMP:20260424T234721
CREATED:20230524T161020Z
LAST-MODIFIED:20230524T161020Z
UID:10001022-1836986400-1836990000@fpcdarien.com
SUMMARY:Men's Bible Study
DESCRIPTION:
URL:https://fpcdarien.com/event/mens-bible-study/2028-03-18/
LOCATION:Adult Sunday School room
END:VEVENT
BEGIN:VEVENT
DTSTART;TZID=America/New_York:20280319T093000
DTEND;TZID=America/New_York:20280319T103000
DTSTAMP:20260424T234721
CREATED:20230525T135738Z
LAST-MODIFIED:20230525T135738Z
UID:10001343-1837071000-1837074600@fpcdarien.com
SUMMARY:Adult Sunday School
DESCRIPTION:
URL:https://fpcdarien.com/event/adult-sunday-school/2028-03-19/
LOCATION:Adult Sunday School room
END:VEVENT
BEGIN:VEVENT
DTSTART;TZID=America/New_York:20280322T110000
DTEND;TZID=America/New_York:20280322T120000
DTSTAMP:20260424T234721
CREATED:20260414T192812Z
LAST-MODIFIED:20260414T192812Z
UID:10001821-1837335600-1837339200@fpcdarien.com
SUMMARY:Women's Bible Study
DESCRIPTION:
URL:https://fpcdarien.com/event/womens-bible-study-2/2028-03-22/
LOCATION:Adult Sunday School room
END:VEVENT
BEGIN:VEVENT
DTSTART;TZID=America/New_York:20280325T100000
DTEND;TZID=America/New_York:20280325T110000
DTSTAMP:20260424T234721
CREATED:20230524T161020Z
LAST-MODIFIED:20230524T161020Z
UID:10001023-1837591200-1837594800@fpcdarien.com
SUMMARY:Men's Bible Study
DESCRIPTION:
URL:https://fpcdarien.com/event/mens-bible-study/2028-03-25/
LOCATION:Adult Sunday School room
END:VEVENT
BEGIN:VEVENT
DTSTART;TZID=America/New_York:20280326T093000
DTEND;TZID=America/New_York:20280326T103000
DTSTAMP:20260424T234721
CREATED:20230525T135738Z
LAST-MODIFIED:20230525T135738Z
UID:10001344-1837675800-1837679400@fpcdarien.com
SUMMARY:Adult Sunday School
DESCRIPTION:
URL:https://fpcdarien.com/event/adult-sunday-school/2028-03-26/
LOCATION:Adult Sunday School room
END:VEVENT
BEGIN:VEVENT
DTSTART;TZID=America/New_York:20280329T110000
DTEND;TZID=America/New_York:20280329T120000
DTSTAMP:20260424T234722
CREATED:20260414T192812Z
LAST-MODIFIED:20260414T192812Z
UID:10001822-1837940400-1837944000@fpcdarien.com
SUMMARY:Women's Bible Study
DESCRIPTION:
URL:https://fpcdarien.com/event/womens-bible-study-2/2028-03-29/
LOCATION:Adult Sunday School room
END:VEVENT
BEGIN:VEVENT
DTSTART;TZID=America/New_York:20280401T100000
DTEND;TZID=America/New_York:20280401T110000
DTSTAMP:20260424T234722
CREATED:20230524T161020Z
LAST-MODIFIED:20230524T161020Z
UID:10001024-1838196000-1838199600@fpcdarien.com
SUMMARY:Men's Bible Study
DESCRIPTION:
URL:https://fpcdarien.com/event/mens-bible-study/2028-04-01/
LOCATION:Adult Sunday School room
END:VEVENT
BEGIN:VEVENT
DTSTART;TZID=America/New_York:20280402T093000
DTEND;TZID=America/New_York:20280402T103000
DTSTAMP:20260424T234722
CREATED:20230525T135738Z
LAST-MODIFIED:20230525T135738Z
UID:10001345-1838280600-1838284200@fpcdarien.com
SUMMARY:Adult Sunday School
DESCRIPTION:
URL:https://fpcdarien.com/event/adult-sunday-school/2028-04-02/
LOCATION:Adult Sunday School room
END:VEVENT
BEGIN:VEVENT
DTSTART;TZID=America/New_York:20280405T110000
DTEND;TZID=America/New_York:20280405T120000
DTSTAMP:20260424T234722
CREATED:20260414T192812Z
LAST-MODIFIED:20260414T192812Z
UID:10001823-1838545200-1838548800@fpcdarien.com
SUMMARY:Women's Bible Study
DESCRIPTION:
URL:https://fpcdarien.com/event/womens-bible-study-2/2028-04-05/
LOCATION:Adult Sunday School room
END:VEVENT
BEGIN:VEVENT
DTSTART;TZID=America/New_York:20280408T100000
DTEND;TZID=America/New_York:20280408T110000
DTSTAMP:20260424T234722
CREATED:20230524T161020Z
LAST-MODIFIED:20230524T161020Z
UID:10001025-1838800800-1838804400@fpcdarien.com
SUMMARY:Men's Bible Study
DESCRIPTION:
URL:https://fpcdarien.com/event/mens-bible-study/2028-04-08/
LOCATION:Adult Sunday School room
END:VEVENT
BEGIN:VEVENT
DTSTART;TZID=America/New_York:20280409T093000
DTEND;TZID=America/New_York:20280409T103000
DTSTAMP:20260424T234722
CREATED:20230525T135738Z
LAST-MODIFIED:20230525T135738Z
UID:10001346-1838885400-1838889000@fpcdarien.com
SUMMARY:Adult Sunday School
DESCRIPTION:
URL:https://fpcdarien.com/event/adult-sunday-school/2028-04-09/
LOCATION:Adult Sunday School room
END:VEVENT
BEGIN:VEVENT
DTSTART;TZID=America/New_York:20280410T100000
DTEND;TZID=America/New_York:20280410T110000
DTSTAMP:20260424T234722
CREATED:20230525T140937Z
LAST-MODIFIED:20230525T140937Z
UID:10001592-1838973600-1838977200@fpcdarien.com
SUMMARY:Session
DESCRIPTION:
URL:https://fpcdarien.com/event/session/2028-04-10/
LOCATION:Adult Sunday School room
END:VEVENT
BEGIN:VEVENT
DTSTART;TZID=America/New_York:20280412T110000
DTEND;TZID=America/New_York:20280412T120000
DTSTAMP:20260424T234722
CREATED:20260414T192812Z
LAST-MODIFIED:20260414T192812Z
UID:10001824-1839150000-1839153600@fpcdarien.com
SUMMARY:Women's Bible Study
DESCRIPTION:
URL:https://fpcdarien.com/event/womens-bible-study-2/2028-04-12/
LOCATION:Adult Sunday School room
END:VEVENT
BEGIN:VEVENT
DTSTART;TZID=America/New_York:20280415T100000
DTEND;TZID=America/New_York:20280415T110000
DTSTAMP:20260424T234722
CREATED:20230524T161020Z
LAST-MODIFIED:20230524T161020Z
UID:10001026-1839405600-1839409200@fpcdarien.com
SUMMARY:Men's Bible Study
DESCRIPTION:
URL:https://fpcdarien.com/event/mens-bible-study/2028-04-15/
LOCATION:Adult Sunday School room
END:VEVENT
BEGIN:VEVENT
DTSTART;TZID=America/New_York:20280416T093000
DTEND;TZID=America/New_York:20280416T103000
DTSTAMP:20260424T234722
CREATED:20230525T135738Z
LAST-MODIFIED:20230525T135738Z
UID:10001347-1839490200-1839493800@fpcdarien.com
SUMMARY:Adult Sunday School
DESCRIPTION:
URL:https://fpcdarien.com/event/adult-sunday-school/2028-04-16/
LOCATION:Adult Sunday School room
END:VEVENT
BEGIN:VEVENT
DTSTART;TZID=America/New_York:20280419T110000
DTEND;TZID=America/New_York:20280419T120000
DTSTAMP:20260424T234722
CREATED:20260414T192812Z
LAST-MODIFIED:20260414T192812Z
UID:10001825-1839754800-1839758400@fpcdarien.com
SUMMARY:Women's Bible Study
DESCRIPTION:
URL:https://fpcdarien.com/event/womens-bible-study-2/2028-04-19/
LOCATION:Adult Sunday School room
END:VEVENT
BEGIN:VEVENT
DTSTART;TZID=America/New_York:20280422T100000
DTEND;TZID=America/New_York:20280422T110000
DTSTAMP:20260424T234722
CREATED:20230524T161020Z
LAST-MODIFIED:20230524T161020Z
UID:10001027-1840010400-1840014000@fpcdarien.com
SUMMARY:Men's Bible Study
DESCRIPTION:
URL:https://fpcdarien.com/event/mens-bible-study/2028-04-22/
LOCATION:Adult Sunday School room
END:VEVENT
BEGIN:VEVENT
DTSTART;TZID=America/New_York:20280423T093000
DTEND;TZID=America/New_York:20280423T103000
DTSTAMP:20260424T234722
CREATED:20230525T135738Z
LAST-MODIFIED:20230525T135738Z
UID:10001348-1840095000-1840098600@fpcdarien.com
SUMMARY:Adult Sunday School
DESCRIPTION:
URL:https://fpcdarien.com/event/adult-sunday-school/2028-04-23/
LOCATION:Adult Sunday School room
END:VEVENT
BEGIN:VEVENT
DTSTART;TZID=America/New_York:20280426T110000
DTEND;TZID=America/New_York:20280426T120000
DTSTAMP:20260424T234722
CREATED:20260414T192812Z
LAST-MODIFIED:20260414T192812Z
UID:10001826-1840359600-1840363200@fpcdarien.com
SUMMARY:Women's Bible Study
DESCRIPTION:
URL:https://fpcdarien.com/event/womens-bible-study-2/2028-04-26/
LOCATION:Adult Sunday School room
END:VEVENT
BEGIN:VEVENT
DTSTART;TZID=America/New_York:20280429T100000
DTEND;TZID=America/New_York:20280429T110000
DTSTAMP:20260424T234722
CREATED:20230524T161020Z
LAST-MODIFIED:20230524T161020Z
UID:10001028-1840615200-1840618800@fpcdarien.com
SUMMARY:Men's Bible Study
DESCRIPTION:
URL:https://fpcdarien.com/event/mens-bible-study/2028-04-29/
LOCATION:Adult Sunday School room
END:VEVENT
END:VCALENDAR