BEGIN:VCALENDAR
VERSION:2.0
PRODID:-//First Presbyterian Church of Darien - ECPv6.15.20//NONSGML v1.0//EN
CALSCALE:GREGORIAN
METHOD:PUBLISH
X-WR-CALNAME:First Presbyterian Church of Darien
X-ORIGINAL-URL:https://fpcdarien.com
X-WR-CALDESC:Events for First Presbyterian Church of Darien
REFRESH-INTERVAL;VALUE=DURATION:PT1H
X-Robots-Tag:noindex
X-PUBLISHED-TTL:PT1H
BEGIN:VTIMEZONE
TZID:America/New_York
BEGIN:DAYLIGHT
TZOFFSETFROM:-0500
TZOFFSETTO:-0400
TZNAME:EDT
DTSTART:20250309T070000
END:DAYLIGHT
BEGIN:STANDARD
TZOFFSETFROM:-0400
TZOFFSETTO:-0500
TZNAME:EST
DTSTART:20251102T060000
END:STANDARD
BEGIN:DAYLIGHT
TZOFFSETFROM:-0500
TZOFFSETTO:-0400
TZNAME:EDT
DTSTART:20260308T070000
END:DAYLIGHT
BEGIN:STANDARD
TZOFFSETFROM:-0400
TZOFFSETTO:-0500
TZNAME:EST
DTSTART:20261101T060000
END:STANDARD
BEGIN:DAYLIGHT
TZOFFSETFROM:-0500
TZOFFSETTO:-0400
TZNAME:EDT
DTSTART:20270314T070000
END:DAYLIGHT
BEGIN:STANDARD
TZOFFSETFROM:-0400
TZOFFSETTO:-0500
TZNAME:EST
DTSTART:20271107T060000
END:STANDARD
END:VTIMEZONE
BEGIN:VEVENT
DTSTART;TZID=America/New_York:20260309T100000
DTEND;TZID=America/New_York:20260309T110000
DTSTAMP:20260423T103932
CREATED:20230525T140937Z
LAST-MODIFIED:20230525T140937Z
UID:10001567-1773050400-1773054000@fpcdarien.com
SUMMARY:Session
DESCRIPTION:
URL:https://fpcdarien.com/event/session/2026-03-09/
LOCATION:Adult Sunday School room
END:VEVENT
BEGIN:VEVENT
DTSTART;TZID=America/New_York:20260308T093000
DTEND;TZID=America/New_York:20260308T103000
DTSTAMP:20260423T103932
CREATED:20230525T135738Z
LAST-MODIFIED:20230525T135738Z
UID:10001237-1772962200-1772965800@fpcdarien.com
SUMMARY:Adult Sunday School
DESCRIPTION:
URL:https://fpcdarien.com/event/adult-sunday-school/2026-03-08/
LOCATION:Adult Sunday School room
END:VEVENT
BEGIN:VEVENT
DTSTART;TZID=America/New_York:20260307T100000
DTEND;TZID=America/New_York:20260307T110000
DTSTAMP:20260423T103932
CREATED:20230524T161020Z
LAST-MODIFIED:20230524T161020Z
UID:10000916-1772877600-1772881200@fpcdarien.com
SUMMARY:Men's Bible Study
DESCRIPTION:
URL:https://fpcdarien.com/event/mens-bible-study/2026-03-07/
LOCATION:Adult Sunday School room
END:VEVENT
BEGIN:VEVENT
DTSTART;TZID=America/New_York:20260303T110000
DTEND;TZID=America/New_York:20260303T120000
DTSTAMP:20260423T103932
CREATED:20230524T160321Z
LAST-MODIFIED:20230524T160849Z
UID:10000654-1772535600-1772539200@fpcdarien.com
SUMMARY:Women's Bible Study
DESCRIPTION:
URL:https://fpcdarien.com/event/womens-bible-study/2026-03-03/
LOCATION:Adult Sunday School room
END:VEVENT
BEGIN:VEVENT
DTSTART;TZID=America/New_York:20260301T093000
DTEND;TZID=America/New_York:20260301T103000
DTSTAMP:20260423T103932
CREATED:20230525T135738Z
LAST-MODIFIED:20230525T135738Z
UID:10001236-1772357400-1772361000@fpcdarien.com
SUMMARY:Adult Sunday School
DESCRIPTION:
URL:https://fpcdarien.com/event/adult-sunday-school/2026-03-01/
LOCATION:Adult Sunday School room
END:VEVENT
BEGIN:VEVENT
DTSTART;TZID=America/New_York:20260228T100000
DTEND;TZID=America/New_York:20260228T110000
DTSTAMP:20260423T103932
CREATED:20230524T161020Z
LAST-MODIFIED:20230524T161020Z
UID:10000915-1772272800-1772276400@fpcdarien.com
SUMMARY:Men's Bible Study
DESCRIPTION:
URL:https://fpcdarien.com/event/mens-bible-study/2026-02-28/
LOCATION:Adult Sunday School room
END:VEVENT
BEGIN:VEVENT
DTSTART;TZID=America/New_York:20260224T110000
DTEND;TZID=America/New_York:20260224T120000
DTSTAMP:20260423T103932
CREATED:20230524T160321Z
LAST-MODIFIED:20230524T160849Z
UID:10000653-1771930800-1771934400@fpcdarien.com
SUMMARY:Women's Bible Study
DESCRIPTION:
URL:https://fpcdarien.com/event/womens-bible-study/2026-02-24/
LOCATION:Adult Sunday School room
END:VEVENT
BEGIN:VEVENT
DTSTART;TZID=America/New_York:20260222T093000
DTEND;TZID=America/New_York:20260222T103000
DTSTAMP:20260423T103932
CREATED:20230525T135738Z
LAST-MODIFIED:20230525T135738Z
UID:10001235-1771752600-1771756200@fpcdarien.com
SUMMARY:Adult Sunday School
DESCRIPTION:
URL:https://fpcdarien.com/event/adult-sunday-school/2026-02-22/
LOCATION:Adult Sunday School room
END:VEVENT
BEGIN:VEVENT
DTSTART;TZID=America/New_York:20260221T100000
DTEND;TZID=America/New_York:20260221T110000
DTSTAMP:20260423T103932
CREATED:20230524T161020Z
LAST-MODIFIED:20230524T161020Z
UID:10000914-1771668000-1771671600@fpcdarien.com
SUMMARY:Men's Bible Study
DESCRIPTION:
URL:https://fpcdarien.com/event/mens-bible-study/2026-02-21/
LOCATION:Adult Sunday School room
END:VEVENT
BEGIN:VEVENT
DTSTART;TZID=America/New_York:20260217T110000
DTEND;TZID=America/New_York:20260217T120000
DTSTAMP:20260423T103932
CREATED:20230524T160321Z
LAST-MODIFIED:20230524T160849Z
UID:10000652-1771326000-1771329600@fpcdarien.com
SUMMARY:Women's Bible Study
DESCRIPTION:
URL:https://fpcdarien.com/event/womens-bible-study/2026-02-17/
LOCATION:Adult Sunday School room
END:VEVENT
BEGIN:VEVENT
DTSTART;TZID=America/New_York:20260215T093000
DTEND;TZID=America/New_York:20260215T103000
DTSTAMP:20260423T103932
CREATED:20230525T135738Z
LAST-MODIFIED:20230525T135738Z
UID:10001234-1771147800-1771151400@fpcdarien.com
SUMMARY:Adult Sunday School
DESCRIPTION:
URL:https://fpcdarien.com/event/adult-sunday-school/2026-02-15/
LOCATION:Adult Sunday School room
END:VEVENT
BEGIN:VEVENT
DTSTART;TZID=America/New_York:20260214T100000
DTEND;TZID=America/New_York:20260214T110000
DTSTAMP:20260423T103932
CREATED:20230524T161020Z
LAST-MODIFIED:20230524T161020Z
UID:10000913-1771063200-1771066800@fpcdarien.com
SUMMARY:Men's Bible Study
DESCRIPTION:
URL:https://fpcdarien.com/event/mens-bible-study/2026-02-14/
LOCATION:Adult Sunday School room
END:VEVENT
BEGIN:VEVENT
DTSTART;TZID=America/New_York:20260210T110000
DTEND;TZID=America/New_York:20260210T120000
DTSTAMP:20260423T103932
CREATED:20230524T160321Z
LAST-MODIFIED:20230524T160849Z
UID:10000651-1770721200-1770724800@fpcdarien.com
SUMMARY:Women's Bible Study
DESCRIPTION:
URL:https://fpcdarien.com/event/womens-bible-study/2026-02-10/
LOCATION:Adult Sunday School room
END:VEVENT
BEGIN:VEVENT
DTSTART;TZID=America/New_York:20260209T100000
DTEND;TZID=America/New_York:20260209T110000
DTSTAMP:20260423T103932
CREATED:20230525T140937Z
LAST-MODIFIED:20230525T140937Z
UID:10001566-1770631200-1770634800@fpcdarien.com
SUMMARY:Session
DESCRIPTION:
URL:https://fpcdarien.com/event/session/2026-02-09/
LOCATION:Adult Sunday School room
END:VEVENT
BEGIN:VEVENT
DTSTART;TZID=America/New_York:20260208T093000
DTEND;TZID=America/New_York:20260208T103000
DTSTAMP:20260423T103932
CREATED:20230525T135738Z
LAST-MODIFIED:20230525T135738Z
UID:10001233-1770543000-1770546600@fpcdarien.com
SUMMARY:Adult Sunday School
DESCRIPTION:
URL:https://fpcdarien.com/event/adult-sunday-school/2026-02-08/
LOCATION:Adult Sunday School room
END:VEVENT
BEGIN:VEVENT
DTSTART;TZID=America/New_York:20260207T100000
DTEND;TZID=America/New_York:20260207T110000
DTSTAMP:20260423T103932
CREATED:20230524T161020Z
LAST-MODIFIED:20230524T161020Z
UID:10000912-1770458400-1770462000@fpcdarien.com
SUMMARY:Men's Bible Study
DESCRIPTION:
URL:https://fpcdarien.com/event/mens-bible-study/2026-02-07/
LOCATION:Adult Sunday School room
END:VEVENT
BEGIN:VEVENT
DTSTART;TZID=America/New_York:20260203T110000
DTEND;TZID=America/New_York:20260203T120000
DTSTAMP:20260423T103932
CREATED:20230524T160321Z
LAST-MODIFIED:20230524T160849Z
UID:10000650-1770116400-1770120000@fpcdarien.com
SUMMARY:Women's Bible Study
DESCRIPTION:
URL:https://fpcdarien.com/event/womens-bible-study/2026-02-03/
LOCATION:Adult Sunday School room
END:VEVENT
BEGIN:VEVENT
DTSTART;TZID=America/New_York:20260201T093000
DTEND;TZID=America/New_York:20260201T103000
DTSTAMP:20260423T103932
CREATED:20230525T135738Z
LAST-MODIFIED:20230525T135738Z
UID:10001232-1769938200-1769941800@fpcdarien.com
SUMMARY:Adult Sunday School
DESCRIPTION:
URL:https://fpcdarien.com/event/adult-sunday-school/2026-02-01/
LOCATION:Adult Sunday School room
END:VEVENT
BEGIN:VEVENT
DTSTART;TZID=America/New_York:20260131T100000
DTEND;TZID=America/New_York:20260131T110000
DTSTAMP:20260423T103932
CREATED:20230524T161020Z
LAST-MODIFIED:20230524T161020Z
UID:10000911-1769853600-1769857200@fpcdarien.com
SUMMARY:Men's Bible Study
DESCRIPTION:
URL:https://fpcdarien.com/event/mens-bible-study/2026-01-31/
LOCATION:Adult Sunday School room
END:VEVENT
BEGIN:VEVENT
DTSTART;TZID=America/New_York:20260127T110000
DTEND;TZID=America/New_York:20260127T120000
DTSTAMP:20260423T103932
CREATED:20230524T160321Z
LAST-MODIFIED:20230524T160849Z
UID:10000649-1769511600-1769515200@fpcdarien.com
SUMMARY:Women's Bible Study
DESCRIPTION:
URL:https://fpcdarien.com/event/womens-bible-study/2026-01-27/
LOCATION:Adult Sunday School room
END:VEVENT
BEGIN:VEVENT
DTSTART;TZID=America/New_York:20260125T093000
DTEND;TZID=America/New_York:20260125T103000
DTSTAMP:20260423T103932
CREATED:20230525T135738Z
LAST-MODIFIED:20230525T135738Z
UID:10001231-1769333400-1769337000@fpcdarien.com
SUMMARY:Adult Sunday School
DESCRIPTION:
URL:https://fpcdarien.com/event/adult-sunday-school/2026-01-25/
LOCATION:Adult Sunday School room
END:VEVENT
BEGIN:VEVENT
DTSTART;TZID=America/New_York:20260124T100000
DTEND;TZID=America/New_York:20260124T110000
DTSTAMP:20260423T103932
CREATED:20230524T161020Z
LAST-MODIFIED:20230524T161020Z
UID:10000910-1769248800-1769252400@fpcdarien.com
SUMMARY:Men's Bible Study
DESCRIPTION:
URL:https://fpcdarien.com/event/mens-bible-study/2026-01-24/
LOCATION:Adult Sunday School room
END:VEVENT
BEGIN:VEVENT
DTSTART;TZID=America/New_York:20260120T110000
DTEND;TZID=America/New_York:20260120T120000
DTSTAMP:20260423T103932
CREATED:20230524T160321Z
LAST-MODIFIED:20230524T160849Z
UID:10000648-1768906800-1768910400@fpcdarien.com
SUMMARY:Women's Bible Study
DESCRIPTION:
URL:https://fpcdarien.com/event/womens-bible-study/2026-01-20/
LOCATION:Adult Sunday School room
END:VEVENT
BEGIN:VEVENT
DTSTART;TZID=America/New_York:20260118T093000
DTEND;TZID=America/New_York:20260118T103000
DTSTAMP:20260423T103932
CREATED:20230525T135738Z
LAST-MODIFIED:20230525T135738Z
UID:10001230-1768728600-1768732200@fpcdarien.com
SUMMARY:Adult Sunday School
DESCRIPTION:
URL:https://fpcdarien.com/event/adult-sunday-school/2026-01-18/
LOCATION:Adult Sunday School room
END:VEVENT
BEGIN:VEVENT
DTSTART;TZID=America/New_York:20260117T100000
DTEND;TZID=America/New_York:20260117T110000
DTSTAMP:20260423T103932
CREATED:20230524T161020Z
LAST-MODIFIED:20230524T161020Z
UID:10000909-1768644000-1768647600@fpcdarien.com
SUMMARY:Men's Bible Study
DESCRIPTION:
URL:https://fpcdarien.com/event/mens-bible-study/2026-01-17/
LOCATION:Adult Sunday School room
END:VEVENT
BEGIN:VEVENT
DTSTART;TZID=America/New_York:20260113T110000
DTEND;TZID=America/New_York:20260113T120000
DTSTAMP:20260423T103932
CREATED:20230524T160321Z
LAST-MODIFIED:20230524T160849Z
UID:10000647-1768302000-1768305600@fpcdarien.com
SUMMARY:Women's Bible Study
DESCRIPTION:
URL:https://fpcdarien.com/event/womens-bible-study/2026-01-13/
LOCATION:Adult Sunday School room
END:VEVENT
BEGIN:VEVENT
DTSTART;TZID=America/New_York:20260112T100000
DTEND;TZID=America/New_York:20260112T110000
DTSTAMP:20260423T103932
CREATED:20230525T140937Z
LAST-MODIFIED:20230525T140937Z
UID:10001565-1768212000-1768215600@fpcdarien.com
SUMMARY:Session
DESCRIPTION:
URL:https://fpcdarien.com/event/session/2026-01-12/
LOCATION:Adult Sunday School room
END:VEVENT
BEGIN:VEVENT
DTSTART;TZID=America/New_York:20260111T093000
DTEND;TZID=America/New_York:20260111T103000
DTSTAMP:20260423T103932
CREATED:20230525T135738Z
LAST-MODIFIED:20230525T135738Z
UID:10001229-1768123800-1768127400@fpcdarien.com
SUMMARY:Adult Sunday School
DESCRIPTION:
URL:https://fpcdarien.com/event/adult-sunday-school/2026-01-11/
LOCATION:Adult Sunday School room
END:VEVENT
BEGIN:VEVENT
DTSTART;TZID=America/New_York:20260110T100000
DTEND;TZID=America/New_York:20260110T110000
DTSTAMP:20260423T103932
CREATED:20230524T161020Z
LAST-MODIFIED:20230524T161020Z
UID:10000908-1768039200-1768042800@fpcdarien.com
SUMMARY:Men's Bible Study
DESCRIPTION:
URL:https://fpcdarien.com/event/mens-bible-study/2026-01-10/
LOCATION:Adult Sunday School room
END:VEVENT
BEGIN:VEVENT
DTSTART;TZID=America/New_York:20260106T110000
DTEND;TZID=America/New_York:20260106T120000
DTSTAMP:20260423T103932
CREATED:20230524T160321Z
LAST-MODIFIED:20230524T160849Z
UID:10000646-1767697200-1767700800@fpcdarien.com
SUMMARY:Women's Bible Study
DESCRIPTION:
URL:https://fpcdarien.com/event/womens-bible-study/2026-01-06/
LOCATION:Adult Sunday School room
END:VEVENT
END:VCALENDAR