BEGIN:VCALENDAR
VERSION:2.0
PRODID:-//First Presbyterian Church of Darien - ECPv6.15.20//NONSGML v1.0//EN
CALSCALE:GREGORIAN
METHOD:PUBLISH
X-ORIGINAL-URL:https://fpcdarien.com
X-WR-CALDESC:Events for First Presbyterian Church of Darien
REFRESH-INTERVAL;VALUE=DURATION:PT1H
X-Robots-Tag:noindex
X-PUBLISHED-TTL:PT1H
BEGIN:VTIMEZONE
TZID:America/New_York
BEGIN:DAYLIGHT
TZOFFSETFROM:-0500
TZOFFSETTO:-0400
TZNAME:EDT
DTSTART:20230312T070000
END:DAYLIGHT
BEGIN:STANDARD
TZOFFSETFROM:-0400
TZOFFSETTO:-0500
TZNAME:EST
DTSTART:20231105T060000
END:STANDARD
BEGIN:DAYLIGHT
TZOFFSETFROM:-0500
TZOFFSETTO:-0400
TZNAME:EDT
DTSTART:20240310T070000
END:DAYLIGHT
BEGIN:STANDARD
TZOFFSETFROM:-0400
TZOFFSETTO:-0500
TZNAME:EST
DTSTART:20241103T060000
END:STANDARD
BEGIN:DAYLIGHT
TZOFFSETFROM:-0500
TZOFFSETTO:-0400
TZNAME:EDT
DTSTART:20250309T070000
END:DAYLIGHT
BEGIN:STANDARD
TZOFFSETFROM:-0400
TZOFFSETTO:-0500
TZNAME:EST
DTSTART:20251102T060000
END:STANDARD
END:VTIMEZONE
BEGIN:VEVENT
DTSTART;TZID=America/New_York:20240824T100000
DTEND;TZID=America/New_York:20240824T110000
DTSTAMP:20260424T204120
CREATED:20230524T161020Z
LAST-MODIFIED:20230524T161020Z
UID:10000836-1724493600-1724497200@fpcdarien.com
SUMMARY:Men's Bible Study
DESCRIPTION:
URL:https://fpcdarien.com/event/mens-bible-study/2024-08-24/
LOCATION:Adult Sunday School room
END:VEVENT
BEGIN:VEVENT
DTSTART;TZID=America/New_York:20240820T110000
DTEND;TZID=America/New_York:20240820T120000
DTSTAMP:20260424T204120
CREATED:20230524T160321Z
LAST-MODIFIED:20230524T160849Z
UID:10000574-1724151600-1724155200@fpcdarien.com
SUMMARY:Women's Bible Study
DESCRIPTION:
URL:https://fpcdarien.com/event/womens-bible-study/2024-08-20/
LOCATION:Adult Sunday School room
END:VEVENT
BEGIN:VEVENT
DTSTART;TZID=America/New_York:20240818T093000
DTEND;TZID=America/New_York:20240818T103000
DTSTAMP:20260424T204120
CREATED:20230525T135738Z
LAST-MODIFIED:20230525T135738Z
UID:10001156-1723973400-1723977000@fpcdarien.com
SUMMARY:Adult Sunday School
DESCRIPTION:
URL:https://fpcdarien.com/event/adult-sunday-school/2024-08-18/
LOCATION:Adult Sunday School room
END:VEVENT
BEGIN:VEVENT
DTSTART;TZID=America/New_York:20240817T100000
DTEND;TZID=America/New_York:20240817T110000
DTSTAMP:20260424T204120
CREATED:20230524T161020Z
LAST-MODIFIED:20230524T161020Z
UID:10000835-1723888800-1723892400@fpcdarien.com
SUMMARY:Men's Bible Study
DESCRIPTION:
URL:https://fpcdarien.com/event/mens-bible-study/2024-08-17/
LOCATION:Adult Sunday School room
END:VEVENT
BEGIN:VEVENT
DTSTART;TZID=America/New_York:20240813T110000
DTEND;TZID=America/New_York:20240813T120000
DTSTAMP:20260424T204120
CREATED:20230524T160321Z
LAST-MODIFIED:20230524T160849Z
UID:10000573-1723546800-1723550400@fpcdarien.com
SUMMARY:Women's Bible Study
DESCRIPTION:
URL:https://fpcdarien.com/event/womens-bible-study/2024-08-13/
LOCATION:Adult Sunday School room
END:VEVENT
BEGIN:VEVENT
DTSTART;TZID=America/New_York:20240812T100000
DTEND;TZID=America/New_York:20240812T110000
DTSTAMP:20260424T204120
CREATED:20230525T140937Z
LAST-MODIFIED:20230525T140937Z
UID:10001548-1723456800-1723460400@fpcdarien.com
SUMMARY:Session
DESCRIPTION:
URL:https://fpcdarien.com/event/session/2024-08-12/
LOCATION:Adult Sunday School room
END:VEVENT
BEGIN:VEVENT
DTSTART;TZID=America/New_York:20240811T093000
DTEND;TZID=America/New_York:20240811T103000
DTSTAMP:20260424T204120
CREATED:20230525T135738Z
LAST-MODIFIED:20230525T135738Z
UID:10001155-1723368600-1723372200@fpcdarien.com
SUMMARY:Adult Sunday School
DESCRIPTION:
URL:https://fpcdarien.com/event/adult-sunday-school/2024-08-11/
LOCATION:Adult Sunday School room
END:VEVENT
BEGIN:VEVENT
DTSTART;TZID=America/New_York:20240810T100000
DTEND;TZID=America/New_York:20240810T110000
DTSTAMP:20260424T204120
CREATED:20230524T161020Z
LAST-MODIFIED:20230524T161020Z
UID:10000834-1723284000-1723287600@fpcdarien.com
SUMMARY:Men's Bible Study
DESCRIPTION:
URL:https://fpcdarien.com/event/mens-bible-study/2024-08-10/
LOCATION:Adult Sunday School room
END:VEVENT
BEGIN:VEVENT
DTSTART;TZID=America/New_York:20240806T110000
DTEND;TZID=America/New_York:20240806T120000
DTSTAMP:20260424T204120
CREATED:20230524T160321Z
LAST-MODIFIED:20230524T160849Z
UID:10000572-1722942000-1722945600@fpcdarien.com
SUMMARY:Women's Bible Study
DESCRIPTION:
URL:https://fpcdarien.com/event/womens-bible-study/2024-08-06/
LOCATION:Adult Sunday School room
END:VEVENT
BEGIN:VEVENT
DTSTART;TZID=America/New_York:20240804T093000
DTEND;TZID=America/New_York:20240804T103000
DTSTAMP:20260424T204120
CREATED:20230525T135738Z
LAST-MODIFIED:20230525T135738Z
UID:10001154-1722763800-1722767400@fpcdarien.com
SUMMARY:Adult Sunday School
DESCRIPTION:
URL:https://fpcdarien.com/event/adult-sunday-school/2024-08-04/
LOCATION:Adult Sunday School room
END:VEVENT
BEGIN:VEVENT
DTSTART;TZID=America/New_York:20240803T100000
DTEND;TZID=America/New_York:20240803T110000
DTSTAMP:20260424T204120
CREATED:20230524T161020Z
LAST-MODIFIED:20230524T161020Z
UID:10000833-1722679200-1722682800@fpcdarien.com
SUMMARY:Men's Bible Study
DESCRIPTION:
URL:https://fpcdarien.com/event/mens-bible-study/2024-08-03/
LOCATION:Adult Sunday School room
END:VEVENT
BEGIN:VEVENT
DTSTART;TZID=America/New_York:20240730T110000
DTEND;TZID=America/New_York:20240730T120000
DTSTAMP:20260424T204120
CREATED:20230524T160321Z
LAST-MODIFIED:20230524T160849Z
UID:10000571-1722337200-1722340800@fpcdarien.com
SUMMARY:Women's Bible Study
DESCRIPTION:
URL:https://fpcdarien.com/event/womens-bible-study/2024-07-30/
LOCATION:Adult Sunday School room
END:VEVENT
BEGIN:VEVENT
DTSTART;TZID=America/New_York:20240728T093000
DTEND;TZID=America/New_York:20240728T103000
DTSTAMP:20260424T204120
CREATED:20230525T135738Z
LAST-MODIFIED:20230525T135738Z
UID:10001153-1722159000-1722162600@fpcdarien.com
SUMMARY:Adult Sunday School
DESCRIPTION:
URL:https://fpcdarien.com/event/adult-sunday-school/2024-07-28/
LOCATION:Adult Sunday School room
END:VEVENT
BEGIN:VEVENT
DTSTART;TZID=America/New_York:20240727T100000
DTEND;TZID=America/New_York:20240727T110000
DTSTAMP:20260424T204120
CREATED:20230524T161020Z
LAST-MODIFIED:20230524T161020Z
UID:10000832-1722074400-1722078000@fpcdarien.com
SUMMARY:Men's Bible Study
DESCRIPTION:
URL:https://fpcdarien.com/event/mens-bible-study/2024-07-27/
LOCATION:Adult Sunday School room
END:VEVENT
BEGIN:VEVENT
DTSTART;TZID=America/New_York:20240723T110000
DTEND;TZID=America/New_York:20240723T120000
DTSTAMP:20260424T204120
CREATED:20230524T160321Z
LAST-MODIFIED:20230524T160849Z
UID:10000570-1721732400-1721736000@fpcdarien.com
SUMMARY:Women's Bible Study
DESCRIPTION:
URL:https://fpcdarien.com/event/womens-bible-study/2024-07-23/
LOCATION:Adult Sunday School room
END:VEVENT
BEGIN:VEVENT
DTSTART;TZID=America/New_York:20240721T093000
DTEND;TZID=America/New_York:20240721T103000
DTSTAMP:20260424T204120
CREATED:20230525T135738Z
LAST-MODIFIED:20230525T135738Z
UID:10001152-1721554200-1721557800@fpcdarien.com
SUMMARY:Adult Sunday School
DESCRIPTION:
URL:https://fpcdarien.com/event/adult-sunday-school/2024-07-21/
LOCATION:Adult Sunday School room
END:VEVENT
BEGIN:VEVENT
DTSTART;TZID=America/New_York:20240720T100000
DTEND;TZID=America/New_York:20240720T110000
DTSTAMP:20260424T204120
CREATED:20230524T161020Z
LAST-MODIFIED:20230524T161020Z
UID:10000831-1721469600-1721473200@fpcdarien.com
SUMMARY:Men's Bible Study
DESCRIPTION:
URL:https://fpcdarien.com/event/mens-bible-study/2024-07-20/
LOCATION:Adult Sunday School room
END:VEVENT
BEGIN:VEVENT
DTSTART;TZID=America/New_York:20240716T110000
DTEND;TZID=America/New_York:20240716T120000
DTSTAMP:20260424T204120
CREATED:20230524T160321Z
LAST-MODIFIED:20230524T160849Z
UID:10000569-1721127600-1721131200@fpcdarien.com
SUMMARY:Women's Bible Study
DESCRIPTION:
URL:https://fpcdarien.com/event/womens-bible-study/2024-07-16/
LOCATION:Adult Sunday School room
END:VEVENT
BEGIN:VEVENT
DTSTART;TZID=America/New_York:20240714T093000
DTEND;TZID=America/New_York:20240714T103000
DTSTAMP:20260424T204120
CREATED:20230525T135738Z
LAST-MODIFIED:20230525T135738Z
UID:10001151-1720949400-1720953000@fpcdarien.com
SUMMARY:Adult Sunday School
DESCRIPTION:
URL:https://fpcdarien.com/event/adult-sunday-school/2024-07-14/
LOCATION:Adult Sunday School room
END:VEVENT
BEGIN:VEVENT
DTSTART;TZID=America/New_York:20240713T100000
DTEND;TZID=America/New_York:20240713T110000
DTSTAMP:20260424T204120
CREATED:20230524T161020Z
LAST-MODIFIED:20230524T161020Z
UID:10000830-1720864800-1720868400@fpcdarien.com
SUMMARY:Men's Bible Study
DESCRIPTION:
URL:https://fpcdarien.com/event/mens-bible-study/2024-07-13/
LOCATION:Adult Sunday School room
END:VEVENT
BEGIN:VEVENT
DTSTART;TZID=America/New_York:20240709T110000
DTEND;TZID=America/New_York:20240709T120000
DTSTAMP:20260424T204120
CREATED:20230524T160321Z
LAST-MODIFIED:20230524T160849Z
UID:10000568-1720522800-1720526400@fpcdarien.com
SUMMARY:Women's Bible Study
DESCRIPTION:
URL:https://fpcdarien.com/event/womens-bible-study/2024-07-09/
LOCATION:Adult Sunday School room
END:VEVENT
BEGIN:VEVENT
DTSTART;TZID=America/New_York:20240708T100000
DTEND;TZID=America/New_York:20240708T110000
DTSTAMP:20260424T204120
CREATED:20230525T140937Z
LAST-MODIFIED:20230525T140937Z
UID:10001547-1720432800-1720436400@fpcdarien.com
SUMMARY:Session
DESCRIPTION:
URL:https://fpcdarien.com/event/session/2024-07-08/
LOCATION:Adult Sunday School room
END:VEVENT
BEGIN:VEVENT
DTSTART;TZID=America/New_York:20240707T093000
DTEND;TZID=America/New_York:20240707T103000
DTSTAMP:20260424T204120
CREATED:20230525T135738Z
LAST-MODIFIED:20230525T135738Z
UID:10001150-1720344600-1720348200@fpcdarien.com
SUMMARY:Adult Sunday School
DESCRIPTION:
URL:https://fpcdarien.com/event/adult-sunday-school/2024-07-07/
LOCATION:Adult Sunday School room
END:VEVENT
BEGIN:VEVENT
DTSTART;TZID=America/New_York:20240706T100000
DTEND;TZID=America/New_York:20240706T110000
DTSTAMP:20260424T204120
CREATED:20230524T161020Z
LAST-MODIFIED:20230524T161020Z
UID:10000829-1720260000-1720263600@fpcdarien.com
SUMMARY:Men's Bible Study
DESCRIPTION:
URL:https://fpcdarien.com/event/mens-bible-study/2024-07-06/
LOCATION:Adult Sunday School room
END:VEVENT
BEGIN:VEVENT
DTSTART;TZID=America/New_York:20240702T110000
DTEND;TZID=America/New_York:20240702T120000
DTSTAMP:20260424T204120
CREATED:20230524T160321Z
LAST-MODIFIED:20230524T160849Z
UID:10000567-1719918000-1719921600@fpcdarien.com
SUMMARY:Women's Bible Study
DESCRIPTION:
URL:https://fpcdarien.com/event/womens-bible-study/2024-07-02/
LOCATION:Adult Sunday School room
END:VEVENT
BEGIN:VEVENT
DTSTART;TZID=America/New_York:20240630T093000
DTEND;TZID=America/New_York:20240630T103000
DTSTAMP:20260424T204120
CREATED:20230525T135738Z
LAST-MODIFIED:20230525T135738Z
UID:10001149-1719739800-1719743400@fpcdarien.com
SUMMARY:Adult Sunday School
DESCRIPTION:
URL:https://fpcdarien.com/event/adult-sunday-school/2024-06-30/
LOCATION:Adult Sunday School room
END:VEVENT
BEGIN:VEVENT
DTSTART;TZID=America/New_York:20240629T100000
DTEND;TZID=America/New_York:20240629T110000
DTSTAMP:20260424T204120
CREATED:20230524T161020Z
LAST-MODIFIED:20230524T161020Z
UID:10000828-1719655200-1719658800@fpcdarien.com
SUMMARY:Men's Bible Study
DESCRIPTION:
URL:https://fpcdarien.com/event/mens-bible-study/2024-06-29/
LOCATION:Adult Sunday School room
END:VEVENT
BEGIN:VEVENT
DTSTART;TZID=America/New_York:20240625T110000
DTEND;TZID=America/New_York:20240625T120000
DTSTAMP:20260424T204120
CREATED:20230524T160321Z
LAST-MODIFIED:20230524T160849Z
UID:10000566-1719313200-1719316800@fpcdarien.com
SUMMARY:Women's Bible Study
DESCRIPTION:
URL:https://fpcdarien.com/event/womens-bible-study/2024-06-25/
LOCATION:Adult Sunday School room
END:VEVENT
BEGIN:VEVENT
DTSTART;TZID=America/New_York:20240623T093000
DTEND;TZID=America/New_York:20240623T103000
DTSTAMP:20260424T204120
CREATED:20230525T135738Z
LAST-MODIFIED:20230525T135738Z
UID:10001148-1719135000-1719138600@fpcdarien.com
SUMMARY:Adult Sunday School
DESCRIPTION:
URL:https://fpcdarien.com/event/adult-sunday-school/2024-06-23/
LOCATION:Adult Sunday School room
END:VEVENT
BEGIN:VEVENT
DTSTART;TZID=America/New_York:20240622T100000
DTEND;TZID=America/New_York:20240622T110000
DTSTAMP:20260424T204120
CREATED:20230524T161020Z
LAST-MODIFIED:20230524T161020Z
UID:10000827-1719050400-1719054000@fpcdarien.com
SUMMARY:Men's Bible Study
DESCRIPTION:
URL:https://fpcdarien.com/event/mens-bible-study/2024-06-22/
LOCATION:Adult Sunday School room
END:VEVENT
END:VCALENDAR