BEGIN:VCALENDAR
VERSION:2.0
PRODID:-//First Presbyterian Church of Darien - ECPv6.15.20//NONSGML v1.0//EN
CALSCALE:GREGORIAN
METHOD:PUBLISH
X-WR-CALNAME:First Presbyterian Church of Darien
X-ORIGINAL-URL:https://fpcdarien.com
X-WR-CALDESC:Events for First Presbyterian Church of Darien
REFRESH-INTERVAL;VALUE=DURATION:PT1H
X-Robots-Tag:noindex
X-PUBLISHED-TTL:PT1H
BEGIN:VTIMEZONE
TZID:America/New_York
BEGIN:DAYLIGHT
TZOFFSETFROM:-0500
TZOFFSETTO:-0400
TZNAME:EDT
DTSTART:20260308T070000
END:DAYLIGHT
BEGIN:STANDARD
TZOFFSETFROM:-0400
TZOFFSETTO:-0500
TZNAME:EST
DTSTART:20261101T060000
END:STANDARD
BEGIN:DAYLIGHT
TZOFFSETFROM:-0500
TZOFFSETTO:-0400
TZNAME:EDT
DTSTART:20270314T070000
END:DAYLIGHT
BEGIN:STANDARD
TZOFFSETFROM:-0400
TZOFFSETTO:-0500
TZNAME:EST
DTSTART:20271107T060000
END:STANDARD
BEGIN:DAYLIGHT
TZOFFSETFROM:-0500
TZOFFSETTO:-0400
TZNAME:EDT
DTSTART:20280312T070000
END:DAYLIGHT
BEGIN:STANDARD
TZOFFSETFROM:-0400
TZOFFSETTO:-0500
TZNAME:EST
DTSTART:20281105T060000
END:STANDARD
BEGIN:DAYLIGHT
TZOFFSETFROM:-0500
TZOFFSETTO:-0400
TZNAME:EDT
DTSTART:20290311T070000
END:DAYLIGHT
BEGIN:STANDARD
TZOFFSETFROM:-0400
TZOFFSETTO:-0500
TZNAME:EST
DTSTART:20291104T060000
END:STANDARD
END:VTIMEZONE
BEGIN:VEVENT
DTSTART;TZID=America/New_York:20271108T100000
DTEND;TZID=America/New_York:20271108T110000
DTSTAMP:20260424T170303
CREATED:20230525T140937Z
LAST-MODIFIED:20230525T140937Z
UID:10001587-1825668000-1825671600@fpcdarien.com
SUMMARY:Session
DESCRIPTION:
URL:https://fpcdarien.com/event/session/2027-11-08/
LOCATION:Adult Sunday School room
END:VEVENT
BEGIN:VEVENT
DTSTART;TZID=America/New_York:20271110T110000
DTEND;TZID=America/New_York:20271110T120000
DTSTAMP:20260424T170303
CREATED:20260414T192812Z
LAST-MODIFIED:20260414T192812Z
UID:10001802-1825844400-1825848000@fpcdarien.com
SUMMARY:Women's Bible Study
DESCRIPTION:
URL:https://fpcdarien.com/event/womens-bible-study-2/2027-11-10/
LOCATION:Adult Sunday School room
END:VEVENT
BEGIN:VEVENT
DTSTART;TZID=America/New_York:20271113T100000
DTEND;TZID=America/New_York:20271113T110000
DTSTAMP:20260424T170303
CREATED:20230524T161020Z
LAST-MODIFIED:20230524T161020Z
UID:10001004-1826100000-1826103600@fpcdarien.com
SUMMARY:Men's Bible Study
DESCRIPTION:
URL:https://fpcdarien.com/event/mens-bible-study/2027-11-13/
LOCATION:Adult Sunday School room
END:VEVENT
BEGIN:VEVENT
DTSTART;TZID=America/New_York:20271114T093000
DTEND;TZID=America/New_York:20271114T103000
DTSTAMP:20260424T170303
CREATED:20230525T135738Z
LAST-MODIFIED:20230525T135738Z
UID:10001325-1826184600-1826188200@fpcdarien.com
SUMMARY:Adult Sunday School
DESCRIPTION:
URL:https://fpcdarien.com/event/adult-sunday-school/2027-11-14/
LOCATION:Adult Sunday School room
END:VEVENT
BEGIN:VEVENT
DTSTART;TZID=America/New_York:20271117T110000
DTEND;TZID=America/New_York:20271117T120000
DTSTAMP:20260424T170303
CREATED:20260414T192812Z
LAST-MODIFIED:20260414T192812Z
UID:10001803-1826449200-1826452800@fpcdarien.com
SUMMARY:Women's Bible Study
DESCRIPTION:
URL:https://fpcdarien.com/event/womens-bible-study-2/2027-11-17/
LOCATION:Adult Sunday School room
END:VEVENT
BEGIN:VEVENT
DTSTART;TZID=America/New_York:20271120T100000
DTEND;TZID=America/New_York:20271120T110000
DTSTAMP:20260424T170303
CREATED:20230524T161020Z
LAST-MODIFIED:20230524T161020Z
UID:10001005-1826704800-1826708400@fpcdarien.com
SUMMARY:Men's Bible Study
DESCRIPTION:
URL:https://fpcdarien.com/event/mens-bible-study/2027-11-20/
LOCATION:Adult Sunday School room
END:VEVENT
BEGIN:VEVENT
DTSTART;TZID=America/New_York:20271121T093000
DTEND;TZID=America/New_York:20271121T103000
DTSTAMP:20260424T170303
CREATED:20230525T135738Z
LAST-MODIFIED:20230525T135738Z
UID:10001326-1826789400-1826793000@fpcdarien.com
SUMMARY:Adult Sunday School
DESCRIPTION:
URL:https://fpcdarien.com/event/adult-sunday-school/2027-11-21/
LOCATION:Adult Sunday School room
END:VEVENT
BEGIN:VEVENT
DTSTART;TZID=America/New_York:20271124T110000
DTEND;TZID=America/New_York:20271124T120000
DTSTAMP:20260424T170303
CREATED:20260414T192812Z
LAST-MODIFIED:20260414T192812Z
UID:10001804-1827054000-1827057600@fpcdarien.com
SUMMARY:Women's Bible Study
DESCRIPTION:
URL:https://fpcdarien.com/event/womens-bible-study-2/2027-11-24/
LOCATION:Adult Sunday School room
END:VEVENT
BEGIN:VEVENT
DTSTART;TZID=America/New_York:20271127T100000
DTEND;TZID=America/New_York:20271127T110000
DTSTAMP:20260424T170303
CREATED:20230524T161020Z
LAST-MODIFIED:20230524T161020Z
UID:10001006-1827309600-1827313200@fpcdarien.com
SUMMARY:Men's Bible Study
DESCRIPTION:
URL:https://fpcdarien.com/event/mens-bible-study/2027-11-27/
LOCATION:Adult Sunday School room
END:VEVENT
BEGIN:VEVENT
DTSTART;TZID=America/New_York:20271128T093000
DTEND;TZID=America/New_York:20271128T103000
DTSTAMP:20260424T170303
CREATED:20230525T135738Z
LAST-MODIFIED:20230525T135738Z
UID:10001327-1827394200-1827397800@fpcdarien.com
SUMMARY:Adult Sunday School
DESCRIPTION:
URL:https://fpcdarien.com/event/adult-sunday-school/2027-11-28/
LOCATION:Adult Sunday School room
END:VEVENT
BEGIN:VEVENT
DTSTART;TZID=America/New_York:20271201T110000
DTEND;TZID=America/New_York:20271201T120000
DTSTAMP:20260424T170303
CREATED:20260414T192812Z
LAST-MODIFIED:20260414T192812Z
UID:10001805-1827658800-1827662400@fpcdarien.com
SUMMARY:Women's Bible Study
DESCRIPTION:
URL:https://fpcdarien.com/event/womens-bible-study-2/2027-12-01/
LOCATION:Adult Sunday School room
END:VEVENT
BEGIN:VEVENT
DTSTART;TZID=America/New_York:20271204T100000
DTEND;TZID=America/New_York:20271204T110000
DTSTAMP:20260424T170303
CREATED:20230524T161020Z
LAST-MODIFIED:20230524T161020Z
UID:10001007-1827914400-1827918000@fpcdarien.com
SUMMARY:Men's Bible Study
DESCRIPTION:
URL:https://fpcdarien.com/event/mens-bible-study/2027-12-04/
LOCATION:Adult Sunday School room
END:VEVENT
BEGIN:VEVENT
DTSTART;TZID=America/New_York:20271205T093000
DTEND;TZID=America/New_York:20271205T103000
DTSTAMP:20260424T170303
CREATED:20230525T135738Z
LAST-MODIFIED:20230525T135738Z
UID:10001328-1827999000-1828002600@fpcdarien.com
SUMMARY:Adult Sunday School
DESCRIPTION:
URL:https://fpcdarien.com/event/adult-sunday-school/2027-12-05/
LOCATION:Adult Sunday School room
END:VEVENT
BEGIN:VEVENT
DTSTART;TZID=America/New_York:20271208T110000
DTEND;TZID=America/New_York:20271208T120000
DTSTAMP:20260424T170303
CREATED:20260414T192812Z
LAST-MODIFIED:20260414T192812Z
UID:10001806-1828263600-1828267200@fpcdarien.com
SUMMARY:Women's Bible Study
DESCRIPTION:
URL:https://fpcdarien.com/event/womens-bible-study-2/2027-12-08/
LOCATION:Adult Sunday School room
END:VEVENT
BEGIN:VEVENT
DTSTART;TZID=America/New_York:20271211T100000
DTEND;TZID=America/New_York:20271211T110000
DTSTAMP:20260424T170303
CREATED:20230524T161020Z
LAST-MODIFIED:20230524T161020Z
UID:10001008-1828519200-1828522800@fpcdarien.com
SUMMARY:Men's Bible Study
DESCRIPTION:
URL:https://fpcdarien.com/event/mens-bible-study/2027-12-11/
LOCATION:Adult Sunday School room
END:VEVENT
BEGIN:VEVENT
DTSTART;TZID=America/New_York:20271212T093000
DTEND;TZID=America/New_York:20271212T103000
DTSTAMP:20260424T170303
CREATED:20230525T135738Z
LAST-MODIFIED:20230525T135738Z
UID:10001329-1828603800-1828607400@fpcdarien.com
SUMMARY:Adult Sunday School
DESCRIPTION:
URL:https://fpcdarien.com/event/adult-sunday-school/2027-12-12/
LOCATION:Adult Sunday School room
END:VEVENT
BEGIN:VEVENT
DTSTART;TZID=America/New_York:20271213T100000
DTEND;TZID=America/New_York:20271213T110000
DTSTAMP:20260424T170303
CREATED:20230525T140937Z
LAST-MODIFIED:20230525T140937Z
UID:10001588-1828692000-1828695600@fpcdarien.com
SUMMARY:Session
DESCRIPTION:
URL:https://fpcdarien.com/event/session/2027-12-13/
LOCATION:Adult Sunday School room
END:VEVENT
BEGIN:VEVENT
DTSTART;TZID=America/New_York:20271215T110000
DTEND;TZID=America/New_York:20271215T120000
DTSTAMP:20260424T170303
CREATED:20260414T192812Z
LAST-MODIFIED:20260414T192812Z
UID:10001807-1828868400-1828872000@fpcdarien.com
SUMMARY:Women's Bible Study
DESCRIPTION:
URL:https://fpcdarien.com/event/womens-bible-study-2/2027-12-15/
LOCATION:Adult Sunday School room
END:VEVENT
BEGIN:VEVENT
DTSTART;TZID=America/New_York:20271218T100000
DTEND;TZID=America/New_York:20271218T110000
DTSTAMP:20260424T170303
CREATED:20230524T161020Z
LAST-MODIFIED:20230524T161020Z
UID:10001009-1829124000-1829127600@fpcdarien.com
SUMMARY:Men's Bible Study
DESCRIPTION:
URL:https://fpcdarien.com/event/mens-bible-study/2027-12-18/
LOCATION:Adult Sunday School room
END:VEVENT
BEGIN:VEVENT
DTSTART;TZID=America/New_York:20271219T093000
DTEND;TZID=America/New_York:20271219T103000
DTSTAMP:20260424T170303
CREATED:20230525T135738Z
LAST-MODIFIED:20230525T135738Z
UID:10001330-1829208600-1829212200@fpcdarien.com
SUMMARY:Adult Sunday School
DESCRIPTION:
URL:https://fpcdarien.com/event/adult-sunday-school/2027-12-19/
LOCATION:Adult Sunday School room
END:VEVENT
BEGIN:VEVENT
DTSTART;TZID=America/New_York:20271222T110000
DTEND;TZID=America/New_York:20271222T120000
DTSTAMP:20260424T170303
CREATED:20260414T192812Z
LAST-MODIFIED:20260414T192812Z
UID:10001808-1829473200-1829476800@fpcdarien.com
SUMMARY:Women's Bible Study
DESCRIPTION:
URL:https://fpcdarien.com/event/womens-bible-study-2/2027-12-22/
LOCATION:Adult Sunday School room
END:VEVENT
BEGIN:VEVENT
DTSTART;TZID=America/New_York:20271225T100000
DTEND;TZID=America/New_York:20271225T110000
DTSTAMP:20260424T170303
CREATED:20230524T161020Z
LAST-MODIFIED:20230524T161020Z
UID:10001010-1829728800-1829732400@fpcdarien.com
SUMMARY:Men's Bible Study
DESCRIPTION:
URL:https://fpcdarien.com/event/mens-bible-study/2027-12-25/
LOCATION:Adult Sunday School room
END:VEVENT
BEGIN:VEVENT
DTSTART;TZID=America/New_York:20271226T093000
DTEND;TZID=America/New_York:20271226T103000
DTSTAMP:20260424T170303
CREATED:20230525T135738Z
LAST-MODIFIED:20230525T135738Z
UID:10001331-1829813400-1829817000@fpcdarien.com
SUMMARY:Adult Sunday School
DESCRIPTION:
URL:https://fpcdarien.com/event/adult-sunday-school/2027-12-26/
LOCATION:Adult Sunday School room
END:VEVENT
BEGIN:VEVENT
DTSTART;TZID=America/New_York:20271229T110000
DTEND;TZID=America/New_York:20271229T120000
DTSTAMP:20260424T170303
CREATED:20260414T192812Z
LAST-MODIFIED:20260414T192812Z
UID:10001809-1830078000-1830081600@fpcdarien.com
SUMMARY:Women's Bible Study
DESCRIPTION:
URL:https://fpcdarien.com/event/womens-bible-study-2/2027-12-29/
LOCATION:Adult Sunday School room
END:VEVENT
BEGIN:VEVENT
DTSTART;TZID=America/New_York:20280101T100000
DTEND;TZID=America/New_York:20280101T110000
DTSTAMP:20260424T170303
CREATED:20230524T161020Z
LAST-MODIFIED:20230524T161020Z
UID:10001011-1830333600-1830337200@fpcdarien.com
SUMMARY:Men's Bible Study
DESCRIPTION:
URL:https://fpcdarien.com/event/mens-bible-study/2028-01-01/
LOCATION:Adult Sunday School room
END:VEVENT
BEGIN:VEVENT
DTSTART;TZID=America/New_York:20280102T093000
DTEND;TZID=America/New_York:20280102T103000
DTSTAMP:20260424T170303
CREATED:20230525T135738Z
LAST-MODIFIED:20230525T135738Z
UID:10001332-1830418200-1830421800@fpcdarien.com
SUMMARY:Adult Sunday School
DESCRIPTION:
URL:https://fpcdarien.com/event/adult-sunday-school/2028-01-02/
LOCATION:Adult Sunday School room
END:VEVENT
BEGIN:VEVENT
DTSTART;TZID=America/New_York:20280105T110000
DTEND;TZID=America/New_York:20280105T120000
DTSTAMP:20260424T170303
CREATED:20260414T192812Z
LAST-MODIFIED:20260414T192812Z
UID:10001810-1830682800-1830686400@fpcdarien.com
SUMMARY:Women's Bible Study
DESCRIPTION:
URL:https://fpcdarien.com/event/womens-bible-study-2/2028-01-05/
LOCATION:Adult Sunday School room
END:VEVENT
BEGIN:VEVENT
DTSTART;TZID=America/New_York:20280108T100000
DTEND;TZID=America/New_York:20280108T110000
DTSTAMP:20260424T170303
CREATED:20230524T161020Z
LAST-MODIFIED:20230524T161020Z
UID:10001012-1830938400-1830942000@fpcdarien.com
SUMMARY:Men's Bible Study
DESCRIPTION:
URL:https://fpcdarien.com/event/mens-bible-study/2028-01-08/
LOCATION:Adult Sunday School room
END:VEVENT
BEGIN:VEVENT
DTSTART;TZID=America/New_York:20280109T093000
DTEND;TZID=America/New_York:20280109T103000
DTSTAMP:20260424T170303
CREATED:20230525T135738Z
LAST-MODIFIED:20230525T135738Z
UID:10001333-1831023000-1831026600@fpcdarien.com
SUMMARY:Adult Sunday School
DESCRIPTION:
URL:https://fpcdarien.com/event/adult-sunday-school/2028-01-09/
LOCATION:Adult Sunday School room
END:VEVENT
BEGIN:VEVENT
DTSTART;TZID=America/New_York:20280110T100000
DTEND;TZID=America/New_York:20280110T110000
DTSTAMP:20260424T170303
CREATED:20230525T140937Z
LAST-MODIFIED:20230525T140937Z
UID:10001589-1831111200-1831114800@fpcdarien.com
SUMMARY:Session
DESCRIPTION:
URL:https://fpcdarien.com/event/session/2028-01-10/
LOCATION:Adult Sunday School room
END:VEVENT
END:VCALENDAR