BEGIN:VCALENDAR
VERSION:2.0
PRODID:-//First Presbyterian Church of Darien - ECPv6.15.20//NONSGML v1.0//EN
CALSCALE:GREGORIAN
METHOD:PUBLISH
X-ORIGINAL-URL:https://fpcdarien.com
X-WR-CALDESC:Events for First Presbyterian Church of Darien
REFRESH-INTERVAL;VALUE=DURATION:PT1H
X-Robots-Tag:noindex
X-PUBLISHED-TTL:PT1H
BEGIN:VTIMEZONE
TZID:America/New_York
BEGIN:DAYLIGHT
TZOFFSETFROM:-0500
TZOFFSETTO:-0400
TZNAME:EDT
DTSTART:20230312T070000
END:DAYLIGHT
BEGIN:STANDARD
TZOFFSETFROM:-0400
TZOFFSETTO:-0500
TZNAME:EST
DTSTART:20231105T060000
END:STANDARD
BEGIN:DAYLIGHT
TZOFFSETFROM:-0500
TZOFFSETTO:-0400
TZNAME:EDT
DTSTART:20240310T070000
END:DAYLIGHT
BEGIN:STANDARD
TZOFFSETFROM:-0400
TZOFFSETTO:-0500
TZNAME:EST
DTSTART:20241103T060000
END:STANDARD
BEGIN:DAYLIGHT
TZOFFSETFROM:-0500
TZOFFSETTO:-0400
TZNAME:EDT
DTSTART:20250309T070000
END:DAYLIGHT
BEGIN:STANDARD
TZOFFSETFROM:-0400
TZOFFSETTO:-0500
TZNAME:EST
DTSTART:20251102T060000
END:STANDARD
END:VTIMEZONE
BEGIN:VEVENT
DTSTART;TZID=America/New_York:20241027T093000
DTEND;TZID=America/New_York:20241027T103000
DTSTAMP:20260424T164602
CREATED:20230525T135738Z
LAST-MODIFIED:20230525T135738Z
UID:10001166-1730021400-1730025000@fpcdarien.com
SUMMARY:Adult Sunday School
DESCRIPTION:
URL:https://fpcdarien.com/event/adult-sunday-school/2024-10-27/
LOCATION:Adult Sunday School room
END:VEVENT
BEGIN:VEVENT
DTSTART;TZID=America/New_York:20241026T100000
DTEND;TZID=America/New_York:20241026T110000
DTSTAMP:20260424T164602
CREATED:20230524T161020Z
LAST-MODIFIED:20230524T161020Z
UID:10000845-1729936800-1729940400@fpcdarien.com
SUMMARY:Men's Bible Study
DESCRIPTION:
URL:https://fpcdarien.com/event/mens-bible-study/2024-10-26/
LOCATION:Adult Sunday School room
END:VEVENT
BEGIN:VEVENT
DTSTART;TZID=America/New_York:20241022T110000
DTEND;TZID=America/New_York:20241022T120000
DTSTAMP:20260424T164602
CREATED:20230524T160321Z
LAST-MODIFIED:20230524T160849Z
UID:10000583-1729594800-1729598400@fpcdarien.com
SUMMARY:Women's Bible Study
DESCRIPTION:
URL:https://fpcdarien.com/event/womens-bible-study/2024-10-22/
LOCATION:Adult Sunday School room
END:VEVENT
BEGIN:VEVENT
DTSTART;TZID=America/New_York:20241020T093000
DTEND;TZID=America/New_York:20241020T103000
DTSTAMP:20260424T164602
CREATED:20230525T135738Z
LAST-MODIFIED:20230525T135738Z
UID:10001165-1729416600-1729420200@fpcdarien.com
SUMMARY:Adult Sunday School
DESCRIPTION:
URL:https://fpcdarien.com/event/adult-sunday-school/2024-10-20/
LOCATION:Adult Sunday School room
END:VEVENT
BEGIN:VEVENT
DTSTART;TZID=America/New_York:20241019T100000
DTEND;TZID=America/New_York:20241019T110000
DTSTAMP:20260424T164602
CREATED:20230524T161020Z
LAST-MODIFIED:20230524T161020Z
UID:10000844-1729332000-1729335600@fpcdarien.com
SUMMARY:Men's Bible Study
DESCRIPTION:
URL:https://fpcdarien.com/event/mens-bible-study/2024-10-19/
LOCATION:Adult Sunday School room
END:VEVENT
BEGIN:VEVENT
DTSTART;TZID=America/New_York:20241015T110000
DTEND;TZID=America/New_York:20241015T120000
DTSTAMP:20260424T164602
CREATED:20230524T160321Z
LAST-MODIFIED:20230524T160849Z
UID:10000582-1728990000-1728993600@fpcdarien.com
SUMMARY:Women's Bible Study
DESCRIPTION:
URL:https://fpcdarien.com/event/womens-bible-study/2024-10-15/
LOCATION:Adult Sunday School room
END:VEVENT
BEGIN:VEVENT
DTSTART;TZID=America/New_York:20241014T100000
DTEND;TZID=America/New_York:20241014T110000
DTSTAMP:20260424T164602
CREATED:20230525T140937Z
LAST-MODIFIED:20230525T140937Z
UID:10001550-1728900000-1728903600@fpcdarien.com
SUMMARY:Session
DESCRIPTION:
URL:https://fpcdarien.com/event/session/2024-10-14/
LOCATION:Adult Sunday School room
END:VEVENT
BEGIN:VEVENT
DTSTART;TZID=America/New_York:20241013T093000
DTEND;TZID=America/New_York:20241013T103000
DTSTAMP:20260424T164602
CREATED:20230525T135738Z
LAST-MODIFIED:20230525T135738Z
UID:10001164-1728811800-1728815400@fpcdarien.com
SUMMARY:Adult Sunday School
DESCRIPTION:
URL:https://fpcdarien.com/event/adult-sunday-school/2024-10-13/
LOCATION:Adult Sunday School room
END:VEVENT
BEGIN:VEVENT
DTSTART;TZID=America/New_York:20241012T100000
DTEND;TZID=America/New_York:20241012T110000
DTSTAMP:20260424T164602
CREATED:20230524T161020Z
LAST-MODIFIED:20230524T161020Z
UID:10000843-1728727200-1728730800@fpcdarien.com
SUMMARY:Men's Bible Study
DESCRIPTION:
URL:https://fpcdarien.com/event/mens-bible-study/2024-10-12/
LOCATION:Adult Sunday School room
END:VEVENT
BEGIN:VEVENT
DTSTART;TZID=America/New_York:20241008T110000
DTEND;TZID=America/New_York:20241008T120000
DTSTAMP:20260424T164602
CREATED:20230524T160321Z
LAST-MODIFIED:20230524T160849Z
UID:10000581-1728385200-1728388800@fpcdarien.com
SUMMARY:Women's Bible Study
DESCRIPTION:
URL:https://fpcdarien.com/event/womens-bible-study/2024-10-08/
LOCATION:Adult Sunday School room
END:VEVENT
BEGIN:VEVENT
DTSTART;TZID=America/New_York:20241006T093000
DTEND;TZID=America/New_York:20241006T103000
DTSTAMP:20260424T164602
CREATED:20230525T135738Z
LAST-MODIFIED:20230525T135738Z
UID:10001163-1728207000-1728210600@fpcdarien.com
SUMMARY:Adult Sunday School
DESCRIPTION:
URL:https://fpcdarien.com/event/adult-sunday-school/2024-10-06/
LOCATION:Adult Sunday School room
END:VEVENT
BEGIN:VEVENT
DTSTART;TZID=America/New_York:20241005T100000
DTEND;TZID=America/New_York:20241005T110000
DTSTAMP:20260424T164602
CREATED:20230524T161020Z
LAST-MODIFIED:20230524T161020Z
UID:10000842-1728122400-1728126000@fpcdarien.com
SUMMARY:Men's Bible Study
DESCRIPTION:
URL:https://fpcdarien.com/event/mens-bible-study/2024-10-05/
LOCATION:Adult Sunday School room
END:VEVENT
BEGIN:VEVENT
DTSTART;TZID=America/New_York:20241001T110000
DTEND;TZID=America/New_York:20241001T120000
DTSTAMP:20260424T164602
CREATED:20230524T160321Z
LAST-MODIFIED:20230524T160849Z
UID:10000580-1727780400-1727784000@fpcdarien.com
SUMMARY:Women's Bible Study
DESCRIPTION:
URL:https://fpcdarien.com/event/womens-bible-study/2024-10-01/
LOCATION:Adult Sunday School room
END:VEVENT
BEGIN:VEVENT
DTSTART;TZID=America/New_York:20240929T093000
DTEND;TZID=America/New_York:20240929T103000
DTSTAMP:20260424T164602
CREATED:20230525T135738Z
LAST-MODIFIED:20230525T135738Z
UID:10001162-1727602200-1727605800@fpcdarien.com
SUMMARY:Adult Sunday School
DESCRIPTION:
URL:https://fpcdarien.com/event/adult-sunday-school/2024-09-29/
LOCATION:Adult Sunday School room
END:VEVENT
BEGIN:VEVENT
DTSTART;TZID=America/New_York:20240928T100000
DTEND;TZID=America/New_York:20240928T110000
DTSTAMP:20260424T164602
CREATED:20230524T161020Z
LAST-MODIFIED:20230524T161020Z
UID:10000841-1727517600-1727521200@fpcdarien.com
SUMMARY:Men's Bible Study
DESCRIPTION:
URL:https://fpcdarien.com/event/mens-bible-study/2024-09-28/
LOCATION:Adult Sunday School room
END:VEVENT
BEGIN:VEVENT
DTSTART;TZID=America/New_York:20240924T110000
DTEND;TZID=America/New_York:20240924T120000
DTSTAMP:20260424T164602
CREATED:20230524T160321Z
LAST-MODIFIED:20230524T160849Z
UID:10000579-1727175600-1727179200@fpcdarien.com
SUMMARY:Women's Bible Study
DESCRIPTION:
URL:https://fpcdarien.com/event/womens-bible-study/2024-09-24/
LOCATION:Adult Sunday School room
END:VEVENT
BEGIN:VEVENT
DTSTART;TZID=America/New_York:20240922T093000
DTEND;TZID=America/New_York:20240922T103000
DTSTAMP:20260424T164602
CREATED:20230525T135738Z
LAST-MODIFIED:20230525T135738Z
UID:10001161-1726997400-1727001000@fpcdarien.com
SUMMARY:Adult Sunday School
DESCRIPTION:
URL:https://fpcdarien.com/event/adult-sunday-school/2024-09-22/
LOCATION:Adult Sunday School room
END:VEVENT
BEGIN:VEVENT
DTSTART;TZID=America/New_York:20240921T100000
DTEND;TZID=America/New_York:20240921T110000
DTSTAMP:20260424T164602
CREATED:20230524T161020Z
LAST-MODIFIED:20230524T161020Z
UID:10000840-1726912800-1726916400@fpcdarien.com
SUMMARY:Men's Bible Study
DESCRIPTION:
URL:https://fpcdarien.com/event/mens-bible-study/2024-09-21/
LOCATION:Adult Sunday School room
END:VEVENT
BEGIN:VEVENT
DTSTART;TZID=America/New_York:20240917T110000
DTEND;TZID=America/New_York:20240917T120000
DTSTAMP:20260424T164602
CREATED:20230524T160321Z
LAST-MODIFIED:20230524T160849Z
UID:10000578-1726570800-1726574400@fpcdarien.com
SUMMARY:Women's Bible Study
DESCRIPTION:
URL:https://fpcdarien.com/event/womens-bible-study/2024-09-17/
LOCATION:Adult Sunday School room
END:VEVENT
BEGIN:VEVENT
DTSTART;TZID=America/New_York:20240915T093000
DTEND;TZID=America/New_York:20240915T103000
DTSTAMP:20260424T164602
CREATED:20230525T135738Z
LAST-MODIFIED:20230525T135738Z
UID:10001160-1726392600-1726396200@fpcdarien.com
SUMMARY:Adult Sunday School
DESCRIPTION:
URL:https://fpcdarien.com/event/adult-sunday-school/2024-09-15/
LOCATION:Adult Sunday School room
END:VEVENT
BEGIN:VEVENT
DTSTART;TZID=America/New_York:20240914T100000
DTEND;TZID=America/New_York:20240914T110000
DTSTAMP:20260424T164602
CREATED:20230524T161020Z
LAST-MODIFIED:20230524T161020Z
UID:10000839-1726308000-1726311600@fpcdarien.com
SUMMARY:Men's Bible Study
DESCRIPTION:
URL:https://fpcdarien.com/event/mens-bible-study/2024-09-14/
LOCATION:Adult Sunday School room
END:VEVENT
BEGIN:VEVENT
DTSTART;TZID=America/New_York:20240910T110000
DTEND;TZID=America/New_York:20240910T120000
DTSTAMP:20260424T164602
CREATED:20230524T160321Z
LAST-MODIFIED:20230524T160849Z
UID:10000577-1725966000-1725969600@fpcdarien.com
SUMMARY:Women's Bible Study
DESCRIPTION:
URL:https://fpcdarien.com/event/womens-bible-study/2024-09-10/
LOCATION:Adult Sunday School room
END:VEVENT
BEGIN:VEVENT
DTSTART;TZID=America/New_York:20240909T100000
DTEND;TZID=America/New_York:20240909T110000
DTSTAMP:20260424T164602
CREATED:20230525T140937Z
LAST-MODIFIED:20230525T140937Z
UID:10001549-1725876000-1725879600@fpcdarien.com
SUMMARY:Session
DESCRIPTION:
URL:https://fpcdarien.com/event/session/2024-09-09/
LOCATION:Adult Sunday School room
END:VEVENT
BEGIN:VEVENT
DTSTART;TZID=America/New_York:20240908T093000
DTEND;TZID=America/New_York:20240908T103000
DTSTAMP:20260424T164602
CREATED:20230525T135738Z
LAST-MODIFIED:20230525T135738Z
UID:10001159-1725787800-1725791400@fpcdarien.com
SUMMARY:Adult Sunday School
DESCRIPTION:
URL:https://fpcdarien.com/event/adult-sunday-school/2024-09-08/
LOCATION:Adult Sunday School room
END:VEVENT
BEGIN:VEVENT
DTSTART;TZID=America/New_York:20240907T100000
DTEND;TZID=America/New_York:20240907T110000
DTSTAMP:20260424T164602
CREATED:20230524T161020Z
LAST-MODIFIED:20230524T161020Z
UID:10000838-1725703200-1725706800@fpcdarien.com
SUMMARY:Men's Bible Study
DESCRIPTION:
URL:https://fpcdarien.com/event/mens-bible-study/2024-09-07/
LOCATION:Adult Sunday School room
END:VEVENT
BEGIN:VEVENT
DTSTART;TZID=America/New_York:20240903T110000
DTEND;TZID=America/New_York:20240903T120000
DTSTAMP:20260424T164602
CREATED:20230524T160321Z
LAST-MODIFIED:20230524T160849Z
UID:10000576-1725361200-1725364800@fpcdarien.com
SUMMARY:Women's Bible Study
DESCRIPTION:
URL:https://fpcdarien.com/event/womens-bible-study/2024-09-03/
LOCATION:Adult Sunday School room
END:VEVENT
BEGIN:VEVENT
DTSTART;TZID=America/New_York:20240901T093000
DTEND;TZID=America/New_York:20240901T103000
DTSTAMP:20260424T164602
CREATED:20230525T135738Z
LAST-MODIFIED:20230525T135738Z
UID:10001158-1725183000-1725186600@fpcdarien.com
SUMMARY:Adult Sunday School
DESCRIPTION:
URL:https://fpcdarien.com/event/adult-sunday-school/2024-09-01/
LOCATION:Adult Sunday School room
END:VEVENT
BEGIN:VEVENT
DTSTART;TZID=America/New_York:20240831T100000
DTEND;TZID=America/New_York:20240831T110000
DTSTAMP:20260424T164602
CREATED:20230524T161020Z
LAST-MODIFIED:20230524T161020Z
UID:10000837-1725098400-1725102000@fpcdarien.com
SUMMARY:Men's Bible Study
DESCRIPTION:
URL:https://fpcdarien.com/event/mens-bible-study/2024-08-31/
LOCATION:Adult Sunday School room
END:VEVENT
BEGIN:VEVENT
DTSTART;TZID=America/New_York:20240827T110000
DTEND;TZID=America/New_York:20240827T120000
DTSTAMP:20260424T164602
CREATED:20230524T160321Z
LAST-MODIFIED:20230524T160849Z
UID:10000575-1724756400-1724760000@fpcdarien.com
SUMMARY:Women's Bible Study
DESCRIPTION:
URL:https://fpcdarien.com/event/womens-bible-study/2024-08-27/
LOCATION:Adult Sunday School room
END:VEVENT
BEGIN:VEVENT
DTSTART;TZID=America/New_York:20240825T093000
DTEND;TZID=America/New_York:20240825T103000
DTSTAMP:20260424T164602
CREATED:20230525T135738Z
LAST-MODIFIED:20230525T135738Z
UID:10001157-1724578200-1724581800@fpcdarien.com
SUMMARY:Adult Sunday School
DESCRIPTION:
URL:https://fpcdarien.com/event/adult-sunday-school/2024-08-25/
LOCATION:Adult Sunday School room
END:VEVENT
END:VCALENDAR