BEGIN:VCALENDAR
VERSION:2.0
PRODID:-//First Presbyterian Church of Darien - ECPv6.15.20//NONSGML v1.0//EN
CALSCALE:GREGORIAN
METHOD:PUBLISH
X-ORIGINAL-URL:https://fpcdarien.com
X-WR-CALDESC:Events for First Presbyterian Church of Darien
REFRESH-INTERVAL;VALUE=DURATION:PT1H
X-Robots-Tag:noindex
X-PUBLISHED-TTL:PT1H
BEGIN:VTIMEZONE
TZID:America/New_York
BEGIN:DAYLIGHT
TZOFFSETFROM:-0500
TZOFFSETTO:-0400
TZNAME:EDT
DTSTART:20230312T070000
END:DAYLIGHT
BEGIN:STANDARD
TZOFFSETFROM:-0400
TZOFFSETTO:-0500
TZNAME:EST
DTSTART:20231105T060000
END:STANDARD
BEGIN:DAYLIGHT
TZOFFSETFROM:-0500
TZOFFSETTO:-0400
TZNAME:EDT
DTSTART:20240310T070000
END:DAYLIGHT
BEGIN:STANDARD
TZOFFSETFROM:-0400
TZOFFSETTO:-0500
TZNAME:EST
DTSTART:20241103T060000
END:STANDARD
BEGIN:DAYLIGHT
TZOFFSETFROM:-0500
TZOFFSETTO:-0400
TZNAME:EDT
DTSTART:20250309T070000
END:DAYLIGHT
BEGIN:STANDARD
TZOFFSETFROM:-0400
TZOFFSETTO:-0500
TZNAME:EST
DTSTART:20251102T060000
END:STANDARD
END:VTIMEZONE
BEGIN:VEVENT
DTSTART;TZID=America/New_York:20241209T100000
DTEND;TZID=America/New_York:20241209T110000
DTSTAMP:20260424T140843
CREATED:20230525T140937Z
LAST-MODIFIED:20230525T140937Z
UID:10001552-1733738400-1733742000@fpcdarien.com
SUMMARY:Session
DESCRIPTION:
URL:https://fpcdarien.com/event/session/2024-12-09/
LOCATION:Adult Sunday School room
END:VEVENT
BEGIN:VEVENT
DTSTART;TZID=America/New_York:20241208T093000
DTEND;TZID=America/New_York:20241208T103000
DTSTAMP:20260424T140843
CREATED:20230525T135738Z
LAST-MODIFIED:20230525T135738Z
UID:10001172-1733650200-1733653800@fpcdarien.com
SUMMARY:Adult Sunday School
DESCRIPTION:
URL:https://fpcdarien.com/event/adult-sunday-school/2024-12-08/
LOCATION:Adult Sunday School room
END:VEVENT
BEGIN:VEVENT
DTSTART;TZID=America/New_York:20241207T100000
DTEND;TZID=America/New_York:20241207T110000
DTSTAMP:20260424T140843
CREATED:20230524T161020Z
LAST-MODIFIED:20230524T161020Z
UID:10000851-1733565600-1733569200@fpcdarien.com
SUMMARY:Men's Bible Study
DESCRIPTION:
URL:https://fpcdarien.com/event/mens-bible-study/2024-12-07/
LOCATION:Adult Sunday School room
END:VEVENT
BEGIN:VEVENT
DTSTART;TZID=America/New_York:20241203T110000
DTEND;TZID=America/New_York:20241203T120000
DTSTAMP:20260424T140843
CREATED:20230524T160321Z
LAST-MODIFIED:20230524T160849Z
UID:10000589-1733223600-1733227200@fpcdarien.com
SUMMARY:Women's Bible Study
DESCRIPTION:
URL:https://fpcdarien.com/event/womens-bible-study/2024-12-03/
LOCATION:Adult Sunday School room
END:VEVENT
BEGIN:VEVENT
DTSTART;TZID=America/New_York:20241201T093000
DTEND;TZID=America/New_York:20241201T103000
DTSTAMP:20260424T140843
CREATED:20230525T135738Z
LAST-MODIFIED:20230525T135738Z
UID:10001171-1733045400-1733049000@fpcdarien.com
SUMMARY:Adult Sunday School
DESCRIPTION:
URL:https://fpcdarien.com/event/adult-sunday-school/2024-12-01/
LOCATION:Adult Sunday School room
END:VEVENT
BEGIN:VEVENT
DTSTART;TZID=America/New_York:20241130T100000
DTEND;TZID=America/New_York:20241130T110000
DTSTAMP:20260424T140843
CREATED:20230524T161020Z
LAST-MODIFIED:20230524T161020Z
UID:10000850-1732960800-1732964400@fpcdarien.com
SUMMARY:Men's Bible Study
DESCRIPTION:
URL:https://fpcdarien.com/event/mens-bible-study/2024-11-30/
LOCATION:Adult Sunday School room
END:VEVENT
BEGIN:VEVENT
DTSTART;TZID=America/New_York:20241126T110000
DTEND;TZID=America/New_York:20241126T120000
DTSTAMP:20260424T140843
CREATED:20230524T160321Z
LAST-MODIFIED:20230524T160849Z
UID:10000588-1732618800-1732622400@fpcdarien.com
SUMMARY:Women's Bible Study
DESCRIPTION:
URL:https://fpcdarien.com/event/womens-bible-study/2024-11-26/
LOCATION:Adult Sunday School room
END:VEVENT
BEGIN:VEVENT
DTSTART;TZID=America/New_York:20241124T093000
DTEND;TZID=America/New_York:20241124T103000
DTSTAMP:20260424T140843
CREATED:20230525T135738Z
LAST-MODIFIED:20230525T135738Z
UID:10001170-1732440600-1732444200@fpcdarien.com
SUMMARY:Adult Sunday School
DESCRIPTION:
URL:https://fpcdarien.com/event/adult-sunday-school/2024-11-24/
LOCATION:Adult Sunday School room
END:VEVENT
BEGIN:VEVENT
DTSTART;TZID=America/New_York:20241123T100000
DTEND;TZID=America/New_York:20241123T110000
DTSTAMP:20260424T140843
CREATED:20230524T161020Z
LAST-MODIFIED:20230524T161020Z
UID:10000849-1732356000-1732359600@fpcdarien.com
SUMMARY:Men's Bible Study
DESCRIPTION:
URL:https://fpcdarien.com/event/mens-bible-study/2024-11-23/
LOCATION:Adult Sunday School room
END:VEVENT
BEGIN:VEVENT
DTSTART;TZID=America/New_York:20241119T110000
DTEND;TZID=America/New_York:20241119T120000
DTSTAMP:20260424T140843
CREATED:20230524T160321Z
LAST-MODIFIED:20230524T160849Z
UID:10000587-1732014000-1732017600@fpcdarien.com
SUMMARY:Women's Bible Study
DESCRIPTION:
URL:https://fpcdarien.com/event/womens-bible-study/2024-11-19/
LOCATION:Adult Sunday School room
END:VEVENT
BEGIN:VEVENT
DTSTART;TZID=America/New_York:20241117T093000
DTEND;TZID=America/New_York:20241117T103000
DTSTAMP:20260424T140843
CREATED:20230525T135738Z
LAST-MODIFIED:20230525T135738Z
UID:10001169-1731835800-1731839400@fpcdarien.com
SUMMARY:Adult Sunday School
DESCRIPTION:
URL:https://fpcdarien.com/event/adult-sunday-school/2024-11-17/
LOCATION:Adult Sunday School room
END:VEVENT
BEGIN:VEVENT
DTSTART;TZID=America/New_York:20241116T100000
DTEND;TZID=America/New_York:20241116T110000
DTSTAMP:20260424T140843
CREATED:20230524T161020Z
LAST-MODIFIED:20230524T161020Z
UID:10000848-1731751200-1731754800@fpcdarien.com
SUMMARY:Men's Bible Study
DESCRIPTION:
URL:https://fpcdarien.com/event/mens-bible-study/2024-11-16/
LOCATION:Adult Sunday School room
END:VEVENT
BEGIN:VEVENT
DTSTART;TZID=America/New_York:20241112T110000
DTEND;TZID=America/New_York:20241112T120000
DTSTAMP:20260424T140843
CREATED:20230524T160321Z
LAST-MODIFIED:20230524T160849Z
UID:10000586-1731409200-1731412800@fpcdarien.com
SUMMARY:Women's Bible Study
DESCRIPTION:
URL:https://fpcdarien.com/event/womens-bible-study/2024-11-12/
LOCATION:Adult Sunday School room
END:VEVENT
BEGIN:VEVENT
DTSTART;TZID=America/New_York:20241111T100000
DTEND;TZID=America/New_York:20241111T110000
DTSTAMP:20260424T140843
CREATED:20230525T140937Z
LAST-MODIFIED:20230525T140937Z
UID:10001551-1731319200-1731322800@fpcdarien.com
SUMMARY:Session
DESCRIPTION:
URL:https://fpcdarien.com/event/session/2024-11-11/
LOCATION:Adult Sunday School room
END:VEVENT
BEGIN:VEVENT
DTSTART;TZID=America/New_York:20241110T093000
DTEND;TZID=America/New_York:20241110T103000
DTSTAMP:20260424T140843
CREATED:20230525T135738Z
LAST-MODIFIED:20230525T135738Z
UID:10001168-1731231000-1731234600@fpcdarien.com
SUMMARY:Adult Sunday School
DESCRIPTION:
URL:https://fpcdarien.com/event/adult-sunday-school/2024-11-10/
LOCATION:Adult Sunday School room
END:VEVENT
BEGIN:VEVENT
DTSTART;TZID=America/New_York:20241109T100000
DTEND;TZID=America/New_York:20241109T110000
DTSTAMP:20260424T140843
CREATED:20230524T161020Z
LAST-MODIFIED:20230524T161020Z
UID:10000847-1731146400-1731150000@fpcdarien.com
SUMMARY:Men's Bible Study
DESCRIPTION:
URL:https://fpcdarien.com/event/mens-bible-study/2024-11-09/
LOCATION:Adult Sunday School room
END:VEVENT
BEGIN:VEVENT
DTSTART;TZID=America/New_York:20241105T110000
DTEND;TZID=America/New_York:20241105T120000
DTSTAMP:20260424T140843
CREATED:20230524T160321Z
LAST-MODIFIED:20230524T160849Z
UID:10000585-1730804400-1730808000@fpcdarien.com
SUMMARY:Women's Bible Study
DESCRIPTION:
URL:https://fpcdarien.com/event/womens-bible-study/2024-11-05/
LOCATION:Adult Sunday School room
END:VEVENT
BEGIN:VEVENT
DTSTART;TZID=America/New_York:20241103T093000
DTEND;TZID=America/New_York:20241103T103000
DTSTAMP:20260424T140843
CREATED:20230525T135738Z
LAST-MODIFIED:20230525T135738Z
UID:10001167-1730626200-1730629800@fpcdarien.com
SUMMARY:Adult Sunday School
DESCRIPTION:
URL:https://fpcdarien.com/event/adult-sunday-school/2024-11-03/
LOCATION:Adult Sunday School room
END:VEVENT
BEGIN:VEVENT
DTSTART;TZID=America/New_York:20241102T100000
DTEND;TZID=America/New_York:20241102T110000
DTSTAMP:20260424T140843
CREATED:20230524T161020Z
LAST-MODIFIED:20230524T161020Z
UID:10000846-1730541600-1730545200@fpcdarien.com
SUMMARY:Men's Bible Study
DESCRIPTION:
URL:https://fpcdarien.com/event/mens-bible-study/2024-11-02/
LOCATION:Adult Sunday School room
END:VEVENT
BEGIN:VEVENT
DTSTART;TZID=America/New_York:20241029T110000
DTEND;TZID=America/New_York:20241029T120000
DTSTAMP:20260424T140843
CREATED:20230524T160321Z
LAST-MODIFIED:20230524T160849Z
UID:10000584-1730199600-1730203200@fpcdarien.com
SUMMARY:Women's Bible Study
DESCRIPTION:
URL:https://fpcdarien.com/event/womens-bible-study/2024-10-29/
LOCATION:Adult Sunday School room
END:VEVENT
BEGIN:VEVENT
DTSTART;TZID=America/New_York:20241027T093000
DTEND;TZID=America/New_York:20241027T103000
DTSTAMP:20260424T140843
CREATED:20230525T135738Z
LAST-MODIFIED:20230525T135738Z
UID:10001166-1730021400-1730025000@fpcdarien.com
SUMMARY:Adult Sunday School
DESCRIPTION:
URL:https://fpcdarien.com/event/adult-sunday-school/2024-10-27/
LOCATION:Adult Sunday School room
END:VEVENT
BEGIN:VEVENT
DTSTART;TZID=America/New_York:20241026T100000
DTEND;TZID=America/New_York:20241026T110000
DTSTAMP:20260424T140843
CREATED:20230524T161020Z
LAST-MODIFIED:20230524T161020Z
UID:10000845-1729936800-1729940400@fpcdarien.com
SUMMARY:Men's Bible Study
DESCRIPTION:
URL:https://fpcdarien.com/event/mens-bible-study/2024-10-26/
LOCATION:Adult Sunday School room
END:VEVENT
BEGIN:VEVENT
DTSTART;TZID=America/New_York:20241022T110000
DTEND;TZID=America/New_York:20241022T120000
DTSTAMP:20260424T140843
CREATED:20230524T160321Z
LAST-MODIFIED:20230524T160849Z
UID:10000583-1729594800-1729598400@fpcdarien.com
SUMMARY:Women's Bible Study
DESCRIPTION:
URL:https://fpcdarien.com/event/womens-bible-study/2024-10-22/
LOCATION:Adult Sunday School room
END:VEVENT
BEGIN:VEVENT
DTSTART;TZID=America/New_York:20241020T093000
DTEND;TZID=America/New_York:20241020T103000
DTSTAMP:20260424T140843
CREATED:20230525T135738Z
LAST-MODIFIED:20230525T135738Z
UID:10001165-1729416600-1729420200@fpcdarien.com
SUMMARY:Adult Sunday School
DESCRIPTION:
URL:https://fpcdarien.com/event/adult-sunday-school/2024-10-20/
LOCATION:Adult Sunday School room
END:VEVENT
BEGIN:VEVENT
DTSTART;TZID=America/New_York:20241019T100000
DTEND;TZID=America/New_York:20241019T110000
DTSTAMP:20260424T140843
CREATED:20230524T161020Z
LAST-MODIFIED:20230524T161020Z
UID:10000844-1729332000-1729335600@fpcdarien.com
SUMMARY:Men's Bible Study
DESCRIPTION:
URL:https://fpcdarien.com/event/mens-bible-study/2024-10-19/
LOCATION:Adult Sunday School room
END:VEVENT
BEGIN:VEVENT
DTSTART;TZID=America/New_York:20241015T110000
DTEND;TZID=America/New_York:20241015T120000
DTSTAMP:20260424T140843
CREATED:20230524T160321Z
LAST-MODIFIED:20230524T160849Z
UID:10000582-1728990000-1728993600@fpcdarien.com
SUMMARY:Women's Bible Study
DESCRIPTION:
URL:https://fpcdarien.com/event/womens-bible-study/2024-10-15/
LOCATION:Adult Sunday School room
END:VEVENT
BEGIN:VEVENT
DTSTART;TZID=America/New_York:20241014T100000
DTEND;TZID=America/New_York:20241014T110000
DTSTAMP:20260424T140843
CREATED:20230525T140937Z
LAST-MODIFIED:20230525T140937Z
UID:10001550-1728900000-1728903600@fpcdarien.com
SUMMARY:Session
DESCRIPTION:
URL:https://fpcdarien.com/event/session/2024-10-14/
LOCATION:Adult Sunday School room
END:VEVENT
BEGIN:VEVENT
DTSTART;TZID=America/New_York:20241013T093000
DTEND;TZID=America/New_York:20241013T103000
DTSTAMP:20260424T140843
CREATED:20230525T135738Z
LAST-MODIFIED:20230525T135738Z
UID:10001164-1728811800-1728815400@fpcdarien.com
SUMMARY:Adult Sunday School
DESCRIPTION:
URL:https://fpcdarien.com/event/adult-sunday-school/2024-10-13/
LOCATION:Adult Sunday School room
END:VEVENT
BEGIN:VEVENT
DTSTART;TZID=America/New_York:20241012T100000
DTEND;TZID=America/New_York:20241012T110000
DTSTAMP:20260424T140843
CREATED:20230524T161020Z
LAST-MODIFIED:20230524T161020Z
UID:10000843-1728727200-1728730800@fpcdarien.com
SUMMARY:Men's Bible Study
DESCRIPTION:
URL:https://fpcdarien.com/event/mens-bible-study/2024-10-12/
LOCATION:Adult Sunday School room
END:VEVENT
BEGIN:VEVENT
DTSTART;TZID=America/New_York:20241008T110000
DTEND;TZID=America/New_York:20241008T120000
DTSTAMP:20260424T140843
CREATED:20230524T160321Z
LAST-MODIFIED:20230524T160849Z
UID:10000581-1728385200-1728388800@fpcdarien.com
SUMMARY:Women's Bible Study
DESCRIPTION:
URL:https://fpcdarien.com/event/womens-bible-study/2024-10-08/
LOCATION:Adult Sunday School room
END:VEVENT
END:VCALENDAR