BEGIN:VCALENDAR
VERSION:2.0
PRODID:-//First Presbyterian Church of Darien - ECPv6.15.20//NONSGML v1.0//EN
CALSCALE:GREGORIAN
METHOD:PUBLISH
X-WR-CALNAME:First Presbyterian Church of Darien
X-ORIGINAL-URL:https://fpcdarien.com
X-WR-CALDESC:Events for First Presbyterian Church of Darien
REFRESH-INTERVAL;VALUE=DURATION:PT1H
X-Robots-Tag:noindex
X-PUBLISHED-TTL:PT1H
BEGIN:VTIMEZONE
TZID:America/New_York
BEGIN:DAYLIGHT
TZOFFSETFROM:-0500
TZOFFSETTO:-0400
TZNAME:EDT
DTSTART:20260308T070000
END:DAYLIGHT
BEGIN:STANDARD
TZOFFSETFROM:-0400
TZOFFSETTO:-0500
TZNAME:EST
DTSTART:20261101T060000
END:STANDARD
BEGIN:DAYLIGHT
TZOFFSETFROM:-0500
TZOFFSETTO:-0400
TZNAME:EDT
DTSTART:20270314T070000
END:DAYLIGHT
BEGIN:STANDARD
TZOFFSETFROM:-0400
TZOFFSETTO:-0500
TZNAME:EST
DTSTART:20271107T060000
END:STANDARD
BEGIN:DAYLIGHT
TZOFFSETFROM:-0500
TZOFFSETTO:-0400
TZNAME:EDT
DTSTART:20280312T070000
END:DAYLIGHT
BEGIN:STANDARD
TZOFFSETFROM:-0400
TZOFFSETTO:-0500
TZNAME:EST
DTSTART:20281105T060000
END:STANDARD
END:VTIMEZONE
BEGIN:VEVENT
DTSTART;TZID=America/New_York:20270612T100000
DTEND;TZID=America/New_York:20270612T110000
DTSTAMP:20260424T073853
CREATED:20230524T161020Z
LAST-MODIFIED:20230524T161020Z
UID:10000982-1812794400-1812798000@fpcdarien.com
SUMMARY:Men's Bible Study
DESCRIPTION:
URL:https://fpcdarien.com/event/mens-bible-study/2027-06-12/
LOCATION:Adult Sunday School room
END:VEVENT
BEGIN:VEVENT
DTSTART;TZID=America/New_York:20270613T093000
DTEND;TZID=America/New_York:20270613T103000
DTSTAMP:20260424T073853
CREATED:20230525T135738Z
LAST-MODIFIED:20230525T135738Z
UID:10001303-1812879000-1812882600@fpcdarien.com
SUMMARY:Adult Sunday School
DESCRIPTION:
URL:https://fpcdarien.com/event/adult-sunday-school/2027-06-13/
LOCATION:Adult Sunday School room
END:VEVENT
BEGIN:VEVENT
DTSTART;TZID=America/New_York:20270614T100000
DTEND;TZID=America/New_York:20270614T110000
DTSTAMP:20260424T073853
CREATED:20230525T140937Z
LAST-MODIFIED:20230525T140937Z
UID:10001582-1812967200-1812970800@fpcdarien.com
SUMMARY:Session
DESCRIPTION:
URL:https://fpcdarien.com/event/session/2027-06-14/
LOCATION:Adult Sunday School room
END:VEVENT
BEGIN:VEVENT
DTSTART;TZID=America/New_York:20270616T110000
DTEND;TZID=America/New_York:20270616T120000
DTSTAMP:20260424T073853
CREATED:20260414T192812Z
LAST-MODIFIED:20260414T192812Z
UID:10001781-1813143600-1813147200@fpcdarien.com
SUMMARY:Women's Bible Study
DESCRIPTION:
URL:https://fpcdarien.com/event/womens-bible-study-2/2027-06-16/
LOCATION:Adult Sunday School room
END:VEVENT
BEGIN:VEVENT
DTSTART;TZID=America/New_York:20270619T100000
DTEND;TZID=America/New_York:20270619T110000
DTSTAMP:20260424T073853
CREATED:20230524T161020Z
LAST-MODIFIED:20230524T161020Z
UID:10000983-1813399200-1813402800@fpcdarien.com
SUMMARY:Men's Bible Study
DESCRIPTION:
URL:https://fpcdarien.com/event/mens-bible-study/2027-06-19/
LOCATION:Adult Sunday School room
END:VEVENT
BEGIN:VEVENT
DTSTART;TZID=America/New_York:20270620T093000
DTEND;TZID=America/New_York:20270620T103000
DTSTAMP:20260424T073853
CREATED:20230525T135738Z
LAST-MODIFIED:20230525T135738Z
UID:10001304-1813483800-1813487400@fpcdarien.com
SUMMARY:Adult Sunday School
DESCRIPTION:
URL:https://fpcdarien.com/event/adult-sunday-school/2027-06-20/
LOCATION:Adult Sunday School room
END:VEVENT
BEGIN:VEVENT
DTSTART;TZID=America/New_York:20270623T110000
DTEND;TZID=America/New_York:20270623T120000
DTSTAMP:20260424T073853
CREATED:20260414T192812Z
LAST-MODIFIED:20260414T192812Z
UID:10001782-1813748400-1813752000@fpcdarien.com
SUMMARY:Women's Bible Study
DESCRIPTION:
URL:https://fpcdarien.com/event/womens-bible-study-2/2027-06-23/
LOCATION:Adult Sunday School room
END:VEVENT
BEGIN:VEVENT
DTSTART;TZID=America/New_York:20270626T100000
DTEND;TZID=America/New_York:20270626T110000
DTSTAMP:20260424T073853
CREATED:20230524T161020Z
LAST-MODIFIED:20230524T161020Z
UID:10000984-1814004000-1814007600@fpcdarien.com
SUMMARY:Men's Bible Study
DESCRIPTION:
URL:https://fpcdarien.com/event/mens-bible-study/2027-06-26/
LOCATION:Adult Sunday School room
END:VEVENT
BEGIN:VEVENT
DTSTART;TZID=America/New_York:20270627T093000
DTEND;TZID=America/New_York:20270627T103000
DTSTAMP:20260424T073853
CREATED:20230525T135738Z
LAST-MODIFIED:20230525T135738Z
UID:10001305-1814088600-1814092200@fpcdarien.com
SUMMARY:Adult Sunday School
DESCRIPTION:
URL:https://fpcdarien.com/event/adult-sunday-school/2027-06-27/
LOCATION:Adult Sunday School room
END:VEVENT
BEGIN:VEVENT
DTSTART;TZID=America/New_York:20270630T110000
DTEND;TZID=America/New_York:20270630T120000
DTSTAMP:20260424T073853
CREATED:20260414T192812Z
LAST-MODIFIED:20260414T192812Z
UID:10001783-1814353200-1814356800@fpcdarien.com
SUMMARY:Women's Bible Study
DESCRIPTION:
URL:https://fpcdarien.com/event/womens-bible-study-2/2027-06-30/
LOCATION:Adult Sunday School room
END:VEVENT
BEGIN:VEVENT
DTSTART;TZID=America/New_York:20270703T100000
DTEND;TZID=America/New_York:20270703T110000
DTSTAMP:20260424T073853
CREATED:20230524T161020Z
LAST-MODIFIED:20230524T161020Z
UID:10000985-1814608800-1814612400@fpcdarien.com
SUMMARY:Men's Bible Study
DESCRIPTION:
URL:https://fpcdarien.com/event/mens-bible-study/2027-07-03/
LOCATION:Adult Sunday School room
END:VEVENT
BEGIN:VEVENT
DTSTART;TZID=America/New_York:20270704T093000
DTEND;TZID=America/New_York:20270704T103000
DTSTAMP:20260424T073853
CREATED:20230525T135738Z
LAST-MODIFIED:20230525T135738Z
UID:10001306-1814693400-1814697000@fpcdarien.com
SUMMARY:Adult Sunday School
DESCRIPTION:
URL:https://fpcdarien.com/event/adult-sunday-school/2027-07-04/
LOCATION:Adult Sunday School room
END:VEVENT
BEGIN:VEVENT
DTSTART;TZID=America/New_York:20270707T110000
DTEND;TZID=America/New_York:20270707T120000
DTSTAMP:20260424T073853
CREATED:20260414T192812Z
LAST-MODIFIED:20260414T192812Z
UID:10001784-1814958000-1814961600@fpcdarien.com
SUMMARY:Women's Bible Study
DESCRIPTION:
URL:https://fpcdarien.com/event/womens-bible-study-2/2027-07-07/
LOCATION:Adult Sunday School room
END:VEVENT
BEGIN:VEVENT
DTSTART;TZID=America/New_York:20270710T100000
DTEND;TZID=America/New_York:20270710T110000
DTSTAMP:20260424T073853
CREATED:20230524T161020Z
LAST-MODIFIED:20230524T161020Z
UID:10000986-1815213600-1815217200@fpcdarien.com
SUMMARY:Men's Bible Study
DESCRIPTION:
URL:https://fpcdarien.com/event/mens-bible-study/2027-07-10/
LOCATION:Adult Sunday School room
END:VEVENT
BEGIN:VEVENT
DTSTART;TZID=America/New_York:20270711T093000
DTEND;TZID=America/New_York:20270711T103000
DTSTAMP:20260424T073853
CREATED:20230525T135738Z
LAST-MODIFIED:20230525T135738Z
UID:10001307-1815298200-1815301800@fpcdarien.com
SUMMARY:Adult Sunday School
DESCRIPTION:
URL:https://fpcdarien.com/event/adult-sunday-school/2027-07-11/
LOCATION:Adult Sunday School room
END:VEVENT
BEGIN:VEVENT
DTSTART;TZID=America/New_York:20270712T100000
DTEND;TZID=America/New_York:20270712T110000
DTSTAMP:20260424T073853
CREATED:20230525T140937Z
LAST-MODIFIED:20230525T140937Z
UID:10001583-1815386400-1815390000@fpcdarien.com
SUMMARY:Session
DESCRIPTION:
URL:https://fpcdarien.com/event/session/2027-07-12/
LOCATION:Adult Sunday School room
END:VEVENT
BEGIN:VEVENT
DTSTART;TZID=America/New_York:20270714T110000
DTEND;TZID=America/New_York:20270714T120000
DTSTAMP:20260424T073853
CREATED:20260414T192812Z
LAST-MODIFIED:20260414T192812Z
UID:10001785-1815562800-1815566400@fpcdarien.com
SUMMARY:Women's Bible Study
DESCRIPTION:
URL:https://fpcdarien.com/event/womens-bible-study-2/2027-07-14/
LOCATION:Adult Sunday School room
END:VEVENT
BEGIN:VEVENT
DTSTART;TZID=America/New_York:20270717T100000
DTEND;TZID=America/New_York:20270717T110000
DTSTAMP:20260424T073853
CREATED:20230524T161020Z
LAST-MODIFIED:20230524T161020Z
UID:10000987-1815818400-1815822000@fpcdarien.com
SUMMARY:Men's Bible Study
DESCRIPTION:
URL:https://fpcdarien.com/event/mens-bible-study/2027-07-17/
LOCATION:Adult Sunday School room
END:VEVENT
BEGIN:VEVENT
DTSTART;TZID=America/New_York:20270718T093000
DTEND;TZID=America/New_York:20270718T103000
DTSTAMP:20260424T073853
CREATED:20230525T135738Z
LAST-MODIFIED:20230525T135738Z
UID:10001308-1815903000-1815906600@fpcdarien.com
SUMMARY:Adult Sunday School
DESCRIPTION:
URL:https://fpcdarien.com/event/adult-sunday-school/2027-07-18/
LOCATION:Adult Sunday School room
END:VEVENT
BEGIN:VEVENT
DTSTART;TZID=America/New_York:20270721T110000
DTEND;TZID=America/New_York:20270721T120000
DTSTAMP:20260424T073853
CREATED:20260414T192812Z
LAST-MODIFIED:20260414T192812Z
UID:10001786-1816167600-1816171200@fpcdarien.com
SUMMARY:Women's Bible Study
DESCRIPTION:
URL:https://fpcdarien.com/event/womens-bible-study-2/2027-07-21/
LOCATION:Adult Sunday School room
END:VEVENT
BEGIN:VEVENT
DTSTART;TZID=America/New_York:20270724T100000
DTEND;TZID=America/New_York:20270724T110000
DTSTAMP:20260424T073853
CREATED:20230524T161020Z
LAST-MODIFIED:20230524T161020Z
UID:10000988-1816423200-1816426800@fpcdarien.com
SUMMARY:Men's Bible Study
DESCRIPTION:
URL:https://fpcdarien.com/event/mens-bible-study/2027-07-24/
LOCATION:Adult Sunday School room
END:VEVENT
BEGIN:VEVENT
DTSTART;TZID=America/New_York:20270725T093000
DTEND;TZID=America/New_York:20270725T103000
DTSTAMP:20260424T073853
CREATED:20230525T135738Z
LAST-MODIFIED:20230525T135738Z
UID:10001309-1816507800-1816511400@fpcdarien.com
SUMMARY:Adult Sunday School
DESCRIPTION:
URL:https://fpcdarien.com/event/adult-sunday-school/2027-07-25/
LOCATION:Adult Sunday School room
END:VEVENT
BEGIN:VEVENT
DTSTART;TZID=America/New_York:20270728T110000
DTEND;TZID=America/New_York:20270728T120000
DTSTAMP:20260424T073853
CREATED:20260414T192812Z
LAST-MODIFIED:20260414T192812Z
UID:10001787-1816772400-1816776000@fpcdarien.com
SUMMARY:Women's Bible Study
DESCRIPTION:
URL:https://fpcdarien.com/event/womens-bible-study-2/2027-07-28/
LOCATION:Adult Sunday School room
END:VEVENT
BEGIN:VEVENT
DTSTART;TZID=America/New_York:20270731T100000
DTEND;TZID=America/New_York:20270731T110000
DTSTAMP:20260424T073853
CREATED:20230524T161020Z
LAST-MODIFIED:20230524T161020Z
UID:10000989-1817028000-1817031600@fpcdarien.com
SUMMARY:Men's Bible Study
DESCRIPTION:
URL:https://fpcdarien.com/event/mens-bible-study/2027-07-31/
LOCATION:Adult Sunday School room
END:VEVENT
BEGIN:VEVENT
DTSTART;TZID=America/New_York:20270801T093000
DTEND;TZID=America/New_York:20270801T103000
DTSTAMP:20260424T073853
CREATED:20230525T135738Z
LAST-MODIFIED:20230525T135738Z
UID:10001310-1817112600-1817116200@fpcdarien.com
SUMMARY:Adult Sunday School
DESCRIPTION:
URL:https://fpcdarien.com/event/adult-sunday-school/2027-08-01/
LOCATION:Adult Sunday School room
END:VEVENT
BEGIN:VEVENT
DTSTART;TZID=America/New_York:20270804T110000
DTEND;TZID=America/New_York:20270804T120000
DTSTAMP:20260424T073853
CREATED:20260414T192812Z
LAST-MODIFIED:20260414T192812Z
UID:10001788-1817377200-1817380800@fpcdarien.com
SUMMARY:Women's Bible Study
DESCRIPTION:
URL:https://fpcdarien.com/event/womens-bible-study-2/2027-08-04/
LOCATION:Adult Sunday School room
END:VEVENT
BEGIN:VEVENT
DTSTART;TZID=America/New_York:20270807T100000
DTEND;TZID=America/New_York:20270807T110000
DTSTAMP:20260424T073853
CREATED:20230524T161020Z
LAST-MODIFIED:20230524T161020Z
UID:10000990-1817632800-1817636400@fpcdarien.com
SUMMARY:Men's Bible Study
DESCRIPTION:
URL:https://fpcdarien.com/event/mens-bible-study/2027-08-07/
LOCATION:Adult Sunday School room
END:VEVENT
BEGIN:VEVENT
DTSTART;TZID=America/New_York:20270808T093000
DTEND;TZID=America/New_York:20270808T103000
DTSTAMP:20260424T073853
CREATED:20230525T135738Z
LAST-MODIFIED:20230525T135738Z
UID:10001311-1817717400-1817721000@fpcdarien.com
SUMMARY:Adult Sunday School
DESCRIPTION:
URL:https://fpcdarien.com/event/adult-sunday-school/2027-08-08/
LOCATION:Adult Sunday School room
END:VEVENT
BEGIN:VEVENT
DTSTART;TZID=America/New_York:20270809T100000
DTEND;TZID=America/New_York:20270809T110000
DTSTAMP:20260424T073853
CREATED:20230525T140937Z
LAST-MODIFIED:20230525T140937Z
UID:10001584-1817805600-1817809200@fpcdarien.com
SUMMARY:Session
DESCRIPTION:
URL:https://fpcdarien.com/event/session/2027-08-09/
LOCATION:Adult Sunday School room
END:VEVENT
BEGIN:VEVENT
DTSTART;TZID=America/New_York:20270811T110000
DTEND;TZID=America/New_York:20270811T120000
DTSTAMP:20260424T073853
CREATED:20260414T192812Z
LAST-MODIFIED:20260414T192812Z
UID:10001789-1817982000-1817985600@fpcdarien.com
SUMMARY:Women's Bible Study
DESCRIPTION:
URL:https://fpcdarien.com/event/womens-bible-study-2/2027-08-11/
LOCATION:Adult Sunday School room
END:VEVENT
END:VCALENDAR