BEGIN:VCALENDAR
VERSION:2.0
PRODID:-//First Presbyterian Church of Darien - ECPv6.15.20//NONSGML v1.0//EN
CALSCALE:GREGORIAN
METHOD:PUBLISH
X-ORIGINAL-URL:https://fpcdarien.com
X-WR-CALDESC:Events for First Presbyterian Church of Darien
REFRESH-INTERVAL;VALUE=DURATION:PT1H
X-Robots-Tag:noindex
X-PUBLISHED-TTL:PT1H
BEGIN:VTIMEZONE
TZID:America/New_York
BEGIN:DAYLIGHT
TZOFFSETFROM:-0500
TZOFFSETTO:-0400
TZNAME:EDT
DTSTART:20260308T070000
END:DAYLIGHT
BEGIN:STANDARD
TZOFFSETFROM:-0400
TZOFFSETTO:-0500
TZNAME:EST
DTSTART:20261101T060000
END:STANDARD
BEGIN:DAYLIGHT
TZOFFSETFROM:-0500
TZOFFSETTO:-0400
TZNAME:EDT
DTSTART:20270314T070000
END:DAYLIGHT
BEGIN:STANDARD
TZOFFSETFROM:-0400
TZOFFSETTO:-0500
TZNAME:EST
DTSTART:20271107T060000
END:STANDARD
BEGIN:DAYLIGHT
TZOFFSETFROM:-0500
TZOFFSETTO:-0400
TZNAME:EDT
DTSTART:20280312T070000
END:DAYLIGHT
BEGIN:STANDARD
TZOFFSETFROM:-0400
TZOFFSETTO:-0500
TZNAME:EST
DTSTART:20281105T060000
END:STANDARD
END:VTIMEZONE
BEGIN:VEVENT
DTSTART;TZID=America/New_York:20270110T093000
DTEND;TZID=America/New_York:20270110T103000
DTSTAMP:20260423T221049
CREATED:20230525T135738Z
LAST-MODIFIED:20230525T135738Z
UID:10001281-1799573400-1799577000@fpcdarien.com
SUMMARY:Adult Sunday School
DESCRIPTION:
URL:https://fpcdarien.com/event/adult-sunday-school/2027-01-10/
LOCATION:Adult Sunday School room
END:VEVENT
BEGIN:VEVENT
DTSTART;TZID=America/New_York:20270111T100000
DTEND;TZID=America/New_York:20270111T110000
DTSTAMP:20260423T221049
CREATED:20230525T140937Z
LAST-MODIFIED:20230525T140937Z
UID:10001577-1799661600-1799665200@fpcdarien.com
SUMMARY:Session
DESCRIPTION:
URL:https://fpcdarien.com/event/session/2027-01-11/
LOCATION:Adult Sunday School room
END:VEVENT
BEGIN:VEVENT
DTSTART;TZID=America/New_York:20270113T110000
DTEND;TZID=America/New_York:20270113T120000
DTSTAMP:20260423T221049
CREATED:20260414T192812Z
LAST-MODIFIED:20260414T192812Z
UID:10001759-1799838000-1799841600@fpcdarien.com
SUMMARY:Women's Bible Study
DESCRIPTION:
URL:https://fpcdarien.com/event/womens-bible-study-2/2027-01-13/
LOCATION:Adult Sunday School room
END:VEVENT
BEGIN:VEVENT
DTSTART;TZID=America/New_York:20270116T100000
DTEND;TZID=America/New_York:20270116T110000
DTSTAMP:20260423T221049
CREATED:20230524T161020Z
LAST-MODIFIED:20230524T161020Z
UID:10000961-1800093600-1800097200@fpcdarien.com
SUMMARY:Men's Bible Study
DESCRIPTION:
URL:https://fpcdarien.com/event/mens-bible-study/2027-01-16/
LOCATION:Adult Sunday School room
END:VEVENT
BEGIN:VEVENT
DTSTART;TZID=America/New_York:20270117T093000
DTEND;TZID=America/New_York:20270117T103000
DTSTAMP:20260423T221049
CREATED:20230525T135738Z
LAST-MODIFIED:20230525T135738Z
UID:10001282-1800178200-1800181800@fpcdarien.com
SUMMARY:Adult Sunday School
DESCRIPTION:
URL:https://fpcdarien.com/event/adult-sunday-school/2027-01-17/
LOCATION:Adult Sunday School room
END:VEVENT
BEGIN:VEVENT
DTSTART;TZID=America/New_York:20270120T110000
DTEND;TZID=America/New_York:20270120T120000
DTSTAMP:20260423T221049
CREATED:20260414T192812Z
LAST-MODIFIED:20260414T192812Z
UID:10001760-1800442800-1800446400@fpcdarien.com
SUMMARY:Women's Bible Study
DESCRIPTION:
URL:https://fpcdarien.com/event/womens-bible-study-2/2027-01-20/
LOCATION:Adult Sunday School room
END:VEVENT
BEGIN:VEVENT
DTSTART;TZID=America/New_York:20270123T100000
DTEND;TZID=America/New_York:20270123T110000
DTSTAMP:20260423T221049
CREATED:20230524T161020Z
LAST-MODIFIED:20230524T161020Z
UID:10000962-1800698400-1800702000@fpcdarien.com
SUMMARY:Men's Bible Study
DESCRIPTION:
URL:https://fpcdarien.com/event/mens-bible-study/2027-01-23/
LOCATION:Adult Sunday School room
END:VEVENT
BEGIN:VEVENT
DTSTART;TZID=America/New_York:20270124T093000
DTEND;TZID=America/New_York:20270124T103000
DTSTAMP:20260423T221049
CREATED:20230525T135738Z
LAST-MODIFIED:20230525T135738Z
UID:10001283-1800783000-1800786600@fpcdarien.com
SUMMARY:Adult Sunday School
DESCRIPTION:
URL:https://fpcdarien.com/event/adult-sunday-school/2027-01-24/
LOCATION:Adult Sunday School room
END:VEVENT
BEGIN:VEVENT
DTSTART;TZID=America/New_York:20270127T110000
DTEND;TZID=America/New_York:20270127T120000
DTSTAMP:20260423T221049
CREATED:20260414T192812Z
LAST-MODIFIED:20260414T192812Z
UID:10001761-1801047600-1801051200@fpcdarien.com
SUMMARY:Women's Bible Study
DESCRIPTION:
URL:https://fpcdarien.com/event/womens-bible-study-2/2027-01-27/
LOCATION:Adult Sunday School room
END:VEVENT
BEGIN:VEVENT
DTSTART;TZID=America/New_York:20270130T100000
DTEND;TZID=America/New_York:20270130T110000
DTSTAMP:20260423T221049
CREATED:20230524T161020Z
LAST-MODIFIED:20230524T161020Z
UID:10000963-1801303200-1801306800@fpcdarien.com
SUMMARY:Men's Bible Study
DESCRIPTION:
URL:https://fpcdarien.com/event/mens-bible-study/2027-01-30/
LOCATION:Adult Sunday School room
END:VEVENT
BEGIN:VEVENT
DTSTART;TZID=America/New_York:20270131T093000
DTEND;TZID=America/New_York:20270131T103000
DTSTAMP:20260423T221049
CREATED:20230525T135738Z
LAST-MODIFIED:20230525T135738Z
UID:10001284-1801387800-1801391400@fpcdarien.com
SUMMARY:Adult Sunday School
DESCRIPTION:
URL:https://fpcdarien.com/event/adult-sunday-school/2027-01-31/
LOCATION:Adult Sunday School room
END:VEVENT
BEGIN:VEVENT
DTSTART;TZID=America/New_York:20270203T110000
DTEND;TZID=America/New_York:20270203T120000
DTSTAMP:20260423T221049
CREATED:20260414T192812Z
LAST-MODIFIED:20260414T192812Z
UID:10001762-1801652400-1801656000@fpcdarien.com
SUMMARY:Women's Bible Study
DESCRIPTION:
URL:https://fpcdarien.com/event/womens-bible-study-2/2027-02-03/
LOCATION:Adult Sunday School room
END:VEVENT
BEGIN:VEVENT
DTSTART;TZID=America/New_York:20270206T100000
DTEND;TZID=America/New_York:20270206T110000
DTSTAMP:20260423T221049
CREATED:20230524T161020Z
LAST-MODIFIED:20230524T161020Z
UID:10000964-1801908000-1801911600@fpcdarien.com
SUMMARY:Men's Bible Study
DESCRIPTION:
URL:https://fpcdarien.com/event/mens-bible-study/2027-02-06/
LOCATION:Adult Sunday School room
END:VEVENT
BEGIN:VEVENT
DTSTART;TZID=America/New_York:20270207T093000
DTEND;TZID=America/New_York:20270207T103000
DTSTAMP:20260423T221049
CREATED:20230525T135738Z
LAST-MODIFIED:20230525T135738Z
UID:10001285-1801992600-1801996200@fpcdarien.com
SUMMARY:Adult Sunday School
DESCRIPTION:
URL:https://fpcdarien.com/event/adult-sunday-school/2027-02-07/
LOCATION:Adult Sunday School room
END:VEVENT
BEGIN:VEVENT
DTSTART;TZID=America/New_York:20270208T100000
DTEND;TZID=America/New_York:20270208T110000
DTSTAMP:20260423T221049
CREATED:20230525T140937Z
LAST-MODIFIED:20230525T140937Z
UID:10001578-1802080800-1802084400@fpcdarien.com
SUMMARY:Session
DESCRIPTION:
URL:https://fpcdarien.com/event/session/2027-02-08/
LOCATION:Adult Sunday School room
END:VEVENT
BEGIN:VEVENT
DTSTART;TZID=America/New_York:20270210T110000
DTEND;TZID=America/New_York:20270210T120000
DTSTAMP:20260423T221049
CREATED:20260414T192812Z
LAST-MODIFIED:20260414T192812Z
UID:10001763-1802257200-1802260800@fpcdarien.com
SUMMARY:Women's Bible Study
DESCRIPTION:
URL:https://fpcdarien.com/event/womens-bible-study-2/2027-02-10/
LOCATION:Adult Sunday School room
END:VEVENT
BEGIN:VEVENT
DTSTART;TZID=America/New_York:20270213T100000
DTEND;TZID=America/New_York:20270213T110000
DTSTAMP:20260423T221049
CREATED:20230524T161020Z
LAST-MODIFIED:20230524T161020Z
UID:10000965-1802512800-1802516400@fpcdarien.com
SUMMARY:Men's Bible Study
DESCRIPTION:
URL:https://fpcdarien.com/event/mens-bible-study/2027-02-13/
LOCATION:Adult Sunday School room
END:VEVENT
BEGIN:VEVENT
DTSTART;TZID=America/New_York:20270214T093000
DTEND;TZID=America/New_York:20270214T103000
DTSTAMP:20260423T221049
CREATED:20230525T135738Z
LAST-MODIFIED:20230525T135738Z
UID:10001286-1802597400-1802601000@fpcdarien.com
SUMMARY:Adult Sunday School
DESCRIPTION:
URL:https://fpcdarien.com/event/adult-sunday-school/2027-02-14/
LOCATION:Adult Sunday School room
END:VEVENT
BEGIN:VEVENT
DTSTART;TZID=America/New_York:20270217T110000
DTEND;TZID=America/New_York:20270217T120000
DTSTAMP:20260423T221049
CREATED:20260414T192812Z
LAST-MODIFIED:20260414T192812Z
UID:10001764-1802862000-1802865600@fpcdarien.com
SUMMARY:Women's Bible Study
DESCRIPTION:
URL:https://fpcdarien.com/event/womens-bible-study-2/2027-02-17/
LOCATION:Adult Sunday School room
END:VEVENT
BEGIN:VEVENT
DTSTART;TZID=America/New_York:20270220T100000
DTEND;TZID=America/New_York:20270220T110000
DTSTAMP:20260423T221049
CREATED:20230524T161020Z
LAST-MODIFIED:20230524T161020Z
UID:10000966-1803117600-1803121200@fpcdarien.com
SUMMARY:Men's Bible Study
DESCRIPTION:
URL:https://fpcdarien.com/event/mens-bible-study/2027-02-20/
LOCATION:Adult Sunday School room
END:VEVENT
BEGIN:VEVENT
DTSTART;TZID=America/New_York:20270221T093000
DTEND;TZID=America/New_York:20270221T103000
DTSTAMP:20260423T221049
CREATED:20230525T135738Z
LAST-MODIFIED:20230525T135738Z
UID:10001287-1803202200-1803205800@fpcdarien.com
SUMMARY:Adult Sunday School
DESCRIPTION:
URL:https://fpcdarien.com/event/adult-sunday-school/2027-02-21/
LOCATION:Adult Sunday School room
END:VEVENT
BEGIN:VEVENT
DTSTART;TZID=America/New_York:20270224T110000
DTEND;TZID=America/New_York:20270224T120000
DTSTAMP:20260423T221049
CREATED:20260414T192812Z
LAST-MODIFIED:20260414T192812Z
UID:10001765-1803466800-1803470400@fpcdarien.com
SUMMARY:Women's Bible Study
DESCRIPTION:
URL:https://fpcdarien.com/event/womens-bible-study-2/2027-02-24/
LOCATION:Adult Sunday School room
END:VEVENT
BEGIN:VEVENT
DTSTART;TZID=America/New_York:20270227T100000
DTEND;TZID=America/New_York:20270227T110000
DTSTAMP:20260423T221049
CREATED:20230524T161020Z
LAST-MODIFIED:20230524T161020Z
UID:10000967-1803722400-1803726000@fpcdarien.com
SUMMARY:Men's Bible Study
DESCRIPTION:
URL:https://fpcdarien.com/event/mens-bible-study/2027-02-27/
LOCATION:Adult Sunday School room
END:VEVENT
BEGIN:VEVENT
DTSTART;TZID=America/New_York:20270228T093000
DTEND;TZID=America/New_York:20270228T103000
DTSTAMP:20260423T221049
CREATED:20230525T135738Z
LAST-MODIFIED:20230525T135738Z
UID:10001288-1803807000-1803810600@fpcdarien.com
SUMMARY:Adult Sunday School
DESCRIPTION:
URL:https://fpcdarien.com/event/adult-sunday-school/2027-02-28/
LOCATION:Adult Sunday School room
END:VEVENT
BEGIN:VEVENT
DTSTART;TZID=America/New_York:20270303T110000
DTEND;TZID=America/New_York:20270303T120000
DTSTAMP:20260423T221049
CREATED:20260414T192812Z
LAST-MODIFIED:20260414T192812Z
UID:10001766-1804071600-1804075200@fpcdarien.com
SUMMARY:Women's Bible Study
DESCRIPTION:
URL:https://fpcdarien.com/event/womens-bible-study-2/2027-03-03/
LOCATION:Adult Sunday School room
END:VEVENT
BEGIN:VEVENT
DTSTART;TZID=America/New_York:20270306T100000
DTEND;TZID=America/New_York:20270306T110000
DTSTAMP:20260423T221049
CREATED:20230524T161020Z
LAST-MODIFIED:20230524T161020Z
UID:10000968-1804327200-1804330800@fpcdarien.com
SUMMARY:Men's Bible Study
DESCRIPTION:
URL:https://fpcdarien.com/event/mens-bible-study/2027-03-06/
LOCATION:Adult Sunday School room
END:VEVENT
BEGIN:VEVENT
DTSTART;TZID=America/New_York:20270307T093000
DTEND;TZID=America/New_York:20270307T103000
DTSTAMP:20260423T221049
CREATED:20230525T135738Z
LAST-MODIFIED:20230525T135738Z
UID:10001289-1804411800-1804415400@fpcdarien.com
SUMMARY:Adult Sunday School
DESCRIPTION:
URL:https://fpcdarien.com/event/adult-sunday-school/2027-03-07/
LOCATION:Adult Sunday School room
END:VEVENT
BEGIN:VEVENT
DTSTART;TZID=America/New_York:20270308T100000
DTEND;TZID=America/New_York:20270308T110000
DTSTAMP:20260423T221049
CREATED:20230525T140937Z
LAST-MODIFIED:20230525T140937Z
UID:10001579-1804500000-1804503600@fpcdarien.com
SUMMARY:Session
DESCRIPTION:
URL:https://fpcdarien.com/event/session/2027-03-08/
LOCATION:Adult Sunday School room
END:VEVENT
BEGIN:VEVENT
DTSTART;TZID=America/New_York:20270310T110000
DTEND;TZID=America/New_York:20270310T120000
DTSTAMP:20260423T221049
CREATED:20260414T192812Z
LAST-MODIFIED:20260414T192812Z
UID:10001767-1804676400-1804680000@fpcdarien.com
SUMMARY:Women's Bible Study
DESCRIPTION:
URL:https://fpcdarien.com/event/womens-bible-study-2/2027-03-10/
LOCATION:Adult Sunday School room
END:VEVENT
BEGIN:VEVENT
DTSTART;TZID=America/New_York:20270313T100000
DTEND;TZID=America/New_York:20270313T110000
DTSTAMP:20260423T221049
CREATED:20230524T161020Z
LAST-MODIFIED:20230524T161020Z
UID:10000969-1804932000-1804935600@fpcdarien.com
SUMMARY:Men's Bible Study
DESCRIPTION:
URL:https://fpcdarien.com/event/mens-bible-study/2027-03-13/
LOCATION:Adult Sunday School room
END:VEVENT
END:VCALENDAR