BEGIN:VCALENDAR
VERSION:2.0
PRODID:-//First Presbyterian Church of Darien - ECPv6.15.20//NONSGML v1.0//EN
CALSCALE:GREGORIAN
METHOD:PUBLISH
X-ORIGINAL-URL:https://fpcdarien.com
X-WR-CALDESC:Events for First Presbyterian Church of Darien
REFRESH-INTERVAL;VALUE=DURATION:PT1H
X-Robots-Tag:noindex
X-PUBLISHED-TTL:PT1H
BEGIN:VTIMEZONE
TZID:America/New_York
BEGIN:DAYLIGHT
TZOFFSETFROM:-0500
TZOFFSETTO:-0400
TZNAME:EDT
DTSTART:20240310T070000
END:DAYLIGHT
BEGIN:STANDARD
TZOFFSETFROM:-0400
TZOFFSETTO:-0500
TZNAME:EST
DTSTART:20241103T060000
END:STANDARD
BEGIN:DAYLIGHT
TZOFFSETFROM:-0500
TZOFFSETTO:-0400
TZNAME:EDT
DTSTART:20250309T070000
END:DAYLIGHT
BEGIN:STANDARD
TZOFFSETFROM:-0400
TZOFFSETTO:-0500
TZNAME:EST
DTSTART:20251102T060000
END:STANDARD
BEGIN:DAYLIGHT
TZOFFSETFROM:-0500
TZOFFSETTO:-0400
TZNAME:EDT
DTSTART:20260308T070000
END:DAYLIGHT
BEGIN:STANDARD
TZOFFSETFROM:-0400
TZOFFSETTO:-0500
TZNAME:EST
DTSTART:20261101T060000
END:STANDARD
END:VTIMEZONE
BEGIN:VEVENT
DTSTART;TZID=America/New_York:20250805T110000
DTEND;TZID=America/New_York:20250805T120000
DTSTAMP:20260423T233847
CREATED:20230524T160321Z
LAST-MODIFIED:20230524T160849Z
UID:10000624-1754391600-1754395200@fpcdarien.com
SUMMARY:Women's Bible Study
DESCRIPTION:
URL:https://fpcdarien.com/event/womens-bible-study/2025-08-05/
LOCATION:Adult Sunday School room
END:VEVENT
BEGIN:VEVENT
DTSTART;TZID=America/New_York:20250803T093000
DTEND;TZID=America/New_York:20250803T103000
DTSTAMP:20260423T233847
CREATED:20230525T135738Z
LAST-MODIFIED:20230525T135738Z
UID:10001206-1754213400-1754217000@fpcdarien.com
SUMMARY:Adult Sunday School
DESCRIPTION:
URL:https://fpcdarien.com/event/adult-sunday-school/2025-08-03/
LOCATION:Adult Sunday School room
END:VEVENT
BEGIN:VEVENT
DTSTART;TZID=America/New_York:20250802T100000
DTEND;TZID=America/New_York:20250802T110000
DTSTAMP:20260423T233847
CREATED:20230524T161020Z
LAST-MODIFIED:20230524T161020Z
UID:10000885-1754128800-1754132400@fpcdarien.com
SUMMARY:Men's Bible Study
DESCRIPTION:
URL:https://fpcdarien.com/event/mens-bible-study/2025-08-02/
LOCATION:Adult Sunday School room
END:VEVENT
BEGIN:VEVENT
DTSTART;TZID=America/New_York:20250729T110000
DTEND;TZID=America/New_York:20250729T120000
DTSTAMP:20260423T233847
CREATED:20230524T160321Z
LAST-MODIFIED:20230524T160849Z
UID:10000623-1753786800-1753790400@fpcdarien.com
SUMMARY:Women's Bible Study
DESCRIPTION:
URL:https://fpcdarien.com/event/womens-bible-study/2025-07-29/
LOCATION:Adult Sunday School room
END:VEVENT
BEGIN:VEVENT
DTSTART;TZID=America/New_York:20250727T093000
DTEND;TZID=America/New_York:20250727T103000
DTSTAMP:20260423T233847
CREATED:20230525T135738Z
LAST-MODIFIED:20230525T135738Z
UID:10001205-1753608600-1753612200@fpcdarien.com
SUMMARY:Adult Sunday School
DESCRIPTION:
URL:https://fpcdarien.com/event/adult-sunday-school/2025-07-27/
LOCATION:Adult Sunday School room
END:VEVENT
BEGIN:VEVENT
DTSTART;TZID=America/New_York:20250726T100000
DTEND;TZID=America/New_York:20250726T110000
DTSTAMP:20260423T233847
CREATED:20230524T161020Z
LAST-MODIFIED:20230524T161020Z
UID:10000884-1753524000-1753527600@fpcdarien.com
SUMMARY:Men's Bible Study
DESCRIPTION:
URL:https://fpcdarien.com/event/mens-bible-study/2025-07-26/
LOCATION:Adult Sunday School room
END:VEVENT
BEGIN:VEVENT
DTSTART;TZID=America/New_York:20250722T110000
DTEND;TZID=America/New_York:20250722T120000
DTSTAMP:20260423T233847
CREATED:20230524T160321Z
LAST-MODIFIED:20230524T160849Z
UID:10000622-1753182000-1753185600@fpcdarien.com
SUMMARY:Women's Bible Study
DESCRIPTION:
URL:https://fpcdarien.com/event/womens-bible-study/2025-07-22/
LOCATION:Adult Sunday School room
END:VEVENT
BEGIN:VEVENT
DTSTART;TZID=America/New_York:20250720T093000
DTEND;TZID=America/New_York:20250720T103000
DTSTAMP:20260423T233847
CREATED:20230525T135738Z
LAST-MODIFIED:20230525T135738Z
UID:10001204-1753003800-1753007400@fpcdarien.com
SUMMARY:Adult Sunday School
DESCRIPTION:
URL:https://fpcdarien.com/event/adult-sunday-school/2025-07-20/
LOCATION:Adult Sunday School room
END:VEVENT
BEGIN:VEVENT
DTSTART;TZID=America/New_York:20250719T100000
DTEND;TZID=America/New_York:20250719T110000
DTSTAMP:20260423T233847
CREATED:20230524T161020Z
LAST-MODIFIED:20230524T161020Z
UID:10000883-1752919200-1752922800@fpcdarien.com
SUMMARY:Men's Bible Study
DESCRIPTION:
URL:https://fpcdarien.com/event/mens-bible-study/2025-07-19/
LOCATION:Adult Sunday School room
END:VEVENT
BEGIN:VEVENT
DTSTART;TZID=America/New_York:20250715T110000
DTEND;TZID=America/New_York:20250715T120000
DTSTAMP:20260423T233847
CREATED:20230524T160321Z
LAST-MODIFIED:20230524T160849Z
UID:10000621-1752577200-1752580800@fpcdarien.com
SUMMARY:Women's Bible Study
DESCRIPTION:
URL:https://fpcdarien.com/event/womens-bible-study/2025-07-15/
LOCATION:Adult Sunday School room
END:VEVENT
BEGIN:VEVENT
DTSTART;TZID=America/New_York:20250714T100000
DTEND;TZID=America/New_York:20250714T110000
DTSTAMP:20260423T233847
CREATED:20230525T140937Z
LAST-MODIFIED:20230525T140937Z
UID:10001559-1752487200-1752490800@fpcdarien.com
SUMMARY:Session
DESCRIPTION:
URL:https://fpcdarien.com/event/session/2025-07-14/
LOCATION:Adult Sunday School room
END:VEVENT
BEGIN:VEVENT
DTSTART;TZID=America/New_York:20250713T093000
DTEND;TZID=America/New_York:20250713T103000
DTSTAMP:20260423T233847
CREATED:20230525T135738Z
LAST-MODIFIED:20230525T135738Z
UID:10001203-1752399000-1752402600@fpcdarien.com
SUMMARY:Adult Sunday School
DESCRIPTION:
URL:https://fpcdarien.com/event/adult-sunday-school/2025-07-13/
LOCATION:Adult Sunday School room
END:VEVENT
BEGIN:VEVENT
DTSTART;TZID=America/New_York:20250712T100000
DTEND;TZID=America/New_York:20250712T110000
DTSTAMP:20260423T233847
CREATED:20230524T161020Z
LAST-MODIFIED:20230524T161020Z
UID:10000882-1752314400-1752318000@fpcdarien.com
SUMMARY:Men's Bible Study
DESCRIPTION:
URL:https://fpcdarien.com/event/mens-bible-study/2025-07-12/
LOCATION:Adult Sunday School room
END:VEVENT
BEGIN:VEVENT
DTSTART;TZID=America/New_York:20250708T110000
DTEND;TZID=America/New_York:20250708T120000
DTSTAMP:20260423T233847
CREATED:20230524T160321Z
LAST-MODIFIED:20230524T160849Z
UID:10000620-1751972400-1751976000@fpcdarien.com
SUMMARY:Women's Bible Study
DESCRIPTION:
URL:https://fpcdarien.com/event/womens-bible-study/2025-07-08/
LOCATION:Adult Sunday School room
END:VEVENT
BEGIN:VEVENT
DTSTART;TZID=America/New_York:20250706T093000
DTEND;TZID=America/New_York:20250706T103000
DTSTAMP:20260423T233847
CREATED:20230525T135738Z
LAST-MODIFIED:20230525T135738Z
UID:10001202-1751794200-1751797800@fpcdarien.com
SUMMARY:Adult Sunday School
DESCRIPTION:
URL:https://fpcdarien.com/event/adult-sunday-school/2025-07-06/
LOCATION:Adult Sunday School room
END:VEVENT
BEGIN:VEVENT
DTSTART;TZID=America/New_York:20250705T100000
DTEND;TZID=America/New_York:20250705T110000
DTSTAMP:20260423T233847
CREATED:20230524T161020Z
LAST-MODIFIED:20230524T161020Z
UID:10000881-1751709600-1751713200@fpcdarien.com
SUMMARY:Men's Bible Study
DESCRIPTION:
URL:https://fpcdarien.com/event/mens-bible-study/2025-07-05/
LOCATION:Adult Sunday School room
END:VEVENT
BEGIN:VEVENT
DTSTART;TZID=America/New_York:20250701T110000
DTEND;TZID=America/New_York:20250701T120000
DTSTAMP:20260423T233847
CREATED:20230524T160321Z
LAST-MODIFIED:20230524T160849Z
UID:10000619-1751367600-1751371200@fpcdarien.com
SUMMARY:Women's Bible Study
DESCRIPTION:
URL:https://fpcdarien.com/event/womens-bible-study/2025-07-01/
LOCATION:Adult Sunday School room
END:VEVENT
BEGIN:VEVENT
DTSTART;TZID=America/New_York:20250629T093000
DTEND;TZID=America/New_York:20250629T103000
DTSTAMP:20260423T233847
CREATED:20230525T135738Z
LAST-MODIFIED:20230525T135738Z
UID:10001201-1751189400-1751193000@fpcdarien.com
SUMMARY:Adult Sunday School
DESCRIPTION:
URL:https://fpcdarien.com/event/adult-sunday-school/2025-06-29/
LOCATION:Adult Sunday School room
END:VEVENT
BEGIN:VEVENT
DTSTART;TZID=America/New_York:20250628T100000
DTEND;TZID=America/New_York:20250628T110000
DTSTAMP:20260423T233847
CREATED:20230524T161020Z
LAST-MODIFIED:20230524T161020Z
UID:10000880-1751104800-1751108400@fpcdarien.com
SUMMARY:Men's Bible Study
DESCRIPTION:
URL:https://fpcdarien.com/event/mens-bible-study/2025-06-28/
LOCATION:Adult Sunday School room
END:VEVENT
BEGIN:VEVENT
DTSTART;TZID=America/New_York:20250624T110000
DTEND;TZID=America/New_York:20250624T120000
DTSTAMP:20260423T233847
CREATED:20230524T160321Z
LAST-MODIFIED:20230524T160849Z
UID:10000618-1750762800-1750766400@fpcdarien.com
SUMMARY:Women's Bible Study
DESCRIPTION:
URL:https://fpcdarien.com/event/womens-bible-study/2025-06-24/
LOCATION:Adult Sunday School room
END:VEVENT
BEGIN:VEVENT
DTSTART;TZID=America/New_York:20250622T093000
DTEND;TZID=America/New_York:20250622T103000
DTSTAMP:20260423T233847
CREATED:20230525T135738Z
LAST-MODIFIED:20230525T135738Z
UID:10001200-1750584600-1750588200@fpcdarien.com
SUMMARY:Adult Sunday School
DESCRIPTION:
URL:https://fpcdarien.com/event/adult-sunday-school/2025-06-22/
LOCATION:Adult Sunday School room
END:VEVENT
BEGIN:VEVENT
DTSTART;TZID=America/New_York:20250621T100000
DTEND;TZID=America/New_York:20250621T110000
DTSTAMP:20260423T233847
CREATED:20230524T161020Z
LAST-MODIFIED:20230524T161020Z
UID:10000879-1750500000-1750503600@fpcdarien.com
SUMMARY:Men's Bible Study
DESCRIPTION:
URL:https://fpcdarien.com/event/mens-bible-study/2025-06-21/
LOCATION:Adult Sunday School room
END:VEVENT
BEGIN:VEVENT
DTSTART;TZID=America/New_York:20250617T110000
DTEND;TZID=America/New_York:20250617T120000
DTSTAMP:20260423T233847
CREATED:20230524T160321Z
LAST-MODIFIED:20230524T160849Z
UID:10000617-1750158000-1750161600@fpcdarien.com
SUMMARY:Women's Bible Study
DESCRIPTION:
URL:https://fpcdarien.com/event/womens-bible-study/2025-06-17/
LOCATION:Adult Sunday School room
END:VEVENT
BEGIN:VEVENT
DTSTART;TZID=America/New_York:20250615T093000
DTEND;TZID=America/New_York:20250615T103000
DTSTAMP:20260423T233847
CREATED:20230525T135738Z
LAST-MODIFIED:20230525T135738Z
UID:10001199-1749979800-1749983400@fpcdarien.com
SUMMARY:Adult Sunday School
DESCRIPTION:
URL:https://fpcdarien.com/event/adult-sunday-school/2025-06-15/
LOCATION:Adult Sunday School room
END:VEVENT
BEGIN:VEVENT
DTSTART;TZID=America/New_York:20250614T100000
DTEND;TZID=America/New_York:20250614T110000
DTSTAMP:20260423T233847
CREATED:20230524T161020Z
LAST-MODIFIED:20230524T161020Z
UID:10000878-1749895200-1749898800@fpcdarien.com
SUMMARY:Men's Bible Study
DESCRIPTION:
URL:https://fpcdarien.com/event/mens-bible-study/2025-06-14/
LOCATION:Adult Sunday School room
END:VEVENT
BEGIN:VEVENT
DTSTART;TZID=America/New_York:20250610T110000
DTEND;TZID=America/New_York:20250610T120000
DTSTAMP:20260423T233847
CREATED:20230524T160321Z
LAST-MODIFIED:20230524T160849Z
UID:10000616-1749553200-1749556800@fpcdarien.com
SUMMARY:Women's Bible Study
DESCRIPTION:
URL:https://fpcdarien.com/event/womens-bible-study/2025-06-10/
LOCATION:Adult Sunday School room
END:VEVENT
BEGIN:VEVENT
DTSTART;TZID=America/New_York:20250609T100000
DTEND;TZID=America/New_York:20250609T110000
DTSTAMP:20260423T233847
CREATED:20230525T140937Z
LAST-MODIFIED:20230525T140937Z
UID:10001558-1749463200-1749466800@fpcdarien.com
SUMMARY:Session
DESCRIPTION:
URL:https://fpcdarien.com/event/session/2025-06-09/
LOCATION:Adult Sunday School room
END:VEVENT
BEGIN:VEVENT
DTSTART;TZID=America/New_York:20250608T093000
DTEND;TZID=America/New_York:20250608T103000
DTSTAMP:20260423T233847
CREATED:20230525T135738Z
LAST-MODIFIED:20230525T135738Z
UID:10001198-1749375000-1749378600@fpcdarien.com
SUMMARY:Adult Sunday School
DESCRIPTION:
URL:https://fpcdarien.com/event/adult-sunday-school/2025-06-08/
LOCATION:Adult Sunday School room
END:VEVENT
BEGIN:VEVENT
DTSTART;TZID=America/New_York:20250607T100000
DTEND;TZID=America/New_York:20250607T110000
DTSTAMP:20260423T233847
CREATED:20230524T161020Z
LAST-MODIFIED:20230524T161020Z
UID:10000877-1749290400-1749294000@fpcdarien.com
SUMMARY:Men's Bible Study
DESCRIPTION:
URL:https://fpcdarien.com/event/mens-bible-study/2025-06-07/
LOCATION:Adult Sunday School room
END:VEVENT
BEGIN:VEVENT
DTSTART;TZID=America/New_York:20250603T110000
DTEND;TZID=America/New_York:20250603T120000
DTSTAMP:20260423T233847
CREATED:20230524T160321Z
LAST-MODIFIED:20230524T160849Z
UID:10000615-1748948400-1748952000@fpcdarien.com
SUMMARY:Women's Bible Study
DESCRIPTION:
URL:https://fpcdarien.com/event/womens-bible-study/2025-06-03/
LOCATION:Adult Sunday School room
END:VEVENT
END:VCALENDAR