BEGIN:VCALENDAR
VERSION:2.0
PRODID:-//First Presbyterian Church of Darien - ECPv6.15.20//NONSGML v1.0//EN
CALSCALE:GREGORIAN
METHOD:PUBLISH
X-WR-CALNAME:First Presbyterian Church of Darien
X-ORIGINAL-URL:https://fpcdarien.com
X-WR-CALDESC:Events for First Presbyterian Church of Darien
REFRESH-INTERVAL;VALUE=DURATION:PT1H
X-Robots-Tag:noindex
X-PUBLISHED-TTL:PT1H
BEGIN:VTIMEZONE
TZID:America/New_York
BEGIN:DAYLIGHT
TZOFFSETFROM:-0500
TZOFFSETTO:-0400
TZNAME:EDT
DTSTART:20250309T070000
END:DAYLIGHT
BEGIN:STANDARD
TZOFFSETFROM:-0400
TZOFFSETTO:-0500
TZNAME:EST
DTSTART:20251102T060000
END:STANDARD
BEGIN:DAYLIGHT
TZOFFSETFROM:-0500
TZOFFSETTO:-0400
TZNAME:EDT
DTSTART:20260308T070000
END:DAYLIGHT
BEGIN:STANDARD
TZOFFSETFROM:-0400
TZOFFSETTO:-0500
TZNAME:EST
DTSTART:20261101T060000
END:STANDARD
BEGIN:DAYLIGHT
TZOFFSETFROM:-0500
TZOFFSETTO:-0400
TZNAME:EDT
DTSTART:20270314T070000
END:DAYLIGHT
BEGIN:STANDARD
TZOFFSETFROM:-0400
TZOFFSETTO:-0500
TZNAME:EST
DTSTART:20271107T060000
END:STANDARD
END:VTIMEZONE
BEGIN:VEVENT
DTSTART;TZID=America/New_York:20260425T100000
DTEND;TZID=America/New_York:20260425T110000
DTSTAMP:20260423T062417
CREATED:20230524T161020Z
LAST-MODIFIED:20230524T161020Z
UID:10000923-1777111200-1777114800@fpcdarien.com
SUMMARY:Men's Bible Study
DESCRIPTION:
URL:https://fpcdarien.com/event/mens-bible-study/2026-04-25/
LOCATION:Adult Sunday School room
END:VEVENT
BEGIN:VEVENT
DTSTART;TZID=America/New_York:20260426T093000
DTEND;TZID=America/New_York:20260426T103000
DTSTAMP:20260423T062417
CREATED:20230525T135738Z
LAST-MODIFIED:20230525T135738Z
UID:10001244-1777195800-1777199400@fpcdarien.com
SUMMARY:Adult Sunday School
DESCRIPTION:
URL:https://fpcdarien.com/event/adult-sunday-school/2026-04-26/
LOCATION:Adult Sunday School room
END:VEVENT
BEGIN:VEVENT
DTSTART;TZID=America/New_York:20260429T110000
DTEND;TZID=America/New_York:20260429T120000
DTSTAMP:20260423T062417
CREATED:20260414T192812Z
LAST-MODIFIED:20260414T192812Z
UID:10001722-1777460400-1777464000@fpcdarien.com
SUMMARY:Women's Bible Study
DESCRIPTION:
URL:https://fpcdarien.com/event/womens-bible-study-2/2026-04-29/
LOCATION:Adult Sunday School room
END:VEVENT
BEGIN:VEVENT
DTSTART;TZID=America/New_York:20260502T100000
DTEND;TZID=America/New_York:20260502T110000
DTSTAMP:20260423T062417
CREATED:20230524T161020Z
LAST-MODIFIED:20230524T161020Z
UID:10000924-1777716000-1777719600@fpcdarien.com
SUMMARY:Men's Bible Study
DESCRIPTION:
URL:https://fpcdarien.com/event/mens-bible-study/2026-05-02/
LOCATION:Adult Sunday School room
END:VEVENT
BEGIN:VEVENT
DTSTART;TZID=America/New_York:20260503T093000
DTEND;TZID=America/New_York:20260503T103000
DTSTAMP:20260423T062417
CREATED:20230525T135738Z
LAST-MODIFIED:20230525T135738Z
UID:10001245-1777800600-1777804200@fpcdarien.com
SUMMARY:Adult Sunday School
DESCRIPTION:
URL:https://fpcdarien.com/event/adult-sunday-school/2026-05-03/
LOCATION:Adult Sunday School room
END:VEVENT
BEGIN:VEVENT
DTSTART;TZID=America/New_York:20260506T110000
DTEND;TZID=America/New_York:20260506T120000
DTSTAMP:20260423T062417
CREATED:20260414T192812Z
LAST-MODIFIED:20260414T192812Z
UID:10001723-1778065200-1778068800@fpcdarien.com
SUMMARY:Women's Bible Study
DESCRIPTION:
URL:https://fpcdarien.com/event/womens-bible-study-2/2026-05-06/
LOCATION:Adult Sunday School room
END:VEVENT
BEGIN:VEVENT
DTSTART;TZID=America/New_York:20260509T100000
DTEND;TZID=America/New_York:20260509T110000
DTSTAMP:20260423T062417
CREATED:20230524T161020Z
LAST-MODIFIED:20230524T161020Z
UID:10000925-1778320800-1778324400@fpcdarien.com
SUMMARY:Men's Bible Study
DESCRIPTION:
URL:https://fpcdarien.com/event/mens-bible-study/2026-05-09/
LOCATION:Adult Sunday School room
END:VEVENT
BEGIN:VEVENT
DTSTART;TZID=America/New_York:20260510T093000
DTEND;TZID=America/New_York:20260510T103000
DTSTAMP:20260423T062417
CREATED:20230525T135738Z
LAST-MODIFIED:20230525T135738Z
UID:10001246-1778405400-1778409000@fpcdarien.com
SUMMARY:Adult Sunday School
DESCRIPTION:
URL:https://fpcdarien.com/event/adult-sunday-school/2026-05-10/
LOCATION:Adult Sunday School room
END:VEVENT
BEGIN:VEVENT
DTSTART;TZID=America/New_York:20260511T100000
DTEND;TZID=America/New_York:20260511T110000
DTSTAMP:20260423T062417
CREATED:20230525T140937Z
LAST-MODIFIED:20230525T140937Z
UID:10001569-1778493600-1778497200@fpcdarien.com
SUMMARY:Session
DESCRIPTION:
URL:https://fpcdarien.com/event/session/2026-05-11/
LOCATION:Adult Sunday School room
END:VEVENT
BEGIN:VEVENT
DTSTART;TZID=America/New_York:20260513T110000
DTEND;TZID=America/New_York:20260513T120000
DTSTAMP:20260423T062417
CREATED:20260414T192812Z
LAST-MODIFIED:20260414T192812Z
UID:10001724-1778670000-1778673600@fpcdarien.com
SUMMARY:Women's Bible Study
DESCRIPTION:
URL:https://fpcdarien.com/event/womens-bible-study-2/2026-05-13/
LOCATION:Adult Sunday School room
END:VEVENT
BEGIN:VEVENT
DTSTART;TZID=America/New_York:20260516T100000
DTEND;TZID=America/New_York:20260516T110000
DTSTAMP:20260423T062417
CREATED:20230524T161020Z
LAST-MODIFIED:20230524T161020Z
UID:10000926-1778925600-1778929200@fpcdarien.com
SUMMARY:Men's Bible Study
DESCRIPTION:
URL:https://fpcdarien.com/event/mens-bible-study/2026-05-16/
LOCATION:Adult Sunday School room
END:VEVENT
BEGIN:VEVENT
DTSTART;TZID=America/New_York:20260517T093000
DTEND;TZID=America/New_York:20260517T103000
DTSTAMP:20260423T062417
CREATED:20230525T135738Z
LAST-MODIFIED:20230525T135738Z
UID:10001247-1779010200-1779013800@fpcdarien.com
SUMMARY:Adult Sunday School
DESCRIPTION:
URL:https://fpcdarien.com/event/adult-sunday-school/2026-05-17/
LOCATION:Adult Sunday School room
END:VEVENT
BEGIN:VEVENT
DTSTART;TZID=America/New_York:20260520T110000
DTEND;TZID=America/New_York:20260520T120000
DTSTAMP:20260423T062417
CREATED:20260414T192812Z
LAST-MODIFIED:20260414T192812Z
UID:10001725-1779274800-1779278400@fpcdarien.com
SUMMARY:Women's Bible Study
DESCRIPTION:
URL:https://fpcdarien.com/event/womens-bible-study-2/2026-05-20/
LOCATION:Adult Sunday School room
END:VEVENT
BEGIN:VEVENT
DTSTART;TZID=America/New_York:20260523T100000
DTEND;TZID=America/New_York:20260523T110000
DTSTAMP:20260423T062417
CREATED:20230524T161020Z
LAST-MODIFIED:20230524T161020Z
UID:10000927-1779530400-1779534000@fpcdarien.com
SUMMARY:Men's Bible Study
DESCRIPTION:
URL:https://fpcdarien.com/event/mens-bible-study/2026-05-23/
LOCATION:Adult Sunday School room
END:VEVENT
BEGIN:VEVENT
DTSTART;TZID=America/New_York:20260524T093000
DTEND;TZID=America/New_York:20260524T103000
DTSTAMP:20260423T062417
CREATED:20230525T135738Z
LAST-MODIFIED:20230525T135738Z
UID:10001248-1779615000-1779618600@fpcdarien.com
SUMMARY:Adult Sunday School
DESCRIPTION:
URL:https://fpcdarien.com/event/adult-sunday-school/2026-05-24/
LOCATION:Adult Sunday School room
END:VEVENT
BEGIN:VEVENT
DTSTART;TZID=America/New_York:20260527T110000
DTEND;TZID=America/New_York:20260527T120000
DTSTAMP:20260423T062417
CREATED:20260414T192812Z
LAST-MODIFIED:20260414T192812Z
UID:10001726-1779879600-1779883200@fpcdarien.com
SUMMARY:Women's Bible Study
DESCRIPTION:
URL:https://fpcdarien.com/event/womens-bible-study-2/2026-05-27/
LOCATION:Adult Sunday School room
END:VEVENT
BEGIN:VEVENT
DTSTART;TZID=America/New_York:20260530T100000
DTEND;TZID=America/New_York:20260530T110000
DTSTAMP:20260423T062417
CREATED:20230524T161020Z
LAST-MODIFIED:20230524T161020Z
UID:10000928-1780135200-1780138800@fpcdarien.com
SUMMARY:Men's Bible Study
DESCRIPTION:
URL:https://fpcdarien.com/event/mens-bible-study/2026-05-30/
LOCATION:Adult Sunday School room
END:VEVENT
BEGIN:VEVENT
DTSTART;TZID=America/New_York:20260531T093000
DTEND;TZID=America/New_York:20260531T103000
DTSTAMP:20260423T062417
CREATED:20230525T135738Z
LAST-MODIFIED:20230525T135738Z
UID:10001249-1780219800-1780223400@fpcdarien.com
SUMMARY:Adult Sunday School
DESCRIPTION:
URL:https://fpcdarien.com/event/adult-sunday-school/2026-05-31/
LOCATION:Adult Sunday School room
END:VEVENT
BEGIN:VEVENT
DTSTART;TZID=America/New_York:20260603T110000
DTEND;TZID=America/New_York:20260603T120000
DTSTAMP:20260423T062417
CREATED:20260414T192812Z
LAST-MODIFIED:20260414T192812Z
UID:10001727-1780484400-1780488000@fpcdarien.com
SUMMARY:Women's Bible Study
DESCRIPTION:
URL:https://fpcdarien.com/event/womens-bible-study-2/2026-06-03/
LOCATION:Adult Sunday School room
END:VEVENT
BEGIN:VEVENT
DTSTART;TZID=America/New_York:20260606T100000
DTEND;TZID=America/New_York:20260606T110000
DTSTAMP:20260423T062417
CREATED:20230524T161020Z
LAST-MODIFIED:20230524T161020Z
UID:10000929-1780740000-1780743600@fpcdarien.com
SUMMARY:Men's Bible Study
DESCRIPTION:
URL:https://fpcdarien.com/event/mens-bible-study/2026-06-06/
LOCATION:Adult Sunday School room
END:VEVENT
BEGIN:VEVENT
DTSTART;TZID=America/New_York:20260607T093000
DTEND;TZID=America/New_York:20260607T103000
DTSTAMP:20260423T062417
CREATED:20230525T135738Z
LAST-MODIFIED:20230525T135738Z
UID:10001250-1780824600-1780828200@fpcdarien.com
SUMMARY:Adult Sunday School
DESCRIPTION:
URL:https://fpcdarien.com/event/adult-sunday-school/2026-06-07/
LOCATION:Adult Sunday School room
END:VEVENT
BEGIN:VEVENT
DTSTART;TZID=America/New_York:20260608T100000
DTEND;TZID=America/New_York:20260608T110000
DTSTAMP:20260423T062417
CREATED:20230525T140937Z
LAST-MODIFIED:20230525T140937Z
UID:10001570-1780912800-1780916400@fpcdarien.com
SUMMARY:Session
DESCRIPTION:
URL:https://fpcdarien.com/event/session/2026-06-08/
LOCATION:Adult Sunday School room
END:VEVENT
BEGIN:VEVENT
DTSTART;TZID=America/New_York:20260610T110000
DTEND;TZID=America/New_York:20260610T120000
DTSTAMP:20260423T062417
CREATED:20260414T192812Z
LAST-MODIFIED:20260414T192812Z
UID:10001728-1781089200-1781092800@fpcdarien.com
SUMMARY:Women's Bible Study
DESCRIPTION:
URL:https://fpcdarien.com/event/womens-bible-study-2/2026-06-10/
LOCATION:Adult Sunday School room
END:VEVENT
BEGIN:VEVENT
DTSTART;TZID=America/New_York:20260613T100000
DTEND;TZID=America/New_York:20260613T110000
DTSTAMP:20260423T062417
CREATED:20230524T161020Z
LAST-MODIFIED:20230524T161020Z
UID:10000930-1781344800-1781348400@fpcdarien.com
SUMMARY:Men's Bible Study
DESCRIPTION:
URL:https://fpcdarien.com/event/mens-bible-study/2026-06-13/
LOCATION:Adult Sunday School room
END:VEVENT
BEGIN:VEVENT
DTSTART;TZID=America/New_York:20260614T093000
DTEND;TZID=America/New_York:20260614T103000
DTSTAMP:20260423T062417
CREATED:20230525T135738Z
LAST-MODIFIED:20230525T135738Z
UID:10001251-1781429400-1781433000@fpcdarien.com
SUMMARY:Adult Sunday School
DESCRIPTION:
URL:https://fpcdarien.com/event/adult-sunday-school/2026-06-14/
LOCATION:Adult Sunday School room
END:VEVENT
BEGIN:VEVENT
DTSTART;TZID=America/New_York:20260617T110000
DTEND;TZID=America/New_York:20260617T120000
DTSTAMP:20260423T062417
CREATED:20260414T192812Z
LAST-MODIFIED:20260414T192812Z
UID:10001729-1781694000-1781697600@fpcdarien.com
SUMMARY:Women's Bible Study
DESCRIPTION:
URL:https://fpcdarien.com/event/womens-bible-study-2/2026-06-17/
LOCATION:Adult Sunday School room
END:VEVENT
BEGIN:VEVENT
DTSTART;TZID=America/New_York:20260620T100000
DTEND;TZID=America/New_York:20260620T110000
DTSTAMP:20260423T062417
CREATED:20230524T161020Z
LAST-MODIFIED:20230524T161020Z
UID:10000931-1781949600-1781953200@fpcdarien.com
SUMMARY:Men's Bible Study
DESCRIPTION:
URL:https://fpcdarien.com/event/mens-bible-study/2026-06-20/
LOCATION:Adult Sunday School room
END:VEVENT
BEGIN:VEVENT
DTSTART;TZID=America/New_York:20260621T093000
DTEND;TZID=America/New_York:20260621T103000
DTSTAMP:20260423T062417
CREATED:20230525T135738Z
LAST-MODIFIED:20230525T135738Z
UID:10001252-1782034200-1782037800@fpcdarien.com
SUMMARY:Adult Sunday School
DESCRIPTION:
URL:https://fpcdarien.com/event/adult-sunday-school/2026-06-21/
LOCATION:Adult Sunday School room
END:VEVENT
BEGIN:VEVENT
DTSTART;TZID=America/New_York:20260624T110000
DTEND;TZID=America/New_York:20260624T120000
DTSTAMP:20260423T062417
CREATED:20260414T192812Z
LAST-MODIFIED:20260414T192812Z
UID:10001730-1782298800-1782302400@fpcdarien.com
SUMMARY:Women's Bible Study
DESCRIPTION:
URL:https://fpcdarien.com/event/womens-bible-study-2/2026-06-24/
LOCATION:Adult Sunday School room
END:VEVENT
BEGIN:VEVENT
DTSTART;TZID=America/New_York:20260627T100000
DTEND;TZID=America/New_York:20260627T110000
DTSTAMP:20260423T062417
CREATED:20230524T161020Z
LAST-MODIFIED:20230524T161020Z
UID:10000932-1782554400-1782558000@fpcdarien.com
SUMMARY:Men's Bible Study
DESCRIPTION:
URL:https://fpcdarien.com/event/mens-bible-study/2026-06-27/
LOCATION:Adult Sunday School room
END:VEVENT
END:VCALENDAR