BEGIN:VCALENDAR
VERSION:2.0
PRODID:-//First Presbyterian Church of Darien - ECPv6.15.20//NONSGML v1.0//EN
CALSCALE:GREGORIAN
METHOD:PUBLISH
X-WR-CALNAME:First Presbyterian Church of Darien
X-ORIGINAL-URL:https://fpcdarien.com
X-WR-CALDESC:Events for First Presbyterian Church of Darien
REFRESH-INTERVAL;VALUE=DURATION:PT1H
X-Robots-Tag:noindex
X-PUBLISHED-TTL:PT1H
BEGIN:VTIMEZONE
TZID:America/New_York
BEGIN:DAYLIGHT
TZOFFSETFROM:-0500
TZOFFSETTO:-0400
TZNAME:EDT
DTSTART:20250309T070000
END:DAYLIGHT
BEGIN:STANDARD
TZOFFSETFROM:-0400
TZOFFSETTO:-0500
TZNAME:EST
DTSTART:20251102T060000
END:STANDARD
BEGIN:DAYLIGHT
TZOFFSETFROM:-0500
TZOFFSETTO:-0400
TZNAME:EDT
DTSTART:20260308T070000
END:DAYLIGHT
BEGIN:STANDARD
TZOFFSETFROM:-0400
TZOFFSETTO:-0500
TZNAME:EST
DTSTART:20261101T060000
END:STANDARD
BEGIN:DAYLIGHT
TZOFFSETFROM:-0500
TZOFFSETTO:-0400
TZNAME:EDT
DTSTART:20270314T070000
END:DAYLIGHT
BEGIN:STANDARD
TZOFFSETFROM:-0400
TZOFFSETTO:-0500
TZNAME:EST
DTSTART:20271107T060000
END:STANDARD
BEGIN:DAYLIGHT
TZOFFSETFROM:-0500
TZOFFSETTO:-0400
TZNAME:EDT
DTSTART:20280312T070000
END:DAYLIGHT
BEGIN:STANDARD
TZOFFSETFROM:-0400
TZOFFSETTO:-0500
TZNAME:EST
DTSTART:20281105T060000
END:STANDARD
BEGIN:DAYLIGHT
TZOFFSETFROM:-0500
TZOFFSETTO:-0400
TZNAME:EDT
DTSTART:20290311T070000
END:DAYLIGHT
BEGIN:STANDARD
TZOFFSETFROM:-0400
TZOFFSETTO:-0500
TZNAME:EST
DTSTART:20291104T060000
END:STANDARD
END:VTIMEZONE
BEGIN:VEVENT
DTSTART;TZID=America/New_York:20260520T124500
DTEND;TZID=America/New_York:20260520T134500
DTSTAMP:20260425T065849
CREATED:20230525T140835Z
LAST-MODIFIED:20230525T140835Z
UID:10001509-1779281100-1779284700@fpcdarien.com
SUMMARY:Ladies' Birthday Lunch Celebration
DESCRIPTION:
URL:https://fpcdarien.com/event/ladies-birthday-lunch-celebration/2026-05-20/
END:VEVENT
BEGIN:VEVENT
DTSTART;TZID=America/New_York:20260617T124500
DTEND;TZID=America/New_York:20260617T134500
DTSTAMP:20260425T065849
CREATED:20230525T140835Z
LAST-MODIFIED:20230525T140835Z
UID:10001510-1781700300-1781703900@fpcdarien.com
SUMMARY:Ladies' Birthday Lunch Celebration
DESCRIPTION:
URL:https://fpcdarien.com/event/ladies-birthday-lunch-celebration/2026-06-17/
END:VEVENT
BEGIN:VEVENT
DTSTART;TZID=America/New_York:20260715T124500
DTEND;TZID=America/New_York:20260715T134500
DTSTAMP:20260425T065849
CREATED:20230525T140835Z
LAST-MODIFIED:20230525T140835Z
UID:10001511-1784119500-1784123100@fpcdarien.com
SUMMARY:Ladies' Birthday Lunch Celebration
DESCRIPTION:
URL:https://fpcdarien.com/event/ladies-birthday-lunch-celebration/2026-07-15/
END:VEVENT
BEGIN:VEVENT
DTSTART;TZID=America/New_York:20260819T124500
DTEND;TZID=America/New_York:20260819T134500
DTSTAMP:20260425T065849
CREATED:20230525T140835Z
LAST-MODIFIED:20230525T140835Z
UID:10001512-1787143500-1787147100@fpcdarien.com
SUMMARY:Ladies' Birthday Lunch Celebration
DESCRIPTION:
URL:https://fpcdarien.com/event/ladies-birthday-lunch-celebration/2026-08-19/
END:VEVENT
BEGIN:VEVENT
DTSTART;TZID=America/New_York:20260916T124500
DTEND;TZID=America/New_York:20260916T134500
DTSTAMP:20260425T065849
CREATED:20230525T140835Z
LAST-MODIFIED:20230525T140835Z
UID:10001513-1789562700-1789566300@fpcdarien.com
SUMMARY:Ladies' Birthday Lunch Celebration
DESCRIPTION:
URL:https://fpcdarien.com/event/ladies-birthday-lunch-celebration/2026-09-16/
END:VEVENT
BEGIN:VEVENT
DTSTART;TZID=America/New_York:20261021T124500
DTEND;TZID=America/New_York:20261021T134500
DTSTAMP:20260425T065849
CREATED:20230525T140835Z
LAST-MODIFIED:20230525T140835Z
UID:10001514-1792586700-1792590300@fpcdarien.com
SUMMARY:Ladies' Birthday Lunch Celebration
DESCRIPTION:
URL:https://fpcdarien.com/event/ladies-birthday-lunch-celebration/2026-10-21/
END:VEVENT
BEGIN:VEVENT
DTSTART;TZID=America/New_York:20261118T124500
DTEND;TZID=America/New_York:20261118T134500
DTSTAMP:20260425T065849
CREATED:20230525T140835Z
LAST-MODIFIED:20230525T140835Z
UID:10001515-1795005900-1795009500@fpcdarien.com
SUMMARY:Ladies' Birthday Lunch Celebration
DESCRIPTION:
URL:https://fpcdarien.com/event/ladies-birthday-lunch-celebration/2026-11-18/
END:VEVENT
BEGIN:VEVENT
DTSTART;TZID=America/New_York:20261216T124500
DTEND;TZID=America/New_York:20261216T134500
DTSTAMP:20260425T065849
CREATED:20230525T140835Z
LAST-MODIFIED:20230525T140835Z
UID:10001516-1797425100-1797428700@fpcdarien.com
SUMMARY:Ladies' Birthday Lunch Celebration
DESCRIPTION:
URL:https://fpcdarien.com/event/ladies-birthday-lunch-celebration/2026-12-16/
END:VEVENT
BEGIN:VEVENT
DTSTART;TZID=America/New_York:20270120T124500
DTEND;TZID=America/New_York:20270120T134500
DTSTAMP:20260425T065849
CREATED:20230525T140835Z
LAST-MODIFIED:20230525T140835Z
UID:10001517-1800449100-1800452700@fpcdarien.com
SUMMARY:Ladies' Birthday Lunch Celebration
DESCRIPTION:
URL:https://fpcdarien.com/event/ladies-birthday-lunch-celebration/2027-01-20/
END:VEVENT
BEGIN:VEVENT
DTSTART;TZID=America/New_York:20270217T124500
DTEND;TZID=America/New_York:20270217T134500
DTSTAMP:20260425T065849
CREATED:20230525T140835Z
LAST-MODIFIED:20230525T140835Z
UID:10001518-1802868300-1802871900@fpcdarien.com
SUMMARY:Ladies' Birthday Lunch Celebration
DESCRIPTION:
URL:https://fpcdarien.com/event/ladies-birthday-lunch-celebration/2027-02-17/
END:VEVENT
BEGIN:VEVENT
DTSTART;TZID=America/New_York:20270317T124500
DTEND;TZID=America/New_York:20270317T134500
DTSTAMP:20260425T065849
CREATED:20230525T140835Z
LAST-MODIFIED:20230525T140835Z
UID:10001519-1805287500-1805291100@fpcdarien.com
SUMMARY:Ladies' Birthday Lunch Celebration
DESCRIPTION:
URL:https://fpcdarien.com/event/ladies-birthday-lunch-celebration/2027-03-17/
END:VEVENT
BEGIN:VEVENT
DTSTART;TZID=America/New_York:20270421T124500
DTEND;TZID=America/New_York:20270421T134500
DTSTAMP:20260425T065849
CREATED:20230525T140835Z
LAST-MODIFIED:20230525T140835Z
UID:10001520-1808311500-1808315100@fpcdarien.com
SUMMARY:Ladies' Birthday Lunch Celebration
DESCRIPTION:
URL:https://fpcdarien.com/event/ladies-birthday-lunch-celebration/2027-04-21/
END:VEVENT
BEGIN:VEVENT
DTSTART;TZID=America/New_York:20270519T124500
DTEND;TZID=America/New_York:20270519T134500
DTSTAMP:20260425T065849
CREATED:20230525T140835Z
LAST-MODIFIED:20230525T140835Z
UID:10001521-1810730700-1810734300@fpcdarien.com
SUMMARY:Ladies' Birthday Lunch Celebration
DESCRIPTION:
URL:https://fpcdarien.com/event/ladies-birthday-lunch-celebration/2027-05-19/
END:VEVENT
BEGIN:VEVENT
DTSTART;TZID=America/New_York:20270616T124500
DTEND;TZID=America/New_York:20270616T134500
DTSTAMP:20260425T065849
CREATED:20230525T140835Z
LAST-MODIFIED:20230525T140835Z
UID:10001522-1813149900-1813153500@fpcdarien.com
SUMMARY:Ladies' Birthday Lunch Celebration
DESCRIPTION:
URL:https://fpcdarien.com/event/ladies-birthday-lunch-celebration/2027-06-16/
END:VEVENT
BEGIN:VEVENT
DTSTART;TZID=America/New_York:20270721T124500
DTEND;TZID=America/New_York:20270721T134500
DTSTAMP:20260425T065849
CREATED:20230525T140835Z
LAST-MODIFIED:20230525T140835Z
UID:10001523-1816173900-1816177500@fpcdarien.com
SUMMARY:Ladies' Birthday Lunch Celebration
DESCRIPTION:
URL:https://fpcdarien.com/event/ladies-birthday-lunch-celebration/2027-07-21/
END:VEVENT
BEGIN:VEVENT
DTSTART;TZID=America/New_York:20270818T124500
DTEND;TZID=America/New_York:20270818T134500
DTSTAMP:20260425T065849
CREATED:20230525T140835Z
LAST-MODIFIED:20230525T140835Z
UID:10001524-1818593100-1818596700@fpcdarien.com
SUMMARY:Ladies' Birthday Lunch Celebration
DESCRIPTION:
URL:https://fpcdarien.com/event/ladies-birthday-lunch-celebration/2027-08-18/
END:VEVENT
BEGIN:VEVENT
DTSTART;TZID=America/New_York:20270915T124500
DTEND;TZID=America/New_York:20270915T134500
DTSTAMP:20260425T065849
CREATED:20230525T140835Z
LAST-MODIFIED:20230525T140835Z
UID:10001525-1821012300-1821015900@fpcdarien.com
SUMMARY:Ladies' Birthday Lunch Celebration
DESCRIPTION:
URL:https://fpcdarien.com/event/ladies-birthday-lunch-celebration/2027-09-15/
END:VEVENT
BEGIN:VEVENT
DTSTART;TZID=America/New_York:20271020T124500
DTEND;TZID=America/New_York:20271020T134500
DTSTAMP:20260425T065849
CREATED:20230525T140835Z
LAST-MODIFIED:20230525T140835Z
UID:10001526-1824036300-1824039900@fpcdarien.com
SUMMARY:Ladies' Birthday Lunch Celebration
DESCRIPTION:
URL:https://fpcdarien.com/event/ladies-birthday-lunch-celebration/2027-10-20/
END:VEVENT
BEGIN:VEVENT
DTSTART;TZID=America/New_York:20271117T124500
DTEND;TZID=America/New_York:20271117T134500
DTSTAMP:20260425T065849
CREATED:20230525T140835Z
LAST-MODIFIED:20230525T140835Z
UID:10001527-1826455500-1826459100@fpcdarien.com
SUMMARY:Ladies' Birthday Lunch Celebration
DESCRIPTION:
URL:https://fpcdarien.com/event/ladies-birthday-lunch-celebration/2027-11-17/
END:VEVENT
BEGIN:VEVENT
DTSTART;TZID=America/New_York:20271215T124500
DTEND;TZID=America/New_York:20271215T134500
DTSTAMP:20260425T065849
CREATED:20230525T140835Z
LAST-MODIFIED:20230525T140835Z
UID:10001528-1828874700-1828878300@fpcdarien.com
SUMMARY:Ladies' Birthday Lunch Celebration
DESCRIPTION:
URL:https://fpcdarien.com/event/ladies-birthday-lunch-celebration/2027-12-15/
END:VEVENT
BEGIN:VEVENT
DTSTART;TZID=America/New_York:20280119T124500
DTEND;TZID=America/New_York:20280119T134500
DTSTAMP:20260425T065849
CREATED:20230525T140835Z
LAST-MODIFIED:20230525T140835Z
UID:10001529-1831898700-1831902300@fpcdarien.com
SUMMARY:Ladies' Birthday Lunch Celebration
DESCRIPTION:
URL:https://fpcdarien.com/event/ladies-birthday-lunch-celebration/2028-01-19/
END:VEVENT
BEGIN:VEVENT
DTSTART;TZID=America/New_York:20280216T124500
DTEND;TZID=America/New_York:20280216T134500
DTSTAMP:20260425T065849
CREATED:20230525T140835Z
LAST-MODIFIED:20230525T140835Z
UID:10001530-1834317900-1834321500@fpcdarien.com
SUMMARY:Ladies' Birthday Lunch Celebration
DESCRIPTION:
URL:https://fpcdarien.com/event/ladies-birthday-lunch-celebration/2028-02-16/
END:VEVENT
BEGIN:VEVENT
DTSTART;TZID=America/New_York:20280315T124500
DTEND;TZID=America/New_York:20280315T134500
DTSTAMP:20260425T065849
CREATED:20230525T140835Z
LAST-MODIFIED:20230525T140835Z
UID:10001531-1836737100-1836740700@fpcdarien.com
SUMMARY:Ladies' Birthday Lunch Celebration
DESCRIPTION:
URL:https://fpcdarien.com/event/ladies-birthday-lunch-celebration/2028-03-15/
END:VEVENT
BEGIN:VEVENT
DTSTART;TZID=America/New_York:20280419T124500
DTEND;TZID=America/New_York:20280419T134500
DTSTAMP:20260425T065849
CREATED:20230525T140835Z
LAST-MODIFIED:20230525T140835Z
UID:10001532-1839761100-1839764700@fpcdarien.com
SUMMARY:Ladies' Birthday Lunch Celebration
DESCRIPTION:
URL:https://fpcdarien.com/event/ladies-birthday-lunch-celebration/2028-04-19/
END:VEVENT
BEGIN:VEVENT
DTSTART;TZID=America/New_York:20280517T124500
DTEND;TZID=America/New_York:20280517T134500
DTSTAMP:20260425T065849
CREATED:20230525T140835Z
LAST-MODIFIED:20230525T140835Z
UID:10001533-1842180300-1842183900@fpcdarien.com
SUMMARY:Ladies' Birthday Lunch Celebration
DESCRIPTION:
URL:https://fpcdarien.com/event/ladies-birthday-lunch-celebration/2028-05-17/
END:VEVENT
END:VCALENDAR