BEGIN:VCALENDAR
VERSION:2.0
PRODID:-//First Presbyterian Church of Darien - ECPv6.15.20//NONSGML v1.0//EN
CALSCALE:GREGORIAN
METHOD:PUBLISH
X-WR-CALNAME:First Presbyterian Church of Darien
X-ORIGINAL-URL:https://fpcdarien.com
X-WR-CALDESC:Events for First Presbyterian Church of Darien
REFRESH-INTERVAL;VALUE=DURATION:PT1H
X-Robots-Tag:noindex
X-PUBLISHED-TTL:PT1H
BEGIN:VTIMEZONE
TZID:America/New_York
BEGIN:DAYLIGHT
TZOFFSETFROM:-0500
TZOFFSETTO:-0400
TZNAME:EDT
DTSTART:20250309T070000
END:DAYLIGHT
BEGIN:STANDARD
TZOFFSETFROM:-0400
TZOFFSETTO:-0500
TZNAME:EST
DTSTART:20251102T060000
END:STANDARD
BEGIN:DAYLIGHT
TZOFFSETFROM:-0500
TZOFFSETTO:-0400
TZNAME:EDT
DTSTART:20260308T070000
END:DAYLIGHT
BEGIN:STANDARD
TZOFFSETFROM:-0400
TZOFFSETTO:-0500
TZNAME:EST
DTSTART:20261101T060000
END:STANDARD
BEGIN:DAYLIGHT
TZOFFSETFROM:-0500
TZOFFSETTO:-0400
TZNAME:EDT
DTSTART:20270314T070000
END:DAYLIGHT
BEGIN:STANDARD
TZOFFSETFROM:-0400
TZOFFSETTO:-0500
TZNAME:EST
DTSTART:20271107T060000
END:STANDARD
END:VTIMEZONE
BEGIN:VEVENT
DTSTART;TZID=America/New_York:20260426T093000
DTEND;TZID=America/New_York:20260426T103000
DTSTAMP:20260423T015214
CREATED:20230525T135738Z
LAST-MODIFIED:20230525T135738Z
UID:10001244-1777195800-1777199400@fpcdarien.com
SUMMARY:Adult Sunday School
DESCRIPTION:
URL:https://fpcdarien.com/event/adult-sunday-school/2026-04-26/
LOCATION:Adult Sunday School room
END:VEVENT
BEGIN:VEVENT
DTSTART;TZID=America/New_York:20260503T093000
DTEND;TZID=America/New_York:20260503T103000
DTSTAMP:20260423T015214
CREATED:20230525T135738Z
LAST-MODIFIED:20230525T135738Z
UID:10001245-1777800600-1777804200@fpcdarien.com
SUMMARY:Adult Sunday School
DESCRIPTION:
URL:https://fpcdarien.com/event/adult-sunday-school/2026-05-03/
LOCATION:Adult Sunday School room
END:VEVENT
BEGIN:VEVENT
DTSTART;TZID=America/New_York:20260510T093000
DTEND;TZID=America/New_York:20260510T103000
DTSTAMP:20260423T015214
CREATED:20230525T135738Z
LAST-MODIFIED:20230525T135738Z
UID:10001246-1778405400-1778409000@fpcdarien.com
SUMMARY:Adult Sunday School
DESCRIPTION:
URL:https://fpcdarien.com/event/adult-sunday-school/2026-05-10/
LOCATION:Adult Sunday School room
END:VEVENT
BEGIN:VEVENT
DTSTART;TZID=America/New_York:20260517T093000
DTEND;TZID=America/New_York:20260517T103000
DTSTAMP:20260423T015214
CREATED:20230525T135738Z
LAST-MODIFIED:20230525T135738Z
UID:10001247-1779010200-1779013800@fpcdarien.com
SUMMARY:Adult Sunday School
DESCRIPTION:
URL:https://fpcdarien.com/event/adult-sunday-school/2026-05-17/
LOCATION:Adult Sunday School room
END:VEVENT
BEGIN:VEVENT
DTSTART;TZID=America/New_York:20260524T093000
DTEND;TZID=America/New_York:20260524T103000
DTSTAMP:20260423T015214
CREATED:20230525T135738Z
LAST-MODIFIED:20230525T135738Z
UID:10001248-1779615000-1779618600@fpcdarien.com
SUMMARY:Adult Sunday School
DESCRIPTION:
URL:https://fpcdarien.com/event/adult-sunday-school/2026-05-24/
LOCATION:Adult Sunday School room
END:VEVENT
BEGIN:VEVENT
DTSTART;TZID=America/New_York:20260531T093000
DTEND;TZID=America/New_York:20260531T103000
DTSTAMP:20260423T015214
CREATED:20230525T135738Z
LAST-MODIFIED:20230525T135738Z
UID:10001249-1780219800-1780223400@fpcdarien.com
SUMMARY:Adult Sunday School
DESCRIPTION:
URL:https://fpcdarien.com/event/adult-sunday-school/2026-05-31/
LOCATION:Adult Sunday School room
END:VEVENT
BEGIN:VEVENT
DTSTART;TZID=America/New_York:20260607T093000
DTEND;TZID=America/New_York:20260607T103000
DTSTAMP:20260423T015214
CREATED:20230525T135738Z
LAST-MODIFIED:20230525T135738Z
UID:10001250-1780824600-1780828200@fpcdarien.com
SUMMARY:Adult Sunday School
DESCRIPTION:
URL:https://fpcdarien.com/event/adult-sunday-school/2026-06-07/
LOCATION:Adult Sunday School room
END:VEVENT
BEGIN:VEVENT
DTSTART;TZID=America/New_York:20260614T093000
DTEND;TZID=America/New_York:20260614T103000
DTSTAMP:20260423T015214
CREATED:20230525T135738Z
LAST-MODIFIED:20230525T135738Z
UID:10001251-1781429400-1781433000@fpcdarien.com
SUMMARY:Adult Sunday School
DESCRIPTION:
URL:https://fpcdarien.com/event/adult-sunday-school/2026-06-14/
LOCATION:Adult Sunday School room
END:VEVENT
BEGIN:VEVENT
DTSTART;TZID=America/New_York:20260621T093000
DTEND;TZID=America/New_York:20260621T103000
DTSTAMP:20260423T015214
CREATED:20230525T135738Z
LAST-MODIFIED:20230525T135738Z
UID:10001252-1782034200-1782037800@fpcdarien.com
SUMMARY:Adult Sunday School
DESCRIPTION:
URL:https://fpcdarien.com/event/adult-sunday-school/2026-06-21/
LOCATION:Adult Sunday School room
END:VEVENT
BEGIN:VEVENT
DTSTART;TZID=America/New_York:20260628T093000
DTEND;TZID=America/New_York:20260628T103000
DTSTAMP:20260423T015214
CREATED:20230525T135738Z
LAST-MODIFIED:20230525T135738Z
UID:10001253-1782639000-1782642600@fpcdarien.com
SUMMARY:Adult Sunday School
DESCRIPTION:
URL:https://fpcdarien.com/event/adult-sunday-school/2026-06-28/
LOCATION:Adult Sunday School room
END:VEVENT
BEGIN:VEVENT
DTSTART;TZID=America/New_York:20260705T093000
DTEND;TZID=America/New_York:20260705T103000
DTSTAMP:20260423T015214
CREATED:20230525T135738Z
LAST-MODIFIED:20230525T135738Z
UID:10001254-1783243800-1783247400@fpcdarien.com
SUMMARY:Adult Sunday School
DESCRIPTION:
URL:https://fpcdarien.com/event/adult-sunday-school/2026-07-05/
LOCATION:Adult Sunday School room
END:VEVENT
BEGIN:VEVENT
DTSTART;TZID=America/New_York:20260712T093000
DTEND;TZID=America/New_York:20260712T103000
DTSTAMP:20260423T015214
CREATED:20230525T135738Z
LAST-MODIFIED:20230525T135738Z
UID:10001255-1783848600-1783852200@fpcdarien.com
SUMMARY:Adult Sunday School
DESCRIPTION:
URL:https://fpcdarien.com/event/adult-sunday-school/2026-07-12/
LOCATION:Adult Sunday School room
END:VEVENT
BEGIN:VEVENT
DTSTART;TZID=America/New_York:20260719T093000
DTEND;TZID=America/New_York:20260719T103000
DTSTAMP:20260423T015214
CREATED:20230525T135738Z
LAST-MODIFIED:20230525T135738Z
UID:10001256-1784453400-1784457000@fpcdarien.com
SUMMARY:Adult Sunday School
DESCRIPTION:
URL:https://fpcdarien.com/event/adult-sunday-school/2026-07-19/
LOCATION:Adult Sunday School room
END:VEVENT
BEGIN:VEVENT
DTSTART;TZID=America/New_York:20260726T093000
DTEND;TZID=America/New_York:20260726T103000
DTSTAMP:20260423T015214
CREATED:20230525T135738Z
LAST-MODIFIED:20230525T135738Z
UID:10001257-1785058200-1785061800@fpcdarien.com
SUMMARY:Adult Sunday School
DESCRIPTION:
URL:https://fpcdarien.com/event/adult-sunday-school/2026-07-26/
LOCATION:Adult Sunday School room
END:VEVENT
BEGIN:VEVENT
DTSTART;TZID=America/New_York:20260802T093000
DTEND;TZID=America/New_York:20260802T103000
DTSTAMP:20260423T015214
CREATED:20230525T135738Z
LAST-MODIFIED:20230525T135738Z
UID:10001258-1785663000-1785666600@fpcdarien.com
SUMMARY:Adult Sunday School
DESCRIPTION:
URL:https://fpcdarien.com/event/adult-sunday-school/2026-08-02/
LOCATION:Adult Sunday School room
END:VEVENT
BEGIN:VEVENT
DTSTART;TZID=America/New_York:20260809T093000
DTEND;TZID=America/New_York:20260809T103000
DTSTAMP:20260423T015214
CREATED:20230525T135738Z
LAST-MODIFIED:20230525T135738Z
UID:10001259-1786267800-1786271400@fpcdarien.com
SUMMARY:Adult Sunday School
DESCRIPTION:
URL:https://fpcdarien.com/event/adult-sunday-school/2026-08-09/
LOCATION:Adult Sunday School room
END:VEVENT
BEGIN:VEVENT
DTSTART;TZID=America/New_York:20260816T093000
DTEND;TZID=America/New_York:20260816T103000
DTSTAMP:20260423T015214
CREATED:20230525T135738Z
LAST-MODIFIED:20230525T135738Z
UID:10001260-1786872600-1786876200@fpcdarien.com
SUMMARY:Adult Sunday School
DESCRIPTION:
URL:https://fpcdarien.com/event/adult-sunday-school/2026-08-16/
LOCATION:Adult Sunday School room
END:VEVENT
BEGIN:VEVENT
DTSTART;TZID=America/New_York:20260823T093000
DTEND;TZID=America/New_York:20260823T103000
DTSTAMP:20260423T015214
CREATED:20230525T135738Z
LAST-MODIFIED:20230525T135738Z
UID:10001261-1787477400-1787481000@fpcdarien.com
SUMMARY:Adult Sunday School
DESCRIPTION:
URL:https://fpcdarien.com/event/adult-sunday-school/2026-08-23/
LOCATION:Adult Sunday School room
END:VEVENT
BEGIN:VEVENT
DTSTART;TZID=America/New_York:20260830T093000
DTEND;TZID=America/New_York:20260830T103000
DTSTAMP:20260423T015214
CREATED:20230525T135738Z
LAST-MODIFIED:20230525T135738Z
UID:10001262-1788082200-1788085800@fpcdarien.com
SUMMARY:Adult Sunday School
DESCRIPTION:
URL:https://fpcdarien.com/event/adult-sunday-school/2026-08-30/
LOCATION:Adult Sunday School room
END:VEVENT
BEGIN:VEVENT
DTSTART;TZID=America/New_York:20260906T093000
DTEND;TZID=America/New_York:20260906T103000
DTSTAMP:20260423T015214
CREATED:20230525T135738Z
LAST-MODIFIED:20230525T135738Z
UID:10001263-1788687000-1788690600@fpcdarien.com
SUMMARY:Adult Sunday School
DESCRIPTION:
URL:https://fpcdarien.com/event/adult-sunday-school/2026-09-06/
LOCATION:Adult Sunday School room
END:VEVENT
BEGIN:VEVENT
DTSTART;TZID=America/New_York:20260913T093000
DTEND;TZID=America/New_York:20260913T103000
DTSTAMP:20260423T015214
CREATED:20230525T135738Z
LAST-MODIFIED:20230525T135738Z
UID:10001264-1789291800-1789295400@fpcdarien.com
SUMMARY:Adult Sunday School
DESCRIPTION:
URL:https://fpcdarien.com/event/adult-sunday-school/2026-09-13/
LOCATION:Adult Sunday School room
END:VEVENT
BEGIN:VEVENT
DTSTART;TZID=America/New_York:20260920T093000
DTEND;TZID=America/New_York:20260920T103000
DTSTAMP:20260423T015214
CREATED:20230525T135738Z
LAST-MODIFIED:20230525T135738Z
UID:10001265-1789896600-1789900200@fpcdarien.com
SUMMARY:Adult Sunday School
DESCRIPTION:
URL:https://fpcdarien.com/event/adult-sunday-school/2026-09-20/
LOCATION:Adult Sunday School room
END:VEVENT
BEGIN:VEVENT
DTSTART;TZID=America/New_York:20260927T093000
DTEND;TZID=America/New_York:20260927T103000
DTSTAMP:20260423T015214
CREATED:20230525T135738Z
LAST-MODIFIED:20230525T135738Z
UID:10001266-1790501400-1790505000@fpcdarien.com
SUMMARY:Adult Sunday School
DESCRIPTION:
URL:https://fpcdarien.com/event/adult-sunday-school/2026-09-27/
LOCATION:Adult Sunday School room
END:VEVENT
BEGIN:VEVENT
DTSTART;TZID=America/New_York:20261004T093000
DTEND;TZID=America/New_York:20261004T103000
DTSTAMP:20260423T015214
CREATED:20230525T135738Z
LAST-MODIFIED:20230525T135738Z
UID:10001267-1791106200-1791109800@fpcdarien.com
SUMMARY:Adult Sunday School
DESCRIPTION:
URL:https://fpcdarien.com/event/adult-sunday-school/2026-10-04/
LOCATION:Adult Sunday School room
END:VEVENT
BEGIN:VEVENT
DTSTART;TZID=America/New_York:20261011T093000
DTEND;TZID=America/New_York:20261011T103000
DTSTAMP:20260423T015214
CREATED:20230525T135738Z
LAST-MODIFIED:20230525T135738Z
UID:10001268-1791711000-1791714600@fpcdarien.com
SUMMARY:Adult Sunday School
DESCRIPTION:
URL:https://fpcdarien.com/event/adult-sunday-school/2026-10-11/
LOCATION:Adult Sunday School room
END:VEVENT
BEGIN:VEVENT
DTSTART;TZID=America/New_York:20261018T093000
DTEND;TZID=America/New_York:20261018T103000
DTSTAMP:20260423T015214
CREATED:20230525T135738Z
LAST-MODIFIED:20230525T135738Z
UID:10001269-1792315800-1792319400@fpcdarien.com
SUMMARY:Adult Sunday School
DESCRIPTION:
URL:https://fpcdarien.com/event/adult-sunday-school/2026-10-18/
LOCATION:Adult Sunday School room
END:VEVENT
BEGIN:VEVENT
DTSTART;TZID=America/New_York:20261025T093000
DTEND;TZID=America/New_York:20261025T103000
DTSTAMP:20260423T015214
CREATED:20230525T135738Z
LAST-MODIFIED:20230525T135738Z
UID:10001270-1792920600-1792924200@fpcdarien.com
SUMMARY:Adult Sunday School
DESCRIPTION:
URL:https://fpcdarien.com/event/adult-sunday-school/2026-10-25/
LOCATION:Adult Sunday School room
END:VEVENT
BEGIN:VEVENT
DTSTART;TZID=America/New_York:20261101T093000
DTEND;TZID=America/New_York:20261101T103000
DTSTAMP:20260423T015214
CREATED:20230525T135738Z
LAST-MODIFIED:20230525T135738Z
UID:10001271-1793525400-1793529000@fpcdarien.com
SUMMARY:Adult Sunday School
DESCRIPTION:
URL:https://fpcdarien.com/event/adult-sunday-school/2026-11-01/
LOCATION:Adult Sunday School room
END:VEVENT
BEGIN:VEVENT
DTSTART;TZID=America/New_York:20261108T093000
DTEND;TZID=America/New_York:20261108T103000
DTSTAMP:20260423T015214
CREATED:20230525T135738Z
LAST-MODIFIED:20230525T135738Z
UID:10001272-1794130200-1794133800@fpcdarien.com
SUMMARY:Adult Sunday School
DESCRIPTION:
URL:https://fpcdarien.com/event/adult-sunday-school/2026-11-08/
LOCATION:Adult Sunday School room
END:VEVENT
BEGIN:VEVENT
DTSTART;TZID=America/New_York:20261115T093000
DTEND;TZID=America/New_York:20261115T103000
DTSTAMP:20260423T015214
CREATED:20230525T135738Z
LAST-MODIFIED:20230525T135738Z
UID:10001273-1794735000-1794738600@fpcdarien.com
SUMMARY:Adult Sunday School
DESCRIPTION:
URL:https://fpcdarien.com/event/adult-sunday-school/2026-11-15/
LOCATION:Adult Sunday School room
END:VEVENT
END:VCALENDAR