BEGIN:VCALENDAR
VERSION:2.0
PRODID:-//First Presbyterian Church of Darien - ECPv6.15.20//NONSGML v1.0//EN
CALSCALE:GREGORIAN
METHOD:PUBLISH
X-WR-CALNAME:First Presbyterian Church of Darien
X-ORIGINAL-URL:https://fpcdarien.com
X-WR-CALDESC:Events for First Presbyterian Church of Darien
REFRESH-INTERVAL;VALUE=DURATION:PT1H
X-Robots-Tag:noindex
X-PUBLISHED-TTL:PT1H
BEGIN:VTIMEZONE
TZID:America/New_York
BEGIN:DAYLIGHT
TZOFFSETFROM:-0500
TZOFFSETTO:-0400
TZNAME:EDT
DTSTART:20250309T070000
END:DAYLIGHT
BEGIN:STANDARD
TZOFFSETFROM:-0400
TZOFFSETTO:-0500
TZNAME:EST
DTSTART:20251102T060000
END:STANDARD
BEGIN:DAYLIGHT
TZOFFSETFROM:-0500
TZOFFSETTO:-0400
TZNAME:EDT
DTSTART:20260308T070000
END:DAYLIGHT
BEGIN:STANDARD
TZOFFSETFROM:-0400
TZOFFSETTO:-0500
TZNAME:EST
DTSTART:20261101T060000
END:STANDARD
BEGIN:DAYLIGHT
TZOFFSETFROM:-0500
TZOFFSETTO:-0400
TZNAME:EDT
DTSTART:20270314T070000
END:DAYLIGHT
BEGIN:STANDARD
TZOFFSETFROM:-0400
TZOFFSETTO:-0500
TZNAME:EST
DTSTART:20271107T060000
END:STANDARD
END:VTIMEZONE
BEGIN:VEVENT
DTSTART;TZID=America/New_York:20260427T113000
DTEND;TZID=America/New_York:20260427T123000
DTSTAMP:20260423T044718
CREATED:20230524T160020Z
LAST-MODIFIED:20230524T160124Z
UID:10000415-1777289400-1777293000@fpcdarien.com
SUMMARY:Al-Anon
DESCRIPTION:
URL:https://fpcdarien.com/event/al-anon-2/2026-04-27/
LOCATION:Education building
END:VEVENT
BEGIN:VEVENT
DTSTART;TZID=America/New_York:20260504T113000
DTEND;TZID=America/New_York:20260504T123000
DTSTAMP:20260423T044718
CREATED:20230524T160020Z
LAST-MODIFIED:20230524T160124Z
UID:10000416-1777894200-1777897800@fpcdarien.com
SUMMARY:Al-Anon
DESCRIPTION:
URL:https://fpcdarien.com/event/al-anon-2/2026-05-04/
LOCATION:Education building
END:VEVENT
BEGIN:VEVENT
DTSTART;TZID=America/New_York:20260511T113000
DTEND;TZID=America/New_York:20260511T123000
DTSTAMP:20260423T044718
CREATED:20230524T160020Z
LAST-MODIFIED:20230524T160124Z
UID:10000417-1778499000-1778502600@fpcdarien.com
SUMMARY:Al-Anon
DESCRIPTION:
URL:https://fpcdarien.com/event/al-anon-2/2026-05-11/
LOCATION:Education building
END:VEVENT
BEGIN:VEVENT
DTSTART;TZID=America/New_York:20260518T113000
DTEND;TZID=America/New_York:20260518T123000
DTSTAMP:20260423T044718
CREATED:20230524T160020Z
LAST-MODIFIED:20230524T160124Z
UID:10000418-1779103800-1779107400@fpcdarien.com
SUMMARY:Al-Anon
DESCRIPTION:
URL:https://fpcdarien.com/event/al-anon-2/2026-05-18/
LOCATION:Education building
END:VEVENT
BEGIN:VEVENT
DTSTART;TZID=America/New_York:20260525T113000
DTEND;TZID=America/New_York:20260525T123000
DTSTAMP:20260423T044718
CREATED:20230524T160020Z
LAST-MODIFIED:20230524T160124Z
UID:10000419-1779708600-1779712200@fpcdarien.com
SUMMARY:Al-Anon
DESCRIPTION:
URL:https://fpcdarien.com/event/al-anon-2/2026-05-25/
LOCATION:Education building
END:VEVENT
BEGIN:VEVENT
DTSTART;TZID=America/New_York:20260601T113000
DTEND;TZID=America/New_York:20260601T123000
DTSTAMP:20260423T044718
CREATED:20230524T160020Z
LAST-MODIFIED:20230524T160124Z
UID:10000420-1780313400-1780317000@fpcdarien.com
SUMMARY:Al-Anon
DESCRIPTION:
URL:https://fpcdarien.com/event/al-anon-2/2026-06-01/
LOCATION:Education building
END:VEVENT
BEGIN:VEVENT
DTSTART;TZID=America/New_York:20260608T113000
DTEND;TZID=America/New_York:20260608T123000
DTSTAMP:20260423T044718
CREATED:20230524T160020Z
LAST-MODIFIED:20230524T160124Z
UID:10000421-1780918200-1780921800@fpcdarien.com
SUMMARY:Al-Anon
DESCRIPTION:
URL:https://fpcdarien.com/event/al-anon-2/2026-06-08/
LOCATION:Education building
END:VEVENT
BEGIN:VEVENT
DTSTART;TZID=America/New_York:20260615T113000
DTEND;TZID=America/New_York:20260615T123000
DTSTAMP:20260423T044718
CREATED:20230524T160020Z
LAST-MODIFIED:20230524T160124Z
UID:10000422-1781523000-1781526600@fpcdarien.com
SUMMARY:Al-Anon
DESCRIPTION:
URL:https://fpcdarien.com/event/al-anon-2/2026-06-15/
LOCATION:Education building
END:VEVENT
BEGIN:VEVENT
DTSTART;TZID=America/New_York:20260622T113000
DTEND;TZID=America/New_York:20260622T123000
DTSTAMP:20260423T044718
CREATED:20230524T160020Z
LAST-MODIFIED:20230524T160124Z
UID:10000423-1782127800-1782131400@fpcdarien.com
SUMMARY:Al-Anon
DESCRIPTION:
URL:https://fpcdarien.com/event/al-anon-2/2026-06-22/
LOCATION:Education building
END:VEVENT
BEGIN:VEVENT
DTSTART;TZID=America/New_York:20260629T113000
DTEND;TZID=America/New_York:20260629T123000
DTSTAMP:20260423T044718
CREATED:20230524T160020Z
LAST-MODIFIED:20230524T160124Z
UID:10000424-1782732600-1782736200@fpcdarien.com
SUMMARY:Al-Anon
DESCRIPTION:
URL:https://fpcdarien.com/event/al-anon-2/2026-06-29/
LOCATION:Education building
END:VEVENT
BEGIN:VEVENT
DTSTART;TZID=America/New_York:20260706T113000
DTEND;TZID=America/New_York:20260706T123000
DTSTAMP:20260423T044718
CREATED:20230524T160020Z
LAST-MODIFIED:20230524T160124Z
UID:10000425-1783337400-1783341000@fpcdarien.com
SUMMARY:Al-Anon
DESCRIPTION:
URL:https://fpcdarien.com/event/al-anon-2/2026-07-06/
LOCATION:Education building
END:VEVENT
BEGIN:VEVENT
DTSTART;TZID=America/New_York:20260713T113000
DTEND;TZID=America/New_York:20260713T123000
DTSTAMP:20260423T044718
CREATED:20230524T160020Z
LAST-MODIFIED:20230524T160124Z
UID:10000426-1783942200-1783945800@fpcdarien.com
SUMMARY:Al-Anon
DESCRIPTION:
URL:https://fpcdarien.com/event/al-anon-2/2026-07-13/
LOCATION:Education building
END:VEVENT
BEGIN:VEVENT
DTSTART;TZID=America/New_York:20260720T113000
DTEND;TZID=America/New_York:20260720T123000
DTSTAMP:20260423T044718
CREATED:20230524T160020Z
LAST-MODIFIED:20230524T160124Z
UID:10000427-1784547000-1784550600@fpcdarien.com
SUMMARY:Al-Anon
DESCRIPTION:
URL:https://fpcdarien.com/event/al-anon-2/2026-07-20/
LOCATION:Education building
END:VEVENT
BEGIN:VEVENT
DTSTART;TZID=America/New_York:20260727T113000
DTEND;TZID=America/New_York:20260727T123000
DTSTAMP:20260423T044718
CREATED:20230524T160020Z
LAST-MODIFIED:20230524T160124Z
UID:10000428-1785151800-1785155400@fpcdarien.com
SUMMARY:Al-Anon
DESCRIPTION:
URL:https://fpcdarien.com/event/al-anon-2/2026-07-27/
LOCATION:Education building
END:VEVENT
BEGIN:VEVENT
DTSTART;TZID=America/New_York:20260803T113000
DTEND;TZID=America/New_York:20260803T123000
DTSTAMP:20260423T044718
CREATED:20230524T160020Z
LAST-MODIFIED:20230524T160124Z
UID:10000429-1785756600-1785760200@fpcdarien.com
SUMMARY:Al-Anon
DESCRIPTION:
URL:https://fpcdarien.com/event/al-anon-2/2026-08-03/
LOCATION:Education building
END:VEVENT
BEGIN:VEVENT
DTSTART;TZID=America/New_York:20260810T113000
DTEND;TZID=America/New_York:20260810T123000
DTSTAMP:20260423T044718
CREATED:20230524T160020Z
LAST-MODIFIED:20230524T160124Z
UID:10000430-1786361400-1786365000@fpcdarien.com
SUMMARY:Al-Anon
DESCRIPTION:
URL:https://fpcdarien.com/event/al-anon-2/2026-08-10/
LOCATION:Education building
END:VEVENT
BEGIN:VEVENT
DTSTART;TZID=America/New_York:20260817T113000
DTEND;TZID=America/New_York:20260817T123000
DTSTAMP:20260423T044718
CREATED:20230524T160020Z
LAST-MODIFIED:20230524T160124Z
UID:10000431-1786966200-1786969800@fpcdarien.com
SUMMARY:Al-Anon
DESCRIPTION:
URL:https://fpcdarien.com/event/al-anon-2/2026-08-17/
LOCATION:Education building
END:VEVENT
BEGIN:VEVENT
DTSTART;TZID=America/New_York:20260824T113000
DTEND;TZID=America/New_York:20260824T123000
DTSTAMP:20260423T044718
CREATED:20230524T160020Z
LAST-MODIFIED:20230524T160124Z
UID:10000432-1787571000-1787574600@fpcdarien.com
SUMMARY:Al-Anon
DESCRIPTION:
URL:https://fpcdarien.com/event/al-anon-2/2026-08-24/
LOCATION:Education building
END:VEVENT
BEGIN:VEVENT
DTSTART;TZID=America/New_York:20260831T113000
DTEND;TZID=America/New_York:20260831T123000
DTSTAMP:20260423T044718
CREATED:20230524T160020Z
LAST-MODIFIED:20230524T160124Z
UID:10000433-1788175800-1788179400@fpcdarien.com
SUMMARY:Al-Anon
DESCRIPTION:
URL:https://fpcdarien.com/event/al-anon-2/2026-08-31/
LOCATION:Education building
END:VEVENT
BEGIN:VEVENT
DTSTART;TZID=America/New_York:20260907T113000
DTEND;TZID=America/New_York:20260907T123000
DTSTAMP:20260423T044718
CREATED:20230524T160020Z
LAST-MODIFIED:20230524T160124Z
UID:10000434-1788780600-1788784200@fpcdarien.com
SUMMARY:Al-Anon
DESCRIPTION:
URL:https://fpcdarien.com/event/al-anon-2/2026-09-07/
LOCATION:Education building
END:VEVENT
BEGIN:VEVENT
DTSTART;TZID=America/New_York:20260914T113000
DTEND;TZID=America/New_York:20260914T123000
DTSTAMP:20260423T044718
CREATED:20230524T160020Z
LAST-MODIFIED:20230524T160124Z
UID:10000435-1789385400-1789389000@fpcdarien.com
SUMMARY:Al-Anon
DESCRIPTION:
URL:https://fpcdarien.com/event/al-anon-2/2026-09-14/
LOCATION:Education building
END:VEVENT
BEGIN:VEVENT
DTSTART;TZID=America/New_York:20260921T113000
DTEND;TZID=America/New_York:20260921T123000
DTSTAMP:20260423T044718
CREATED:20230524T160020Z
LAST-MODIFIED:20230524T160124Z
UID:10000436-1789990200-1789993800@fpcdarien.com
SUMMARY:Al-Anon
DESCRIPTION:
URL:https://fpcdarien.com/event/al-anon-2/2026-09-21/
LOCATION:Education building
END:VEVENT
BEGIN:VEVENT
DTSTART;TZID=America/New_York:20260928T113000
DTEND;TZID=America/New_York:20260928T123000
DTSTAMP:20260423T044718
CREATED:20230524T160020Z
LAST-MODIFIED:20230524T160124Z
UID:10000437-1790595000-1790598600@fpcdarien.com
SUMMARY:Al-Anon
DESCRIPTION:
URL:https://fpcdarien.com/event/al-anon-2/2026-09-28/
LOCATION:Education building
END:VEVENT
BEGIN:VEVENT
DTSTART;TZID=America/New_York:20261005T113000
DTEND;TZID=America/New_York:20261005T123000
DTSTAMP:20260423T044718
CREATED:20230524T160020Z
LAST-MODIFIED:20230524T160124Z
UID:10000438-1791199800-1791203400@fpcdarien.com
SUMMARY:Al-Anon
DESCRIPTION:
URL:https://fpcdarien.com/event/al-anon-2/2026-10-05/
LOCATION:Education building
END:VEVENT
BEGIN:VEVENT
DTSTART;TZID=America/New_York:20261012T113000
DTEND;TZID=America/New_York:20261012T123000
DTSTAMP:20260423T044718
CREATED:20230524T160020Z
LAST-MODIFIED:20230524T160124Z
UID:10000439-1791804600-1791808200@fpcdarien.com
SUMMARY:Al-Anon
DESCRIPTION:
URL:https://fpcdarien.com/event/al-anon-2/2026-10-12/
LOCATION:Education building
END:VEVENT
BEGIN:VEVENT
DTSTART;TZID=America/New_York:20261019T113000
DTEND;TZID=America/New_York:20261019T123000
DTSTAMP:20260423T044718
CREATED:20230524T160020Z
LAST-MODIFIED:20230524T160124Z
UID:10000440-1792409400-1792413000@fpcdarien.com
SUMMARY:Al-Anon
DESCRIPTION:
URL:https://fpcdarien.com/event/al-anon-2/2026-10-19/
LOCATION:Education building
END:VEVENT
BEGIN:VEVENT
DTSTART;TZID=America/New_York:20261026T113000
DTEND;TZID=America/New_York:20261026T123000
DTSTAMP:20260423T044718
CREATED:20230524T160020Z
LAST-MODIFIED:20230524T160124Z
UID:10000441-1793014200-1793017800@fpcdarien.com
SUMMARY:Al-Anon
DESCRIPTION:
URL:https://fpcdarien.com/event/al-anon-2/2026-10-26/
LOCATION:Education building
END:VEVENT
BEGIN:VEVENT
DTSTART;TZID=America/New_York:20261102T113000
DTEND;TZID=America/New_York:20261102T123000
DTSTAMP:20260423T044718
CREATED:20230524T160020Z
LAST-MODIFIED:20230524T160124Z
UID:10000442-1793619000-1793622600@fpcdarien.com
SUMMARY:Al-Anon
DESCRIPTION:
URL:https://fpcdarien.com/event/al-anon-2/2026-11-02/
LOCATION:Education building
END:VEVENT
BEGIN:VEVENT
DTSTART;TZID=America/New_York:20261109T113000
DTEND;TZID=America/New_York:20261109T123000
DTSTAMP:20260423T044718
CREATED:20230524T160020Z
LAST-MODIFIED:20230524T160124Z
UID:10000443-1794223800-1794227400@fpcdarien.com
SUMMARY:Al-Anon
DESCRIPTION:
URL:https://fpcdarien.com/event/al-anon-2/2026-11-09/
LOCATION:Education building
END:VEVENT
BEGIN:VEVENT
DTSTART;TZID=America/New_York:20261116T113000
DTEND;TZID=America/New_York:20261116T123000
DTSTAMP:20260423T044718
CREATED:20230524T160020Z
LAST-MODIFIED:20230524T160124Z
UID:10000444-1794828600-1794832200@fpcdarien.com
SUMMARY:Al-Anon
DESCRIPTION:
URL:https://fpcdarien.com/event/al-anon-2/2026-11-16/
LOCATION:Education building
END:VEVENT
END:VCALENDAR