BEGIN:VCALENDAR
VERSION:2.0
PRODID:-//First Presbyterian Church of Darien - ECPv6.15.20//NONSGML v1.0//EN
CALSCALE:GREGORIAN
METHOD:PUBLISH
X-WR-CALNAME:First Presbyterian Church of Darien
X-ORIGINAL-URL:https://fpcdarien.com
X-WR-CALDESC:Events for First Presbyterian Church of Darien
REFRESH-INTERVAL;VALUE=DURATION:PT1H
X-Robots-Tag:noindex
X-PUBLISHED-TTL:PT1H
BEGIN:VTIMEZONE
TZID:America/New_York
BEGIN:DAYLIGHT
TZOFFSETFROM:-0500
TZOFFSETTO:-0400
TZNAME:EDT
DTSTART:20260308T070000
END:DAYLIGHT
BEGIN:STANDARD
TZOFFSETFROM:-0400
TZOFFSETTO:-0500
TZNAME:EST
DTSTART:20261101T060000
END:STANDARD
BEGIN:DAYLIGHT
TZOFFSETFROM:-0500
TZOFFSETTO:-0400
TZNAME:EDT
DTSTART:20270314T070000
END:DAYLIGHT
BEGIN:STANDARD
TZOFFSETFROM:-0400
TZOFFSETTO:-0500
TZNAME:EST
DTSTART:20271107T060000
END:STANDARD
BEGIN:DAYLIGHT
TZOFFSETFROM:-0500
TZOFFSETTO:-0400
TZNAME:EDT
DTSTART:20280312T070000
END:DAYLIGHT
BEGIN:STANDARD
TZOFFSETFROM:-0400
TZOFFSETTO:-0500
TZNAME:EST
DTSTART:20281105T060000
END:STANDARD
BEGIN:DAYLIGHT
TZOFFSETFROM:-0500
TZOFFSETTO:-0400
TZNAME:EDT
DTSTART:20290311T070000
END:DAYLIGHT
BEGIN:STANDARD
TZOFFSETFROM:-0400
TZOFFSETTO:-0500
TZNAME:EST
DTSTART:20291104T060000
END:STANDARD
END:VTIMEZONE
BEGIN:VEVENT
DTSTART;TZID=America/New_York:20271227T113000
DTEND;TZID=America/New_York:20271227T123000
DTSTAMP:20260425T212705
CREATED:20230524T160020Z
LAST-MODIFIED:20230524T160124Z
UID:10000502-1829907000-1829910600@fpcdarien.com
SUMMARY:Al-Anon
DESCRIPTION:
URL:https://fpcdarien.com/event/al-anon-2/2027-12-27/
LOCATION:Education building
END:VEVENT
BEGIN:VEVENT
DTSTART;TZID=America/New_York:20271229T110000
DTEND;TZID=America/New_York:20271229T120000
DTSTAMP:20260425T212705
CREATED:20260414T192812Z
LAST-MODIFIED:20260414T192812Z
UID:10001809-1830078000-1830081600@fpcdarien.com
SUMMARY:Women's Bible Study
DESCRIPTION:
URL:https://fpcdarien.com/event/womens-bible-study-2/2027-12-29/
LOCATION:Adult Sunday School room
END:VEVENT
BEGIN:VEVENT
DTSTART;TZID=America/New_York:20280101T100000
DTEND;TZID=America/New_York:20280101T110000
DTSTAMP:20260425T212705
CREATED:20230524T161020Z
LAST-MODIFIED:20230524T161020Z
UID:10001011-1830333600-1830337200@fpcdarien.com
SUMMARY:Men's Bible Study
DESCRIPTION:
URL:https://fpcdarien.com/event/mens-bible-study/2028-01-01/
LOCATION:Adult Sunday School room
END:VEVENT
BEGIN:VEVENT
DTSTART;TZID=America/New_York:20280102T093000
DTEND;TZID=America/New_York:20280102T103000
DTSTAMP:20260425T212705
CREATED:20230525T135738Z
LAST-MODIFIED:20230525T135738Z
UID:10001332-1830418200-1830421800@fpcdarien.com
SUMMARY:Adult Sunday School
DESCRIPTION:
URL:https://fpcdarien.com/event/adult-sunday-school/2028-01-02/
LOCATION:Adult Sunday School room
END:VEVENT
BEGIN:VEVENT
DTSTART;TZID=America/New_York:20280102T110000
DTEND;TZID=America/New_York:20280102T120000
DTSTAMP:20260425T212705
CREATED:20230525T135958Z
LAST-MODIFIED:20230525T135958Z
UID:10001408-1830423600-1830427200@fpcdarien.com
SUMMARY:Communion
DESCRIPTION:
URL:https://fpcdarien.com/event/communion/2028-01-02/
END:VEVENT
BEGIN:VEVENT
DTSTART;TZID=America/New_York:20280103T113000
DTEND;TZID=America/New_York:20280103T123000
DTSTAMP:20260425T212705
CREATED:20230524T160020Z
LAST-MODIFIED:20230524T160124Z
UID:10000503-1830511800-1830515400@fpcdarien.com
SUMMARY:Al-Anon
DESCRIPTION:
URL:https://fpcdarien.com/event/al-anon-2/2028-01-03/
LOCATION:Education building
END:VEVENT
BEGIN:VEVENT
DTSTART;TZID=America/New_York:20280105T110000
DTEND;TZID=America/New_York:20280105T120000
DTSTAMP:20260425T212705
CREATED:20260414T192812Z
LAST-MODIFIED:20260414T192812Z
UID:10001810-1830682800-1830686400@fpcdarien.com
SUMMARY:Women's Bible Study
DESCRIPTION:
URL:https://fpcdarien.com/event/womens-bible-study-2/2028-01-05/
LOCATION:Adult Sunday School room
END:VEVENT
BEGIN:VEVENT
DTSTART;TZID=America/New_York:20280108T100000
DTEND;TZID=America/New_York:20280108T110000
DTSTAMP:20260425T212705
CREATED:20230524T161020Z
LAST-MODIFIED:20230524T161020Z
UID:10001012-1830938400-1830942000@fpcdarien.com
SUMMARY:Men's Bible Study
DESCRIPTION:
URL:https://fpcdarien.com/event/mens-bible-study/2028-01-08/
LOCATION:Adult Sunday School room
END:VEVENT
BEGIN:VEVENT
DTSTART;TZID=America/New_York:20280108T100000
DTEND;TZID=America/New_York:20280108T140000
DTSTAMP:20260425T212705
CREATED:20230726T151626Z
LAST-MODIFIED:20230726T151626Z
UID:10001709-1830938400-1830952800@fpcdarien.com
SUMMARY:Second Saturday
DESCRIPTION:Join us for second Saturday in Darien!
URL:https://fpcdarien.com/event/second-saturday-2/2028-01-08/
LOCATION:Downtown Darien
END:VEVENT
BEGIN:VEVENT
DTSTART;TZID=America/New_York:20280109T093000
DTEND;TZID=America/New_York:20280109T103000
DTSTAMP:20260425T212705
CREATED:20230525T135738Z
LAST-MODIFIED:20230525T135738Z
UID:10001333-1831023000-1831026600@fpcdarien.com
SUMMARY:Adult Sunday School
DESCRIPTION:
URL:https://fpcdarien.com/event/adult-sunday-school/2028-01-09/
LOCATION:Adult Sunday School room
END:VEVENT
BEGIN:VEVENT
DTSTART;TZID=America/New_York:20280110T100000
DTEND;TZID=America/New_York:20280110T110000
DTSTAMP:20260425T212705
CREATED:20230525T140937Z
LAST-MODIFIED:20230525T140937Z
UID:10001589-1831111200-1831114800@fpcdarien.com
SUMMARY:Session
DESCRIPTION:
URL:https://fpcdarien.com/event/session/2028-01-10/
LOCATION:Adult Sunday School room
END:VEVENT
BEGIN:VEVENT
DTSTART;TZID=America/New_York:20280110T113000
DTEND;TZID=America/New_York:20280110T123000
DTSTAMP:20260425T212705
CREATED:20230524T160020Z
LAST-MODIFIED:20230524T160124Z
UID:10000504-1831116600-1831120200@fpcdarien.com
SUMMARY:Al-Anon
DESCRIPTION:
URL:https://fpcdarien.com/event/al-anon-2/2028-01-10/
LOCATION:Education building
END:VEVENT
BEGIN:VEVENT
DTSTART;TZID=America/New_York:20280112T110000
DTEND;TZID=America/New_York:20280112T120000
DTSTAMP:20260425T212705
CREATED:20260414T192812Z
LAST-MODIFIED:20260414T192812Z
UID:10001811-1831287600-1831291200@fpcdarien.com
SUMMARY:Women's Bible Study
DESCRIPTION:
URL:https://fpcdarien.com/event/womens-bible-study-2/2028-01-12/
LOCATION:Adult Sunday School room
END:VEVENT
BEGIN:VEVENT
DTSTART;TZID=America/New_York:20280115T100000
DTEND;TZID=America/New_York:20280115T110000
DTSTAMP:20260425T212705
CREATED:20230524T161020Z
LAST-MODIFIED:20230524T161020Z
UID:10001013-1831543200-1831546800@fpcdarien.com
SUMMARY:Men's Bible Study
DESCRIPTION:
URL:https://fpcdarien.com/event/mens-bible-study/2028-01-15/
LOCATION:Adult Sunday School room
END:VEVENT
BEGIN:VEVENT
DTSTART;TZID=America/New_York:20280116T093000
DTEND;TZID=America/New_York:20280116T103000
DTSTAMP:20260425T212705
CREATED:20230525T135738Z
LAST-MODIFIED:20230525T135738Z
UID:10001334-1831627800-1831631400@fpcdarien.com
SUMMARY:Adult Sunday School
DESCRIPTION:
URL:https://fpcdarien.com/event/adult-sunday-school/2028-01-16/
LOCATION:Adult Sunday School room
END:VEVENT
BEGIN:VEVENT
DTSTART;TZID=America/New_York:20280117T113000
DTEND;TZID=America/New_York:20280117T123000
DTSTAMP:20260425T212705
CREATED:20230524T160020Z
LAST-MODIFIED:20230524T160124Z
UID:10000505-1831721400-1831725000@fpcdarien.com
SUMMARY:Al-Anon
DESCRIPTION:
URL:https://fpcdarien.com/event/al-anon-2/2028-01-17/
LOCATION:Education building
END:VEVENT
BEGIN:VEVENT
DTSTART;TZID=America/New_York:20280119T110000
DTEND;TZID=America/New_York:20280119T120000
DTSTAMP:20260425T212705
CREATED:20260414T192812Z
LAST-MODIFIED:20260414T192812Z
UID:10001812-1831892400-1831896000@fpcdarien.com
SUMMARY:Women's Bible Study
DESCRIPTION:
URL:https://fpcdarien.com/event/womens-bible-study-2/2028-01-19/
LOCATION:Adult Sunday School room
END:VEVENT
BEGIN:VEVENT
DTSTART;TZID=America/New_York:20280119T124500
DTEND;TZID=America/New_York:20280119T134500
DTSTAMP:20260425T212705
CREATED:20230525T140835Z
LAST-MODIFIED:20230525T140835Z
UID:10001529-1831898700-1831902300@fpcdarien.com
SUMMARY:Ladies' Birthday Lunch Celebration
DESCRIPTION:
URL:https://fpcdarien.com/event/ladies-birthday-lunch-celebration/2028-01-19/
END:VEVENT
BEGIN:VEVENT
DTSTART;TZID=America/New_York:20280120T100000
DTEND;TZID=America/New_York:20280120T110000
DTSTAMP:20260425T212705
CREATED:20230525T140644Z
LAST-MODIFIED:20230525T140644Z
UID:10001469-1831975200-1831978800@fpcdarien.com
SUMMARY:Dorcas
DESCRIPTION:
URL:https://fpcdarien.com/event/dorcas/2028-01-20/
LOCATION:Fellowship Hall
END:VEVENT
BEGIN:VEVENT
DTSTART;TZID=America/New_York:20280121T100000
DTEND;TZID=America/New_York:20280121T110000
DTSTAMP:20260425T212705
CREATED:20230524T205654Z
LAST-MODIFIED:20230524T205654Z
UID:10001087-1832061600-1832065200@fpcdarien.com
SUMMARY:Memory Matters
DESCRIPTION:
URL:https://fpcdarien.com/event/memory-matters/2028-01-21/
LOCATION:Education building
END:VEVENT
BEGIN:VEVENT
DTSTART;TZID=America/New_York:20280122T100000
DTEND;TZID=America/New_York:20280122T110000
DTSTAMP:20260425T212705
CREATED:20230524T161020Z
LAST-MODIFIED:20230524T161020Z
UID:10001014-1832148000-1832151600@fpcdarien.com
SUMMARY:Men's Bible Study
DESCRIPTION:
URL:https://fpcdarien.com/event/mens-bible-study/2028-01-22/
LOCATION:Adult Sunday School room
END:VEVENT
BEGIN:VEVENT
DTSTART;TZID=America/New_York:20280123T093000
DTEND;TZID=America/New_York:20280123T103000
DTSTAMP:20260425T212705
CREATED:20230525T135738Z
LAST-MODIFIED:20230525T135738Z
UID:10001335-1832232600-1832236200@fpcdarien.com
SUMMARY:Adult Sunday School
DESCRIPTION:
URL:https://fpcdarien.com/event/adult-sunday-school/2028-01-23/
LOCATION:Adult Sunday School room
END:VEVENT
BEGIN:VEVENT
DTSTART;TZID=America/New_York:20280124T113000
DTEND;TZID=America/New_York:20280124T123000
DTSTAMP:20260425T212705
CREATED:20230524T160020Z
LAST-MODIFIED:20230524T160124Z
UID:10000506-1832326200-1832329800@fpcdarien.com
SUMMARY:Al-Anon
DESCRIPTION:
URL:https://fpcdarien.com/event/al-anon-2/2028-01-24/
LOCATION:Education building
END:VEVENT
BEGIN:VEVENT
DTSTART;TZID=America/New_York:20280126T110000
DTEND;TZID=America/New_York:20280126T120000
DTSTAMP:20260425T212705
CREATED:20260414T192812Z
LAST-MODIFIED:20260414T192812Z
UID:10001813-1832497200-1832500800@fpcdarien.com
SUMMARY:Women's Bible Study
DESCRIPTION:
URL:https://fpcdarien.com/event/womens-bible-study-2/2028-01-26/
LOCATION:Adult Sunday School room
END:VEVENT
BEGIN:VEVENT
DTSTART;TZID=America/New_York:20280129T100000
DTEND;TZID=America/New_York:20280129T110000
DTSTAMP:20260425T212705
CREATED:20230524T161020Z
LAST-MODIFIED:20230524T161020Z
UID:10001015-1832752800-1832756400@fpcdarien.com
SUMMARY:Men's Bible Study
DESCRIPTION:
URL:https://fpcdarien.com/event/mens-bible-study/2028-01-29/
LOCATION:Adult Sunday School room
END:VEVENT
BEGIN:VEVENT
DTSTART;TZID=America/New_York:20280130T093000
DTEND;TZID=America/New_York:20280130T103000
DTSTAMP:20260425T212705
CREATED:20230525T135738Z
LAST-MODIFIED:20230525T135738Z
UID:10001336-1832837400-1832841000@fpcdarien.com
SUMMARY:Adult Sunday School
DESCRIPTION:
URL:https://fpcdarien.com/event/adult-sunday-school/2028-01-30/
LOCATION:Adult Sunday School room
END:VEVENT
BEGIN:VEVENT
DTSTART;TZID=America/New_York:20280130T120000
DTEND;TZID=America/New_York:20280130T130000
DTSTAMP:20260425T212705
CREATED:20230525T141557Z
LAST-MODIFIED:20230525T141557Z
UID:10001651-1832846400-1832850000@fpcdarien.com
SUMMARY:Congregational Potluck Dinner
DESCRIPTION:
URL:https://fpcdarien.com/event/congregational-potluck-dinner/2028-01-30/
END:VEVENT
BEGIN:VEVENT
DTSTART;TZID=America/New_York:20280131T113000
DTEND;TZID=America/New_York:20280131T123000
DTSTAMP:20260425T212705
CREATED:20230524T160020Z
LAST-MODIFIED:20230524T160124Z
UID:10000507-1832931000-1832934600@fpcdarien.com
SUMMARY:Al-Anon
DESCRIPTION:
URL:https://fpcdarien.com/event/al-anon-2/2028-01-31/
LOCATION:Education building
END:VEVENT
BEGIN:VEVENT
DTSTART;TZID=America/New_York:20280202T110000
DTEND;TZID=America/New_York:20280202T120000
DTSTAMP:20260425T212705
CREATED:20260414T192812Z
LAST-MODIFIED:20260414T192812Z
UID:10001814-1833102000-1833105600@fpcdarien.com
SUMMARY:Women's Bible Study
DESCRIPTION:
URL:https://fpcdarien.com/event/womens-bible-study-2/2028-02-02/
LOCATION:Adult Sunday School room
END:VEVENT
BEGIN:VEVENT
DTSTART;TZID=America/New_York:20280205T100000
DTEND;TZID=America/New_York:20280205T110000
DTSTAMP:20260425T212705
CREATED:20230524T161020Z
LAST-MODIFIED:20230524T161020Z
UID:10001016-1833357600-1833361200@fpcdarien.com
SUMMARY:Men's Bible Study
DESCRIPTION:
URL:https://fpcdarien.com/event/mens-bible-study/2028-02-05/
LOCATION:Adult Sunday School room
END:VEVENT
END:VCALENDAR