BEGIN:VCALENDAR
VERSION:2.0
PRODID:-//First Presbyterian Church of Darien - ECPv6.15.20//NONSGML v1.0//EN
CALSCALE:GREGORIAN
METHOD:PUBLISH
X-WR-CALNAME:First Presbyterian Church of Darien
X-ORIGINAL-URL:https://fpcdarien.com
X-WR-CALDESC:Events for First Presbyterian Church of Darien
REFRESH-INTERVAL;VALUE=DURATION:PT1H
X-Robots-Tag:noindex
X-PUBLISHED-TTL:PT1H
BEGIN:VTIMEZONE
TZID:America/New_York
BEGIN:DAYLIGHT
TZOFFSETFROM:-0500
TZOFFSETTO:-0400
TZNAME:EDT
DTSTART:20260308T070000
END:DAYLIGHT
BEGIN:STANDARD
TZOFFSETFROM:-0400
TZOFFSETTO:-0500
TZNAME:EST
DTSTART:20261101T060000
END:STANDARD
BEGIN:DAYLIGHT
TZOFFSETFROM:-0500
TZOFFSETTO:-0400
TZNAME:EDT
DTSTART:20270314T070000
END:DAYLIGHT
BEGIN:STANDARD
TZOFFSETFROM:-0400
TZOFFSETTO:-0500
TZNAME:EST
DTSTART:20271107T060000
END:STANDARD
BEGIN:DAYLIGHT
TZOFFSETFROM:-0500
TZOFFSETTO:-0400
TZNAME:EDT
DTSTART:20280312T070000
END:DAYLIGHT
BEGIN:STANDARD
TZOFFSETFROM:-0400
TZOFFSETTO:-0500
TZNAME:EST
DTSTART:20281105T060000
END:STANDARD
END:VTIMEZONE
BEGIN:VEVENT
DTSTART;TZID=America/New_York:20270901T110000
DTEND;TZID=America/New_York:20270901T120000
DTSTAMP:20260425T075433
CREATED:20260414T192812Z
LAST-MODIFIED:20260414T192812Z
UID:10001792-1819796400-1819800000@fpcdarien.com
SUMMARY:Women's Bible Study
DESCRIPTION:
URL:https://fpcdarien.com/event/womens-bible-study-2/2027-09-01/
LOCATION:Adult Sunday School room
END:VEVENT
BEGIN:VEVENT
DTSTART;TZID=America/New_York:20270904T100000
DTEND;TZID=America/New_York:20270904T110000
DTSTAMP:20260425T075433
CREATED:20230524T161020Z
LAST-MODIFIED:20230524T161020Z
UID:10000994-1820052000-1820055600@fpcdarien.com
SUMMARY:Men's Bible Study
DESCRIPTION:
URL:https://fpcdarien.com/event/mens-bible-study/2027-09-04/
LOCATION:Adult Sunday School room
END:VEVENT
BEGIN:VEVENT
DTSTART;TZID=America/New_York:20270905T093000
DTEND;TZID=America/New_York:20270905T103000
DTSTAMP:20260425T075433
CREATED:20230525T135738Z
LAST-MODIFIED:20230525T135738Z
UID:10001315-1820136600-1820140200@fpcdarien.com
SUMMARY:Adult Sunday School
DESCRIPTION:
URL:https://fpcdarien.com/event/adult-sunday-school/2027-09-05/
LOCATION:Adult Sunday School room
END:VEVENT
BEGIN:VEVENT
DTSTART;TZID=America/New_York:20270905T110000
DTEND;TZID=America/New_York:20270905T120000
DTSTAMP:20260425T075433
CREATED:20230525T135958Z
LAST-MODIFIED:20230525T135958Z
UID:10001404-1820142000-1820145600@fpcdarien.com
SUMMARY:Communion
DESCRIPTION:
URL:https://fpcdarien.com/event/communion/2027-09-05/
END:VEVENT
BEGIN:VEVENT
DTSTART;TZID=America/New_York:20270906T113000
DTEND;TZID=America/New_York:20270906T123000
DTSTAMP:20260425T075433
CREATED:20230524T160020Z
LAST-MODIFIED:20230524T160124Z
UID:10000486-1820230200-1820233800@fpcdarien.com
SUMMARY:Al-Anon
DESCRIPTION:
URL:https://fpcdarien.com/event/al-anon-2/2027-09-06/
LOCATION:Education building
END:VEVENT
BEGIN:VEVENT
DTSTART;TZID=America/New_York:20270908T110000
DTEND;TZID=America/New_York:20270908T120000
DTSTAMP:20260425T075433
CREATED:20260414T192812Z
LAST-MODIFIED:20260414T192812Z
UID:10001793-1820401200-1820404800@fpcdarien.com
SUMMARY:Women's Bible Study
DESCRIPTION:
URL:https://fpcdarien.com/event/womens-bible-study-2/2027-09-08/
LOCATION:Adult Sunday School room
END:VEVENT
BEGIN:VEVENT
DTSTART;TZID=America/New_York:20270911T100000
DTEND;TZID=America/New_York:20270911T110000
DTSTAMP:20260425T075433
CREATED:20230524T161020Z
LAST-MODIFIED:20230524T161020Z
UID:10000995-1820656800-1820660400@fpcdarien.com
SUMMARY:Men's Bible Study
DESCRIPTION:
URL:https://fpcdarien.com/event/mens-bible-study/2027-09-11/
LOCATION:Adult Sunday School room
END:VEVENT
BEGIN:VEVENT
DTSTART;TZID=America/New_York:20270911T100000
DTEND;TZID=America/New_York:20270911T140000
DTSTAMP:20260425T075433
CREATED:20230726T151626Z
LAST-MODIFIED:20230726T151626Z
UID:10001705-1820656800-1820671200@fpcdarien.com
SUMMARY:Second Saturday
DESCRIPTION:Join us for second Saturday in Darien!
URL:https://fpcdarien.com/event/second-saturday-2/2027-09-11/
LOCATION:Downtown Darien
END:VEVENT
BEGIN:VEVENT
DTSTART;TZID=America/New_York:20270912T093000
DTEND;TZID=America/New_York:20270912T103000
DTSTAMP:20260425T075433
CREATED:20230525T135738Z
LAST-MODIFIED:20230525T135738Z
UID:10001316-1820741400-1820745000@fpcdarien.com
SUMMARY:Adult Sunday School
DESCRIPTION:
URL:https://fpcdarien.com/event/adult-sunday-school/2027-09-12/
LOCATION:Adult Sunday School room
END:VEVENT
BEGIN:VEVENT
DTSTART;TZID=America/New_York:20270913T100000
DTEND;TZID=America/New_York:20270913T110000
DTSTAMP:20260425T075433
CREATED:20230525T140937Z
LAST-MODIFIED:20230525T140937Z
UID:10001585-1820829600-1820833200@fpcdarien.com
SUMMARY:Session
DESCRIPTION:
URL:https://fpcdarien.com/event/session/2027-09-13/
LOCATION:Adult Sunday School room
END:VEVENT
BEGIN:VEVENT
DTSTART;TZID=America/New_York:20270913T113000
DTEND;TZID=America/New_York:20270913T123000
DTSTAMP:20260425T075433
CREATED:20230524T160020Z
LAST-MODIFIED:20230524T160124Z
UID:10000487-1820835000-1820838600@fpcdarien.com
SUMMARY:Al-Anon
DESCRIPTION:
URL:https://fpcdarien.com/event/al-anon-2/2027-09-13/
LOCATION:Education building
END:VEVENT
BEGIN:VEVENT
DTSTART;TZID=America/New_York:20270915T110000
DTEND;TZID=America/New_York:20270915T120000
DTSTAMP:20260425T075433
CREATED:20260414T192812Z
LAST-MODIFIED:20260414T192812Z
UID:10001794-1821006000-1821009600@fpcdarien.com
SUMMARY:Women's Bible Study
DESCRIPTION:
URL:https://fpcdarien.com/event/womens-bible-study-2/2027-09-15/
LOCATION:Adult Sunday School room
END:VEVENT
BEGIN:VEVENT
DTSTART;TZID=America/New_York:20270915T124500
DTEND;TZID=America/New_York:20270915T134500
DTSTAMP:20260425T075433
CREATED:20230525T140835Z
LAST-MODIFIED:20230525T140835Z
UID:10001525-1821012300-1821015900@fpcdarien.com
SUMMARY:Ladies' Birthday Lunch Celebration
DESCRIPTION:
URL:https://fpcdarien.com/event/ladies-birthday-lunch-celebration/2027-09-15/
END:VEVENT
BEGIN:VEVENT
DTSTART;TZID=America/New_York:20270916T100000
DTEND;TZID=America/New_York:20270916T110000
DTSTAMP:20260425T075433
CREATED:20230525T140644Z
LAST-MODIFIED:20230525T140644Z
UID:10001465-1821088800-1821092400@fpcdarien.com
SUMMARY:Dorcas
DESCRIPTION:
URL:https://fpcdarien.com/event/dorcas/2027-09-16/
LOCATION:Fellowship Hall
END:VEVENT
BEGIN:VEVENT
DTSTART;TZID=America/New_York:20270917T100000
DTEND;TZID=America/New_York:20270917T110000
DTSTAMP:20260425T075433
CREATED:20230524T205654Z
LAST-MODIFIED:20230524T205654Z
UID:10001083-1821175200-1821178800@fpcdarien.com
SUMMARY:Memory Matters
DESCRIPTION:
URL:https://fpcdarien.com/event/memory-matters/2027-09-17/
LOCATION:Education building
END:VEVENT
BEGIN:VEVENT
DTSTART;TZID=America/New_York:20270918T100000
DTEND;TZID=America/New_York:20270918T110000
DTSTAMP:20260425T075433
CREATED:20230524T161020Z
LAST-MODIFIED:20230524T161020Z
UID:10000996-1821261600-1821265200@fpcdarien.com
SUMMARY:Men's Bible Study
DESCRIPTION:
URL:https://fpcdarien.com/event/mens-bible-study/2027-09-18/
LOCATION:Adult Sunday School room
END:VEVENT
BEGIN:VEVENT
DTSTART;TZID=America/New_York:20270919T093000
DTEND;TZID=America/New_York:20270919T103000
DTSTAMP:20260425T075433
CREATED:20230525T135738Z
LAST-MODIFIED:20230525T135738Z
UID:10001317-1821346200-1821349800@fpcdarien.com
SUMMARY:Adult Sunday School
DESCRIPTION:
URL:https://fpcdarien.com/event/adult-sunday-school/2027-09-19/
LOCATION:Adult Sunday School room
END:VEVENT
BEGIN:VEVENT
DTSTART;TZID=America/New_York:20270920T113000
DTEND;TZID=America/New_York:20270920T123000
DTSTAMP:20260425T075433
CREATED:20230524T160020Z
LAST-MODIFIED:20230524T160124Z
UID:10000488-1821439800-1821443400@fpcdarien.com
SUMMARY:Al-Anon
DESCRIPTION:
URL:https://fpcdarien.com/event/al-anon-2/2027-09-20/
LOCATION:Education building
END:VEVENT
BEGIN:VEVENT
DTSTART;TZID=America/New_York:20270922T110000
DTEND;TZID=America/New_York:20270922T120000
DTSTAMP:20260425T075433
CREATED:20260414T192812Z
LAST-MODIFIED:20260414T192812Z
UID:10001795-1821610800-1821614400@fpcdarien.com
SUMMARY:Women's Bible Study
DESCRIPTION:
URL:https://fpcdarien.com/event/womens-bible-study-2/2027-09-22/
LOCATION:Adult Sunday School room
END:VEVENT
BEGIN:VEVENT
DTSTART;TZID=America/New_York:20270925T100000
DTEND;TZID=America/New_York:20270925T110000
DTSTAMP:20260425T075433
CREATED:20230524T161020Z
LAST-MODIFIED:20230524T161020Z
UID:10000997-1821866400-1821870000@fpcdarien.com
SUMMARY:Men's Bible Study
DESCRIPTION:
URL:https://fpcdarien.com/event/mens-bible-study/2027-09-25/
LOCATION:Adult Sunday School room
END:VEVENT
BEGIN:VEVENT
DTSTART;TZID=America/New_York:20270926T093000
DTEND;TZID=America/New_York:20270926T103000
DTSTAMP:20260425T075433
CREATED:20230525T135738Z
LAST-MODIFIED:20230525T135738Z
UID:10001318-1821951000-1821954600@fpcdarien.com
SUMMARY:Adult Sunday School
DESCRIPTION:
URL:https://fpcdarien.com/event/adult-sunday-school/2027-09-26/
LOCATION:Adult Sunday School room
END:VEVENT
BEGIN:VEVENT
DTSTART;TZID=America/New_York:20270926T120000
DTEND;TZID=America/New_York:20270926T130000
DTSTAMP:20260425T075433
CREATED:20230525T141557Z
LAST-MODIFIED:20230525T141557Z
UID:10001647-1821960000-1821963600@fpcdarien.com
SUMMARY:Congregational Potluck Dinner
DESCRIPTION:
URL:https://fpcdarien.com/event/congregational-potluck-dinner/2027-09-26/
END:VEVENT
BEGIN:VEVENT
DTSTART;TZID=America/New_York:20270927T113000
DTEND;TZID=America/New_York:20270927T123000
DTSTAMP:20260425T075433
CREATED:20230524T160020Z
LAST-MODIFIED:20230524T160124Z
UID:10000489-1822044600-1822048200@fpcdarien.com
SUMMARY:Al-Anon
DESCRIPTION:
URL:https://fpcdarien.com/event/al-anon-2/2027-09-27/
LOCATION:Education building
END:VEVENT
BEGIN:VEVENT
DTSTART;TZID=America/New_York:20270929T110000
DTEND;TZID=America/New_York:20270929T120000
DTSTAMP:20260425T075433
CREATED:20260414T192812Z
LAST-MODIFIED:20260414T192812Z
UID:10001796-1822215600-1822219200@fpcdarien.com
SUMMARY:Women's Bible Study
DESCRIPTION:
URL:https://fpcdarien.com/event/womens-bible-study-2/2027-09-29/
LOCATION:Adult Sunday School room
END:VEVENT
BEGIN:VEVENT
DTSTART;TZID=America/New_York:20271002T100000
DTEND;TZID=America/New_York:20271002T110000
DTSTAMP:20260425T075433
CREATED:20230524T161020Z
LAST-MODIFIED:20230524T161020Z
UID:10000998-1822471200-1822474800@fpcdarien.com
SUMMARY:Men's Bible Study
DESCRIPTION:
URL:https://fpcdarien.com/event/mens-bible-study/2027-10-02/
LOCATION:Adult Sunday School room
END:VEVENT
BEGIN:VEVENT
DTSTART;TZID=America/New_York:20271003T093000
DTEND;TZID=America/New_York:20271003T103000
DTSTAMP:20260425T075433
CREATED:20230525T135738Z
LAST-MODIFIED:20230525T135738Z
UID:10001319-1822555800-1822559400@fpcdarien.com
SUMMARY:Adult Sunday School
DESCRIPTION:
URL:https://fpcdarien.com/event/adult-sunday-school/2027-10-03/
LOCATION:Adult Sunday School room
END:VEVENT
BEGIN:VEVENT
DTSTART;TZID=America/New_York:20271003T110000
DTEND;TZID=America/New_York:20271003T120000
DTSTAMP:20260425T075433
CREATED:20230525T135958Z
LAST-MODIFIED:20230525T135958Z
UID:10001405-1822561200-1822564800@fpcdarien.com
SUMMARY:Communion
DESCRIPTION:
URL:https://fpcdarien.com/event/communion/2027-10-03/
END:VEVENT
BEGIN:VEVENT
DTSTART;TZID=America/New_York:20271004T113000
DTEND;TZID=America/New_York:20271004T123000
DTSTAMP:20260425T075433
CREATED:20230524T160020Z
LAST-MODIFIED:20230524T160124Z
UID:10000490-1822649400-1822653000@fpcdarien.com
SUMMARY:Al-Anon
DESCRIPTION:
URL:https://fpcdarien.com/event/al-anon-2/2027-10-04/
LOCATION:Education building
END:VEVENT
BEGIN:VEVENT
DTSTART;TZID=America/New_York:20271006T110000
DTEND;TZID=America/New_York:20271006T120000
DTSTAMP:20260425T075433
CREATED:20260414T192812Z
LAST-MODIFIED:20260414T192812Z
UID:10001797-1822820400-1822824000@fpcdarien.com
SUMMARY:Women's Bible Study
DESCRIPTION:
URL:https://fpcdarien.com/event/womens-bible-study-2/2027-10-06/
LOCATION:Adult Sunday School room
END:VEVENT
BEGIN:VEVENT
DTSTART;TZID=America/New_York:20271009T100000
DTEND;TZID=America/New_York:20271009T110000
DTSTAMP:20260425T075433
CREATED:20230524T161020Z
LAST-MODIFIED:20230524T161020Z
UID:10000999-1823076000-1823079600@fpcdarien.com
SUMMARY:Men's Bible Study
DESCRIPTION:
URL:https://fpcdarien.com/event/mens-bible-study/2027-10-09/
LOCATION:Adult Sunday School room
END:VEVENT
END:VCALENDAR