BEGIN:VCALENDAR
VERSION:2.0
PRODID:-//First Presbyterian Church of Darien - ECPv6.15.20//NONSGML v1.0//EN
CALSCALE:GREGORIAN
METHOD:PUBLISH
X-WR-CALNAME:First Presbyterian Church of Darien
X-ORIGINAL-URL:https://fpcdarien.com
X-WR-CALDESC:Events for First Presbyterian Church of Darien
REFRESH-INTERVAL;VALUE=DURATION:PT1H
X-Robots-Tag:noindex
X-PUBLISHED-TTL:PT1H
BEGIN:VTIMEZONE
TZID:America/New_York
BEGIN:DAYLIGHT
TZOFFSETFROM:-0500
TZOFFSETTO:-0400
TZNAME:EDT
DTSTART:20250309T070000
END:DAYLIGHT
BEGIN:STANDARD
TZOFFSETFROM:-0400
TZOFFSETTO:-0500
TZNAME:EST
DTSTART:20251102T060000
END:STANDARD
BEGIN:DAYLIGHT
TZOFFSETFROM:-0500
TZOFFSETTO:-0400
TZNAME:EDT
DTSTART:20260308T070000
END:DAYLIGHT
BEGIN:STANDARD
TZOFFSETFROM:-0400
TZOFFSETTO:-0500
TZNAME:EST
DTSTART:20261101T060000
END:STANDARD
BEGIN:DAYLIGHT
TZOFFSETFROM:-0500
TZOFFSETTO:-0400
TZNAME:EDT
DTSTART:20270314T070000
END:DAYLIGHT
BEGIN:STANDARD
TZOFFSETFROM:-0400
TZOFFSETTO:-0500
TZNAME:EST
DTSTART:20271107T060000
END:STANDARD
END:VTIMEZONE
BEGIN:VEVENT
DTSTART;TZID=America/New_York:20260321T100000
DTEND;TZID=America/New_York:20260321T110000
DTSTAMP:20260423T074529
CREATED:20230524T161020Z
LAST-MODIFIED:20230524T161020Z
UID:10000918-1774087200-1774090800@fpcdarien.com
SUMMARY:Men's Bible Study
DESCRIPTION:
URL:https://fpcdarien.com/event/mens-bible-study/2026-03-21/
LOCATION:Adult Sunday School room
END:VEVENT
BEGIN:VEVENT
DTSTART;TZID=America/New_York:20260320T100000
DTEND;TZID=America/New_York:20260320T110000
DTSTAMP:20260423T074529
CREATED:20230524T205654Z
LAST-MODIFIED:20230524T205654Z
UID:10001065-1774000800-1774004400@fpcdarien.com
SUMMARY:Memory Matters
DESCRIPTION:
URL:https://fpcdarien.com/event/memory-matters/2026-03-20/
LOCATION:Education building
END:VEVENT
BEGIN:VEVENT
DTSTART;TZID=America/New_York:20260319T100000
DTEND;TZID=America/New_York:20260319T110000
DTSTAMP:20260423T074529
CREATED:20230525T140644Z
LAST-MODIFIED:20230525T140644Z
UID:10001447-1773914400-1773918000@fpcdarien.com
SUMMARY:Dorcas
DESCRIPTION:
URL:https://fpcdarien.com/event/dorcas/2026-03-19/
LOCATION:Fellowship Hall
END:VEVENT
BEGIN:VEVENT
DTSTART;TZID=America/New_York:20260318T124500
DTEND;TZID=America/New_York:20260318T134500
DTSTAMP:20260423T074529
CREATED:20230525T140835Z
LAST-MODIFIED:20230525T140835Z
UID:10001507-1773837900-1773841500@fpcdarien.com
SUMMARY:Ladies' Birthday Lunch Celebration
DESCRIPTION:
URL:https://fpcdarien.com/event/ladies-birthday-lunch-celebration/2026-03-18/
END:VEVENT
BEGIN:VEVENT
DTSTART;TZID=America/New_York:20260317T110000
DTEND;TZID=America/New_York:20260317T120000
DTSTAMP:20260423T074529
CREATED:20230524T160321Z
LAST-MODIFIED:20230524T160849Z
UID:10000656-1773745200-1773748800@fpcdarien.com
SUMMARY:Women's Bible Study
DESCRIPTION:
URL:https://fpcdarien.com/event/womens-bible-study/2026-03-17/
LOCATION:Adult Sunday School room
END:VEVENT
BEGIN:VEVENT
DTSTART;TZID=America/New_York:20260316T113000
DTEND;TZID=America/New_York:20260316T123000
DTSTAMP:20260423T074529
CREATED:20230524T160020Z
LAST-MODIFIED:20230524T160124Z
UID:10000409-1773660600-1773664200@fpcdarien.com
SUMMARY:Al-Anon
DESCRIPTION:
URL:https://fpcdarien.com/event/al-anon-2/2026-03-16/
LOCATION:Education building
END:VEVENT
BEGIN:VEVENT
DTSTART;TZID=America/New_York:20260315T093000
DTEND;TZID=America/New_York:20260315T103000
DTSTAMP:20260423T074529
CREATED:20230525T135738Z
LAST-MODIFIED:20230525T135738Z
UID:10001238-1773567000-1773570600@fpcdarien.com
SUMMARY:Adult Sunday School
DESCRIPTION:
URL:https://fpcdarien.com/event/adult-sunday-school/2026-03-15/
LOCATION:Adult Sunday School room
END:VEVENT
BEGIN:VEVENT
DTSTART;TZID=America/New_York:20260314T100000
DTEND;TZID=America/New_York:20260314T140000
DTSTAMP:20260423T074529
CREATED:20230726T151626Z
LAST-MODIFIED:20230726T151626Z
UID:10001687-1773482400-1773496800@fpcdarien.com
SUMMARY:Second Saturday
DESCRIPTION:Join us for second Saturday in Darien!
URL:https://fpcdarien.com/event/second-saturday-2/2026-03-14/
LOCATION:Downtown Darien
END:VEVENT
BEGIN:VEVENT
DTSTART;TZID=America/New_York:20260314T100000
DTEND;TZID=America/New_York:20260314T110000
DTSTAMP:20260423T074529
CREATED:20230524T161020Z
LAST-MODIFIED:20230524T161020Z
UID:10000917-1773482400-1773486000@fpcdarien.com
SUMMARY:Men's Bible Study
DESCRIPTION:
URL:https://fpcdarien.com/event/mens-bible-study/2026-03-14/
LOCATION:Adult Sunday School room
END:VEVENT
BEGIN:VEVENT
DTSTART;TZID=America/New_York:20260310T110000
DTEND;TZID=America/New_York:20260310T120000
DTSTAMP:20260423T074529
CREATED:20230524T160321Z
LAST-MODIFIED:20230524T160849Z
UID:10000655-1773140400-1773144000@fpcdarien.com
SUMMARY:Women's Bible Study
DESCRIPTION:
URL:https://fpcdarien.com/event/womens-bible-study/2026-03-10/
LOCATION:Adult Sunday School room
END:VEVENT
BEGIN:VEVENT
DTSTART;TZID=America/New_York:20260309T113000
DTEND;TZID=America/New_York:20260309T123000
DTSTAMP:20260423T074529
CREATED:20230524T160020Z
LAST-MODIFIED:20230524T160124Z
UID:10000408-1773055800-1773059400@fpcdarien.com
SUMMARY:Al-Anon
DESCRIPTION:
URL:https://fpcdarien.com/event/al-anon-2/2026-03-09/
LOCATION:Education building
END:VEVENT
BEGIN:VEVENT
DTSTART;TZID=America/New_York:20260309T100000
DTEND;TZID=America/New_York:20260309T110000
DTSTAMP:20260423T074529
CREATED:20230525T140937Z
LAST-MODIFIED:20230525T140937Z
UID:10001567-1773050400-1773054000@fpcdarien.com
SUMMARY:Session
DESCRIPTION:
URL:https://fpcdarien.com/event/session/2026-03-09/
LOCATION:Adult Sunday School room
END:VEVENT
BEGIN:VEVENT
DTSTART;TZID=America/New_York:20260308T093000
DTEND;TZID=America/New_York:20260308T103000
DTSTAMP:20260423T074529
CREATED:20230525T135738Z
LAST-MODIFIED:20230525T135738Z
UID:10001237-1772962200-1772965800@fpcdarien.com
SUMMARY:Adult Sunday School
DESCRIPTION:
URL:https://fpcdarien.com/event/adult-sunday-school/2026-03-08/
LOCATION:Adult Sunday School room
END:VEVENT
BEGIN:VEVENT
DTSTART;TZID=America/New_York:20260307T100000
DTEND;TZID=America/New_York:20260307T110000
DTSTAMP:20260423T074529
CREATED:20230524T161020Z
LAST-MODIFIED:20230524T161020Z
UID:10000916-1772877600-1772881200@fpcdarien.com
SUMMARY:Men's Bible Study
DESCRIPTION:
URL:https://fpcdarien.com/event/mens-bible-study/2026-03-07/
LOCATION:Adult Sunday School room
END:VEVENT
BEGIN:VEVENT
DTSTART;TZID=America/New_York:20260303T110000
DTEND;TZID=America/New_York:20260303T120000
DTSTAMP:20260423T074529
CREATED:20230524T160321Z
LAST-MODIFIED:20230524T160849Z
UID:10000654-1772535600-1772539200@fpcdarien.com
SUMMARY:Women's Bible Study
DESCRIPTION:
URL:https://fpcdarien.com/event/womens-bible-study/2026-03-03/
LOCATION:Adult Sunday School room
END:VEVENT
BEGIN:VEVENT
DTSTART;TZID=America/New_York:20260302T113000
DTEND;TZID=America/New_York:20260302T123000
DTSTAMP:20260423T074529
CREATED:20230524T160020Z
LAST-MODIFIED:20230524T160124Z
UID:10000407-1772451000-1772454600@fpcdarien.com
SUMMARY:Al-Anon
DESCRIPTION:
URL:https://fpcdarien.com/event/al-anon-2/2026-03-02/
LOCATION:Education building
END:VEVENT
BEGIN:VEVENT
DTSTART;TZID=America/New_York:20260301T110000
DTEND;TZID=America/New_York:20260301T120000
DTSTAMP:20260423T074529
CREATED:20230525T135958Z
LAST-MODIFIED:20230525T135958Z
UID:10001386-1772362800-1772366400@fpcdarien.com
SUMMARY:Communion
DESCRIPTION:
URL:https://fpcdarien.com/event/communion/2026-03-01/
END:VEVENT
BEGIN:VEVENT
DTSTART;TZID=America/New_York:20260301T093000
DTEND;TZID=America/New_York:20260301T103000
DTSTAMP:20260423T074529
CREATED:20230525T135738Z
LAST-MODIFIED:20230525T135738Z
UID:10001236-1772357400-1772361000@fpcdarien.com
SUMMARY:Adult Sunday School
DESCRIPTION:
URL:https://fpcdarien.com/event/adult-sunday-school/2026-03-01/
LOCATION:Adult Sunday School room
END:VEVENT
BEGIN:VEVENT
DTSTART;TZID=America/New_York:20260228T100000
DTEND;TZID=America/New_York:20260228T110000
DTSTAMP:20260423T074529
CREATED:20230524T161020Z
LAST-MODIFIED:20230524T161020Z
UID:10000915-1772272800-1772276400@fpcdarien.com
SUMMARY:Men's Bible Study
DESCRIPTION:
URL:https://fpcdarien.com/event/mens-bible-study/2026-02-28/
LOCATION:Adult Sunday School room
END:VEVENT
BEGIN:VEVENT
DTSTART;TZID=America/New_York:20260224T110000
DTEND;TZID=America/New_York:20260224T120000
DTSTAMP:20260423T074529
CREATED:20230524T160321Z
LAST-MODIFIED:20230524T160849Z
UID:10000653-1771930800-1771934400@fpcdarien.com
SUMMARY:Women's Bible Study
DESCRIPTION:
URL:https://fpcdarien.com/event/womens-bible-study/2026-02-24/
LOCATION:Adult Sunday School room
END:VEVENT
BEGIN:VEVENT
DTSTART;TZID=America/New_York:20260223T113000
DTEND;TZID=America/New_York:20260223T123000
DTSTAMP:20260423T074529
CREATED:20230524T160020Z
LAST-MODIFIED:20230524T160124Z
UID:10000406-1771846200-1771849800@fpcdarien.com
SUMMARY:Al-Anon
DESCRIPTION:
URL:https://fpcdarien.com/event/al-anon-2/2026-02-23/
LOCATION:Education building
END:VEVENT
BEGIN:VEVENT
DTSTART;TZID=America/New_York:20260222T120000
DTEND;TZID=America/New_York:20260222T130000
DTSTAMP:20260423T074529
CREATED:20230525T141557Z
LAST-MODIFIED:20230525T141557Z
UID:10001628-1771761600-1771765200@fpcdarien.com
SUMMARY:Congregational Potluck Dinner
DESCRIPTION:
URL:https://fpcdarien.com/event/congregational-potluck-dinner/2026-02-22/
END:VEVENT
BEGIN:VEVENT
DTSTART;TZID=America/New_York:20260222T093000
DTEND;TZID=America/New_York:20260222T103000
DTSTAMP:20260423T074529
CREATED:20230525T135738Z
LAST-MODIFIED:20230525T135738Z
UID:10001235-1771752600-1771756200@fpcdarien.com
SUMMARY:Adult Sunday School
DESCRIPTION:
URL:https://fpcdarien.com/event/adult-sunday-school/2026-02-22/
LOCATION:Adult Sunday School room
END:VEVENT
BEGIN:VEVENT
DTSTART;TZID=America/New_York:20260221T100000
DTEND;TZID=America/New_York:20260221T110000
DTSTAMP:20260423T074529
CREATED:20230524T161020Z
LAST-MODIFIED:20230524T161020Z
UID:10000914-1771668000-1771671600@fpcdarien.com
SUMMARY:Men's Bible Study
DESCRIPTION:
URL:https://fpcdarien.com/event/mens-bible-study/2026-02-21/
LOCATION:Adult Sunday School room
END:VEVENT
BEGIN:VEVENT
DTSTART;TZID=America/New_York:20260220T100000
DTEND;TZID=America/New_York:20260220T110000
DTSTAMP:20260423T074529
CREATED:20230524T205654Z
LAST-MODIFIED:20230524T205654Z
UID:10001064-1771581600-1771585200@fpcdarien.com
SUMMARY:Memory Matters
DESCRIPTION:
URL:https://fpcdarien.com/event/memory-matters/2026-02-20/
LOCATION:Education building
END:VEVENT
BEGIN:VEVENT
DTSTART;TZID=America/New_York:20260219T100000
DTEND;TZID=America/New_York:20260219T110000
DTSTAMP:20260423T074529
CREATED:20230525T140644Z
LAST-MODIFIED:20230525T140644Z
UID:10001446-1771495200-1771498800@fpcdarien.com
SUMMARY:Dorcas
DESCRIPTION:
URL:https://fpcdarien.com/event/dorcas/2026-02-19/
LOCATION:Fellowship Hall
END:VEVENT
BEGIN:VEVENT
DTSTART;TZID=America/New_York:20260218T124500
DTEND;TZID=America/New_York:20260218T134500
DTSTAMP:20260423T074529
CREATED:20230525T140835Z
LAST-MODIFIED:20230525T140835Z
UID:10001506-1771418700-1771422300@fpcdarien.com
SUMMARY:Ladies' Birthday Lunch Celebration
DESCRIPTION:
URL:https://fpcdarien.com/event/ladies-birthday-lunch-celebration/2026-02-18/
END:VEVENT
BEGIN:VEVENT
DTSTART;TZID=America/New_York:20260217T110000
DTEND;TZID=America/New_York:20260217T120000
DTSTAMP:20260423T074529
CREATED:20230524T160321Z
LAST-MODIFIED:20230524T160849Z
UID:10000652-1771326000-1771329600@fpcdarien.com
SUMMARY:Women's Bible Study
DESCRIPTION:
URL:https://fpcdarien.com/event/womens-bible-study/2026-02-17/
LOCATION:Adult Sunday School room
END:VEVENT
BEGIN:VEVENT
DTSTART;TZID=America/New_York:20260216T113000
DTEND;TZID=America/New_York:20260216T123000
DTSTAMP:20260423T074529
CREATED:20230524T160020Z
LAST-MODIFIED:20230524T160124Z
UID:10000405-1771241400-1771245000@fpcdarien.com
SUMMARY:Al-Anon
DESCRIPTION:
URL:https://fpcdarien.com/event/al-anon-2/2026-02-16/
LOCATION:Education building
END:VEVENT
BEGIN:VEVENT
DTSTART;TZID=America/New_York:20260215T093000
DTEND;TZID=America/New_York:20260215T103000
DTSTAMP:20260423T074529
CREATED:20230525T135738Z
LAST-MODIFIED:20230525T135738Z
UID:10001234-1771147800-1771151400@fpcdarien.com
SUMMARY:Adult Sunday School
DESCRIPTION:
URL:https://fpcdarien.com/event/adult-sunday-school/2026-02-15/
LOCATION:Adult Sunday School room
END:VEVENT
END:VCALENDAR