BEGIN:VCALENDAR
VERSION:2.0
PRODID:-//First Presbyterian Church of Darien - ECPv6.15.20//NONSGML v1.0//EN
CALSCALE:GREGORIAN
METHOD:PUBLISH
X-WR-CALNAME:First Presbyterian Church of Darien
X-ORIGINAL-URL:https://fpcdarien.com
X-WR-CALDESC:Events for First Presbyterian Church of Darien
REFRESH-INTERVAL;VALUE=DURATION:PT1H
X-Robots-Tag:noindex
X-PUBLISHED-TTL:PT1H
BEGIN:VTIMEZONE
TZID:America/New_York
BEGIN:DAYLIGHT
TZOFFSETFROM:-0500
TZOFFSETTO:-0400
TZNAME:EDT
DTSTART:20230312T070000
END:DAYLIGHT
BEGIN:STANDARD
TZOFFSETFROM:-0400
TZOFFSETTO:-0500
TZNAME:EST
DTSTART:20231105T060000
END:STANDARD
BEGIN:DAYLIGHT
TZOFFSETFROM:-0500
TZOFFSETTO:-0400
TZNAME:EDT
DTSTART:20240310T070000
END:DAYLIGHT
BEGIN:STANDARD
TZOFFSETFROM:-0400
TZOFFSETTO:-0500
TZNAME:EST
DTSTART:20241103T060000
END:STANDARD
BEGIN:DAYLIGHT
TZOFFSETFROM:-0500
TZOFFSETTO:-0400
TZNAME:EDT
DTSTART:20250309T070000
END:DAYLIGHT
BEGIN:STANDARD
TZOFFSETFROM:-0400
TZOFFSETTO:-0500
TZNAME:EST
DTSTART:20251102T060000
END:STANDARD
END:VTIMEZONE
BEGIN:VEVENT
DTSTART;TZID=America/New_York:20241222T093000
DTEND;TZID=America/New_York:20241222T103000
DTSTAMP:20260425T085227
CREATED:20230525T135738Z
LAST-MODIFIED:20230525T135738Z
UID:10001174-1734859800-1734863400@fpcdarien.com
SUMMARY:Adult Sunday School
DESCRIPTION:
URL:https://fpcdarien.com/event/adult-sunday-school/2024-12-22/
LOCATION:Adult Sunday School room
END:VEVENT
BEGIN:VEVENT
DTSTART;TZID=America/New_York:20241221T100000
DTEND;TZID=America/New_York:20241221T110000
DTSTAMP:20260425T085227
CREATED:20230524T161020Z
LAST-MODIFIED:20230524T161020Z
UID:10000853-1734775200-1734778800@fpcdarien.com
SUMMARY:Men's Bible Study
DESCRIPTION:
URL:https://fpcdarien.com/event/mens-bible-study/2024-12-21/
LOCATION:Adult Sunday School room
END:VEVENT
BEGIN:VEVENT
DTSTART;TZID=America/New_York:20241220T100000
DTEND;TZID=America/New_York:20241220T110000
DTSTAMP:20260425T085227
CREATED:20230524T205654Z
LAST-MODIFIED:20230524T205654Z
UID:10001050-1734688800-1734692400@fpcdarien.com
SUMMARY:Memory Matters
DESCRIPTION:
URL:https://fpcdarien.com/event/memory-matters/2024-12-20/
LOCATION:Education building
END:VEVENT
BEGIN:VEVENT
DTSTART;TZID=America/New_York:20241219T100000
DTEND;TZID=America/New_York:20241219T110000
DTSTAMP:20260425T085227
CREATED:20230525T140644Z
LAST-MODIFIED:20230525T140644Z
UID:10001432-1734602400-1734606000@fpcdarien.com
SUMMARY:Dorcas
DESCRIPTION:
URL:https://fpcdarien.com/event/dorcas/2024-12-19/
LOCATION:Fellowship Hall
END:VEVENT
BEGIN:VEVENT
DTSTART;TZID=America/New_York:20241218T124500
DTEND;TZID=America/New_York:20241218T134500
DTSTAMP:20260425T085227
CREATED:20230525T140835Z
LAST-MODIFIED:20230525T140835Z
UID:10001492-1734525900-1734529500@fpcdarien.com
SUMMARY:Ladies' Birthday Lunch Celebration
DESCRIPTION:
URL:https://fpcdarien.com/event/ladies-birthday-lunch-celebration/2024-12-18/
END:VEVENT
BEGIN:VEVENT
DTSTART;TZID=America/New_York:20241217T110000
DTEND;TZID=America/New_York:20241217T120000
DTSTAMP:20260425T085227
CREATED:20230524T160321Z
LAST-MODIFIED:20230524T160849Z
UID:10000591-1734433200-1734436800@fpcdarien.com
SUMMARY:Women's Bible Study
DESCRIPTION:
URL:https://fpcdarien.com/event/womens-bible-study/2024-12-17/
LOCATION:Adult Sunday School room
END:VEVENT
BEGIN:VEVENT
DTSTART;TZID=America/New_York:20241216T113000
DTEND;TZID=America/New_York:20241216T123000
DTSTAMP:20260425T085227
CREATED:20230524T160020Z
LAST-MODIFIED:20230524T160124Z
UID:10000344-1734348600-1734352200@fpcdarien.com
SUMMARY:Al-Anon
DESCRIPTION:
URL:https://fpcdarien.com/event/al-anon-2/2024-12-16/
LOCATION:Education building
END:VEVENT
BEGIN:VEVENT
DTSTART;TZID=America/New_York:20241215T093000
DTEND;TZID=America/New_York:20241215T103000
DTSTAMP:20260425T085227
CREATED:20230525T135738Z
LAST-MODIFIED:20230525T135738Z
UID:10001173-1734255000-1734258600@fpcdarien.com
SUMMARY:Adult Sunday School
DESCRIPTION:
URL:https://fpcdarien.com/event/adult-sunday-school/2024-12-15/
LOCATION:Adult Sunday School room
END:VEVENT
BEGIN:VEVENT
DTSTART;TZID=America/New_York:20241214T100000
DTEND;TZID=America/New_York:20241214T110000
DTSTAMP:20260425T085227
CREATED:20230524T161020Z
LAST-MODIFIED:20230524T161020Z
UID:10000852-1734170400-1734174000@fpcdarien.com
SUMMARY:Men's Bible Study
DESCRIPTION:
URL:https://fpcdarien.com/event/mens-bible-study/2024-12-14/
LOCATION:Adult Sunday School room
END:VEVENT
BEGIN:VEVENT
DTSTART;TZID=America/New_York:20241210T110000
DTEND;TZID=America/New_York:20241210T120000
DTSTAMP:20260425T085227
CREATED:20230524T160321Z
LAST-MODIFIED:20230524T160849Z
UID:10000590-1733828400-1733832000@fpcdarien.com
SUMMARY:Women's Bible Study
DESCRIPTION:
URL:https://fpcdarien.com/event/womens-bible-study/2024-12-10/
LOCATION:Adult Sunday School room
END:VEVENT
BEGIN:VEVENT
DTSTART;TZID=America/New_York:20241209T113000
DTEND;TZID=America/New_York:20241209T123000
DTSTAMP:20260425T085227
CREATED:20230524T160020Z
LAST-MODIFIED:20230524T160124Z
UID:10000343-1733743800-1733747400@fpcdarien.com
SUMMARY:Al-Anon
DESCRIPTION:
URL:https://fpcdarien.com/event/al-anon-2/2024-12-09/
LOCATION:Education building
END:VEVENT
BEGIN:VEVENT
DTSTART;TZID=America/New_York:20241209T100000
DTEND;TZID=America/New_York:20241209T110000
DTSTAMP:20260425T085227
CREATED:20230525T140937Z
LAST-MODIFIED:20230525T140937Z
UID:10001552-1733738400-1733742000@fpcdarien.com
SUMMARY:Session
DESCRIPTION:
URL:https://fpcdarien.com/event/session/2024-12-09/
LOCATION:Adult Sunday School room
END:VEVENT
BEGIN:VEVENT
DTSTART;TZID=America/New_York:20241208T093000
DTEND;TZID=America/New_York:20241208T103000
DTSTAMP:20260425T085227
CREATED:20230525T135738Z
LAST-MODIFIED:20230525T135738Z
UID:10001172-1733650200-1733653800@fpcdarien.com
SUMMARY:Adult Sunday School
DESCRIPTION:
URL:https://fpcdarien.com/event/adult-sunday-school/2024-12-08/
LOCATION:Adult Sunday School room
END:VEVENT
BEGIN:VEVENT
DTSTART;TZID=America/New_York:20241207T100000
DTEND;TZID=America/New_York:20241207T110000
DTSTAMP:20260425T085227
CREATED:20230524T161020Z
LAST-MODIFIED:20230524T161020Z
UID:10000851-1733565600-1733569200@fpcdarien.com
SUMMARY:Men's Bible Study
DESCRIPTION:
URL:https://fpcdarien.com/event/mens-bible-study/2024-12-07/
LOCATION:Adult Sunday School room
END:VEVENT
BEGIN:VEVENT
DTSTART;TZID=America/New_York:20241203T110000
DTEND;TZID=America/New_York:20241203T120000
DTSTAMP:20260425T085227
CREATED:20230524T160321Z
LAST-MODIFIED:20230524T160849Z
UID:10000589-1733223600-1733227200@fpcdarien.com
SUMMARY:Women's Bible Study
DESCRIPTION:
URL:https://fpcdarien.com/event/womens-bible-study/2024-12-03/
LOCATION:Adult Sunday School room
END:VEVENT
BEGIN:VEVENT
DTSTART;TZID=America/New_York:20241202T113000
DTEND;TZID=America/New_York:20241202T123000
DTSTAMP:20260425T085227
CREATED:20230524T160020Z
LAST-MODIFIED:20230524T160124Z
UID:10000342-1733139000-1733142600@fpcdarien.com
SUMMARY:Al-Anon
DESCRIPTION:
URL:https://fpcdarien.com/event/al-anon-2/2024-12-02/
LOCATION:Education building
END:VEVENT
BEGIN:VEVENT
DTSTART;TZID=America/New_York:20241201T110000
DTEND;TZID=America/New_York:20241201T120000
DTSTAMP:20260425T085227
CREATED:20230525T135958Z
LAST-MODIFIED:20230525T135958Z
UID:10001371-1733050800-1733054400@fpcdarien.com
SUMMARY:Communion
DESCRIPTION:
URL:https://fpcdarien.com/event/communion/2024-12-01/
END:VEVENT
BEGIN:VEVENT
DTSTART;TZID=America/New_York:20241201T093000
DTEND;TZID=America/New_York:20241201T103000
DTSTAMP:20260425T085227
CREATED:20230525T135738Z
LAST-MODIFIED:20230525T135738Z
UID:10001171-1733045400-1733049000@fpcdarien.com
SUMMARY:Adult Sunday School
DESCRIPTION:
URL:https://fpcdarien.com/event/adult-sunday-school/2024-12-01/
LOCATION:Adult Sunday School room
END:VEVENT
BEGIN:VEVENT
DTSTART;TZID=America/New_York:20241130T100000
DTEND;TZID=America/New_York:20241130T110000
DTSTAMP:20260425T085227
CREATED:20230524T161020Z
LAST-MODIFIED:20230524T161020Z
UID:10000850-1732960800-1732964400@fpcdarien.com
SUMMARY:Men's Bible Study
DESCRIPTION:
URL:https://fpcdarien.com/event/mens-bible-study/2024-11-30/
LOCATION:Adult Sunday School room
END:VEVENT
BEGIN:VEVENT
DTSTART;TZID=America/New_York:20241126T110000
DTEND;TZID=America/New_York:20241126T120000
DTSTAMP:20260425T085227
CREATED:20230524T160321Z
LAST-MODIFIED:20230524T160849Z
UID:10000588-1732618800-1732622400@fpcdarien.com
SUMMARY:Women's Bible Study
DESCRIPTION:
URL:https://fpcdarien.com/event/womens-bible-study/2024-11-26/
LOCATION:Adult Sunday School room
END:VEVENT
BEGIN:VEVENT
DTSTART;TZID=America/New_York:20241125T113000
DTEND;TZID=America/New_York:20241125T123000
DTSTAMP:20260425T085227
CREATED:20230524T160020Z
LAST-MODIFIED:20230524T160124Z
UID:10000341-1732534200-1732537800@fpcdarien.com
SUMMARY:Al-Anon
DESCRIPTION:
URL:https://fpcdarien.com/event/al-anon-2/2024-11-25/
LOCATION:Education building
END:VEVENT
BEGIN:VEVENT
DTSTART;TZID=America/New_York:20241124T120000
DTEND;TZID=America/New_York:20241124T130000
DTSTAMP:20260425T085227
CREATED:20230525T141557Z
LAST-MODIFIED:20230525T141557Z
UID:10001613-1732449600-1732453200@fpcdarien.com
SUMMARY:Congregational Potluck Dinner
DESCRIPTION:
URL:https://fpcdarien.com/event/congregational-potluck-dinner/2024-11-24/
END:VEVENT
BEGIN:VEVENT
DTSTART;TZID=America/New_York:20241124T093000
DTEND;TZID=America/New_York:20241124T103000
DTSTAMP:20260425T085227
CREATED:20230525T135738Z
LAST-MODIFIED:20230525T135738Z
UID:10001170-1732440600-1732444200@fpcdarien.com
SUMMARY:Adult Sunday School
DESCRIPTION:
URL:https://fpcdarien.com/event/adult-sunday-school/2024-11-24/
LOCATION:Adult Sunday School room
END:VEVENT
BEGIN:VEVENT
DTSTART;TZID=America/New_York:20241123T100000
DTEND;TZID=America/New_York:20241123T110000
DTSTAMP:20260425T085227
CREATED:20230524T161020Z
LAST-MODIFIED:20230524T161020Z
UID:10000849-1732356000-1732359600@fpcdarien.com
SUMMARY:Men's Bible Study
DESCRIPTION:
URL:https://fpcdarien.com/event/mens-bible-study/2024-11-23/
LOCATION:Adult Sunday School room
END:VEVENT
BEGIN:VEVENT
DTSTART;TZID=America/New_York:20241121T100000
DTEND;TZID=America/New_York:20241121T110000
DTSTAMP:20260425T085227
CREATED:20230525T140644Z
LAST-MODIFIED:20230525T140644Z
UID:10001431-1732183200-1732186800@fpcdarien.com
SUMMARY:Dorcas
DESCRIPTION:
URL:https://fpcdarien.com/event/dorcas/2024-11-21/
LOCATION:Fellowship Hall
END:VEVENT
BEGIN:VEVENT
DTSTART;TZID=America/New_York:20241120T124500
DTEND;TZID=America/New_York:20241120T134500
DTSTAMP:20260425T085227
CREATED:20230525T140835Z
LAST-MODIFIED:20230525T140835Z
UID:10001491-1732106700-1732110300@fpcdarien.com
SUMMARY:Ladies' Birthday Lunch Celebration
DESCRIPTION:
URL:https://fpcdarien.com/event/ladies-birthday-lunch-celebration/2024-11-20/
END:VEVENT
BEGIN:VEVENT
DTSTART;TZID=America/New_York:20241119T110000
DTEND;TZID=America/New_York:20241119T120000
DTSTAMP:20260425T085227
CREATED:20230524T160321Z
LAST-MODIFIED:20230524T160849Z
UID:10000587-1732014000-1732017600@fpcdarien.com
SUMMARY:Women's Bible Study
DESCRIPTION:
URL:https://fpcdarien.com/event/womens-bible-study/2024-11-19/
LOCATION:Adult Sunday School room
END:VEVENT
BEGIN:VEVENT
DTSTART;TZID=America/New_York:20241118T113000
DTEND;TZID=America/New_York:20241118T123000
DTSTAMP:20260425T085227
CREATED:20230524T160020Z
LAST-MODIFIED:20230524T160124Z
UID:10000340-1731929400-1731933000@fpcdarien.com
SUMMARY:Al-Anon
DESCRIPTION:
URL:https://fpcdarien.com/event/al-anon-2/2024-11-18/
LOCATION:Education building
END:VEVENT
BEGIN:VEVENT
DTSTART;TZID=America/New_York:20241117T093000
DTEND;TZID=America/New_York:20241117T103000
DTSTAMP:20260425T085227
CREATED:20230525T135738Z
LAST-MODIFIED:20230525T135738Z
UID:10001169-1731835800-1731839400@fpcdarien.com
SUMMARY:Adult Sunday School
DESCRIPTION:
URL:https://fpcdarien.com/event/adult-sunday-school/2024-11-17/
LOCATION:Adult Sunday School room
END:VEVENT
BEGIN:VEVENT
DTSTART;TZID=America/New_York:20241116T100000
DTEND;TZID=America/New_York:20241116T110000
DTSTAMP:20260425T085227
CREATED:20230524T161020Z
LAST-MODIFIED:20230524T161020Z
UID:10000848-1731751200-1731754800@fpcdarien.com
SUMMARY:Men's Bible Study
DESCRIPTION:
URL:https://fpcdarien.com/event/mens-bible-study/2024-11-16/
LOCATION:Adult Sunday School room
END:VEVENT
END:VCALENDAR