BEGIN:VCALENDAR
VERSION:2.0
PRODID:-//First Presbyterian Church of Darien - ECPv6.15.20//NONSGML v1.0//EN
CALSCALE:GREGORIAN
METHOD:PUBLISH
X-WR-CALNAME:First Presbyterian Church of Darien
X-ORIGINAL-URL:https://fpcdarien.com
X-WR-CALDESC:Events for First Presbyterian Church of Darien
REFRESH-INTERVAL;VALUE=DURATION:PT1H
X-Robots-Tag:noindex
X-PUBLISHED-TTL:PT1H
BEGIN:VTIMEZONE
TZID:America/New_York
BEGIN:DAYLIGHT
TZOFFSETFROM:-0500
TZOFFSETTO:-0400
TZNAME:EDT
DTSTART:20240310T070000
END:DAYLIGHT
BEGIN:STANDARD
TZOFFSETFROM:-0400
TZOFFSETTO:-0500
TZNAME:EST
DTSTART:20241103T060000
END:STANDARD
BEGIN:DAYLIGHT
TZOFFSETFROM:-0500
TZOFFSETTO:-0400
TZNAME:EDT
DTSTART:20250309T070000
END:DAYLIGHT
BEGIN:STANDARD
TZOFFSETFROM:-0400
TZOFFSETTO:-0500
TZNAME:EST
DTSTART:20251102T060000
END:STANDARD
BEGIN:DAYLIGHT
TZOFFSETFROM:-0500
TZOFFSETTO:-0400
TZNAME:EDT
DTSTART:20260308T070000
END:DAYLIGHT
BEGIN:STANDARD
TZOFFSETFROM:-0400
TZOFFSETTO:-0500
TZNAME:EST
DTSTART:20261101T060000
END:STANDARD
END:VTIMEZONE
BEGIN:VEVENT
DTSTART;TZID=America/New_York:20250321T100000
DTEND;TZID=America/New_York:20250321T110000
DTSTAMP:20260424T225410
CREATED:20230524T205654Z
LAST-MODIFIED:20230524T205654Z
UID:10001053-1742551200-1742554800@fpcdarien.com
SUMMARY:Memory Matters
DESCRIPTION:
URL:https://fpcdarien.com/event/memory-matters/2025-03-21/
LOCATION:Education building
END:VEVENT
BEGIN:VEVENT
DTSTART;TZID=America/New_York:20250320T100000
DTEND;TZID=America/New_York:20250320T110000
DTSTAMP:20260424T225410
CREATED:20230525T140644Z
LAST-MODIFIED:20230525T140644Z
UID:10001435-1742464800-1742468400@fpcdarien.com
SUMMARY:Dorcas
DESCRIPTION:
URL:https://fpcdarien.com/event/dorcas/2025-03-20/
LOCATION:Fellowship Hall
END:VEVENT
BEGIN:VEVENT
DTSTART;TZID=America/New_York:20250319T124500
DTEND;TZID=America/New_York:20250319T134500
DTSTAMP:20260424T225410
CREATED:20230525T140835Z
LAST-MODIFIED:20230525T140835Z
UID:10001495-1742388300-1742391900@fpcdarien.com
SUMMARY:Ladies' Birthday Lunch Celebration
DESCRIPTION:
URL:https://fpcdarien.com/event/ladies-birthday-lunch-celebration/2025-03-19/
END:VEVENT
BEGIN:VEVENT
DTSTART;TZID=America/New_York:20250318T110000
DTEND;TZID=America/New_York:20250318T120000
DTSTAMP:20260424T225410
CREATED:20230524T160321Z
LAST-MODIFIED:20230524T160849Z
UID:10000604-1742295600-1742299200@fpcdarien.com
SUMMARY:Women's Bible Study
DESCRIPTION:
URL:https://fpcdarien.com/event/womens-bible-study/2025-03-18/
LOCATION:Adult Sunday School room
END:VEVENT
BEGIN:VEVENT
DTSTART;TZID=America/New_York:20250317T113000
DTEND;TZID=America/New_York:20250317T123000
DTSTAMP:20260424T225410
CREATED:20230524T160020Z
LAST-MODIFIED:20230524T160124Z
UID:10000357-1742211000-1742214600@fpcdarien.com
SUMMARY:Al-Anon
DESCRIPTION:
URL:https://fpcdarien.com/event/al-anon-2/2025-03-17/
LOCATION:Education building
END:VEVENT
BEGIN:VEVENT
DTSTART;TZID=America/New_York:20250316T093000
DTEND;TZID=America/New_York:20250316T103000
DTSTAMP:20260424T225410
CREATED:20230525T135738Z
LAST-MODIFIED:20230525T135738Z
UID:10001186-1742117400-1742121000@fpcdarien.com
SUMMARY:Adult Sunday School
DESCRIPTION:
URL:https://fpcdarien.com/event/adult-sunday-school/2025-03-16/
LOCATION:Adult Sunday School room
END:VEVENT
BEGIN:VEVENT
DTSTART;TZID=America/New_York:20250315T100000
DTEND;TZID=America/New_York:20250315T110000
DTSTAMP:20260424T225410
CREATED:20230524T161020Z
LAST-MODIFIED:20230524T161020Z
UID:10000865-1742032800-1742036400@fpcdarien.com
SUMMARY:Men's Bible Study
DESCRIPTION:
URL:https://fpcdarien.com/event/mens-bible-study/2025-03-15/
LOCATION:Adult Sunday School room
END:VEVENT
BEGIN:VEVENT
DTSTART;TZID=America/New_York:20250311T110000
DTEND;TZID=America/New_York:20250311T120000
DTSTAMP:20260424T225410
CREATED:20230524T160321Z
LAST-MODIFIED:20230524T160849Z
UID:10000603-1741690800-1741694400@fpcdarien.com
SUMMARY:Women's Bible Study
DESCRIPTION:
URL:https://fpcdarien.com/event/womens-bible-study/2025-03-11/
LOCATION:Adult Sunday School room
END:VEVENT
BEGIN:VEVENT
DTSTART;TZID=America/New_York:20250310T113000
DTEND;TZID=America/New_York:20250310T123000
DTSTAMP:20260424T225410
CREATED:20230524T160020Z
LAST-MODIFIED:20230524T160124Z
UID:10000356-1741606200-1741609800@fpcdarien.com
SUMMARY:Al-Anon
DESCRIPTION:
URL:https://fpcdarien.com/event/al-anon-2/2025-03-10/
LOCATION:Education building
END:VEVENT
BEGIN:VEVENT
DTSTART;TZID=America/New_York:20250310T100000
DTEND;TZID=America/New_York:20250310T110000
DTSTAMP:20260424T225410
CREATED:20230525T140937Z
LAST-MODIFIED:20230525T140937Z
UID:10001555-1741600800-1741604400@fpcdarien.com
SUMMARY:Session
DESCRIPTION:
URL:https://fpcdarien.com/event/session/2025-03-10/
LOCATION:Adult Sunday School room
END:VEVENT
BEGIN:VEVENT
DTSTART;TZID=America/New_York:20250309T093000
DTEND;TZID=America/New_York:20250309T103000
DTSTAMP:20260424T225410
CREATED:20230525T135738Z
LAST-MODIFIED:20230525T135738Z
UID:10001185-1741512600-1741516200@fpcdarien.com
SUMMARY:Adult Sunday School
DESCRIPTION:
URL:https://fpcdarien.com/event/adult-sunday-school/2025-03-09/
LOCATION:Adult Sunday School room
END:VEVENT
BEGIN:VEVENT
DTSTART;TZID=America/New_York:20250308T100000
DTEND;TZID=America/New_York:20250308T140000
DTSTAMP:20260424T225410
CREATED:20230726T151626Z
LAST-MODIFIED:20230726T151626Z
UID:10001675-1741428000-1741442400@fpcdarien.com
SUMMARY:Second Saturday
DESCRIPTION:Join us for second Saturday in Darien!
URL:https://fpcdarien.com/event/second-saturday-2/2025-03-08/
LOCATION:Downtown Darien
END:VEVENT
BEGIN:VEVENT
DTSTART;TZID=America/New_York:20250308T100000
DTEND;TZID=America/New_York:20250308T110000
DTSTAMP:20260424T225410
CREATED:20230524T161020Z
LAST-MODIFIED:20230524T161020Z
UID:10000864-1741428000-1741431600@fpcdarien.com
SUMMARY:Men's Bible Study
DESCRIPTION:
URL:https://fpcdarien.com/event/mens-bible-study/2025-03-08/
LOCATION:Adult Sunday School room
END:VEVENT
BEGIN:VEVENT
DTSTART;TZID=America/New_York:20250304T110000
DTEND;TZID=America/New_York:20250304T120000
DTSTAMP:20260424T225410
CREATED:20230524T160321Z
LAST-MODIFIED:20230524T160849Z
UID:10000602-1741086000-1741089600@fpcdarien.com
SUMMARY:Women's Bible Study
DESCRIPTION:
URL:https://fpcdarien.com/event/womens-bible-study/2025-03-04/
LOCATION:Adult Sunday School room
END:VEVENT
BEGIN:VEVENT
DTSTART;TZID=America/New_York:20250303T113000
DTEND;TZID=America/New_York:20250303T123000
DTSTAMP:20260424T225411
CREATED:20230524T160020Z
LAST-MODIFIED:20230524T160124Z
UID:10000355-1741001400-1741005000@fpcdarien.com
SUMMARY:Al-Anon
DESCRIPTION:
URL:https://fpcdarien.com/event/al-anon-2/2025-03-03/
LOCATION:Education building
END:VEVENT
BEGIN:VEVENT
DTSTART;TZID=America/New_York:20250302T110000
DTEND;TZID=America/New_York:20250302T120000
DTSTAMP:20260424T225411
CREATED:20230525T135958Z
LAST-MODIFIED:20230525T135958Z
UID:10001374-1740913200-1740916800@fpcdarien.com
SUMMARY:Communion
DESCRIPTION:
URL:https://fpcdarien.com/event/communion/2025-03-02/
END:VEVENT
BEGIN:VEVENT
DTSTART;TZID=America/New_York:20250302T093000
DTEND;TZID=America/New_York:20250302T103000
DTSTAMP:20260424T225411
CREATED:20230525T135738Z
LAST-MODIFIED:20230525T135738Z
UID:10001184-1740907800-1740911400@fpcdarien.com
SUMMARY:Adult Sunday School
DESCRIPTION:
URL:https://fpcdarien.com/event/adult-sunday-school/2025-03-02/
LOCATION:Adult Sunday School room
END:VEVENT
BEGIN:VEVENT
DTSTART;TZID=America/New_York:20250301T100000
DTEND;TZID=America/New_York:20250301T110000
DTSTAMP:20260424T225411
CREATED:20230524T161020Z
LAST-MODIFIED:20230524T161020Z
UID:10000863-1740823200-1740826800@fpcdarien.com
SUMMARY:Men's Bible Study
DESCRIPTION:
URL:https://fpcdarien.com/event/mens-bible-study/2025-03-01/
LOCATION:Adult Sunday School room
END:VEVENT
BEGIN:VEVENT
DTSTART;TZID=America/New_York:20250225T110000
DTEND;TZID=America/New_York:20250225T120000
DTSTAMP:20260424T225411
CREATED:20230524T160321Z
LAST-MODIFIED:20230524T160849Z
UID:10000601-1740481200-1740484800@fpcdarien.com
SUMMARY:Women's Bible Study
DESCRIPTION:
URL:https://fpcdarien.com/event/womens-bible-study/2025-02-25/
LOCATION:Adult Sunday School room
END:VEVENT
BEGIN:VEVENT
DTSTART;TZID=America/New_York:20250224T113000
DTEND;TZID=America/New_York:20250224T123000
DTSTAMP:20260424T225411
CREATED:20230524T160020Z
LAST-MODIFIED:20230524T160124Z
UID:10000354-1740396600-1740400200@fpcdarien.com
SUMMARY:Al-Anon
DESCRIPTION:
URL:https://fpcdarien.com/event/al-anon-2/2025-02-24/
LOCATION:Education building
END:VEVENT
BEGIN:VEVENT
DTSTART;TZID=America/New_York:20250223T120000
DTEND;TZID=America/New_York:20250223T130000
DTSTAMP:20260424T225411
CREATED:20230525T141557Z
LAST-MODIFIED:20230525T141557Z
UID:10001616-1740312000-1740315600@fpcdarien.com
SUMMARY:Congregational Potluck Dinner
DESCRIPTION:
URL:https://fpcdarien.com/event/congregational-potluck-dinner/2025-02-23/
END:VEVENT
BEGIN:VEVENT
DTSTART;TZID=America/New_York:20250223T093000
DTEND;TZID=America/New_York:20250223T103000
DTSTAMP:20260424T225411
CREATED:20230525T135738Z
LAST-MODIFIED:20230525T135738Z
UID:10001183-1740303000-1740306600@fpcdarien.com
SUMMARY:Adult Sunday School
DESCRIPTION:
URL:https://fpcdarien.com/event/adult-sunday-school/2025-02-23/
LOCATION:Adult Sunday School room
END:VEVENT
BEGIN:VEVENT
DTSTART;TZID=America/New_York:20250222T100000
DTEND;TZID=America/New_York:20250222T110000
DTSTAMP:20260424T225411
CREATED:20230524T161020Z
LAST-MODIFIED:20230524T161020Z
UID:10000862-1740218400-1740222000@fpcdarien.com
SUMMARY:Men's Bible Study
DESCRIPTION:
URL:https://fpcdarien.com/event/mens-bible-study/2025-02-22/
LOCATION:Adult Sunday School room
END:VEVENT
BEGIN:VEVENT
DTSTART;TZID=America/New_York:20250221T100000
DTEND;TZID=America/New_York:20250221T110000
DTSTAMP:20260424T225411
CREATED:20230524T205654Z
LAST-MODIFIED:20230524T205654Z
UID:10001052-1740132000-1740135600@fpcdarien.com
SUMMARY:Memory Matters
DESCRIPTION:
URL:https://fpcdarien.com/event/memory-matters/2025-02-21/
LOCATION:Education building
END:VEVENT
BEGIN:VEVENT
DTSTART;TZID=America/New_York:20250220T100000
DTEND;TZID=America/New_York:20250220T110000
DTSTAMP:20260424T225411
CREATED:20230525T140644Z
LAST-MODIFIED:20230525T140644Z
UID:10001434-1740045600-1740049200@fpcdarien.com
SUMMARY:Dorcas
DESCRIPTION:
URL:https://fpcdarien.com/event/dorcas/2025-02-20/
LOCATION:Fellowship Hall
END:VEVENT
BEGIN:VEVENT
DTSTART;TZID=America/New_York:20250219T124500
DTEND;TZID=America/New_York:20250219T134500
DTSTAMP:20260424T225411
CREATED:20230525T140835Z
LAST-MODIFIED:20230525T140835Z
UID:10001494-1739969100-1739972700@fpcdarien.com
SUMMARY:Ladies' Birthday Lunch Celebration
DESCRIPTION:
URL:https://fpcdarien.com/event/ladies-birthday-lunch-celebration/2025-02-19/
END:VEVENT
BEGIN:VEVENT
DTSTART;TZID=America/New_York:20250218T110000
DTEND;TZID=America/New_York:20250218T120000
DTSTAMP:20260424T225411
CREATED:20230524T160321Z
LAST-MODIFIED:20230524T160849Z
UID:10000600-1739876400-1739880000@fpcdarien.com
SUMMARY:Women's Bible Study
DESCRIPTION:
URL:https://fpcdarien.com/event/womens-bible-study/2025-02-18/
LOCATION:Adult Sunday School room
END:VEVENT
BEGIN:VEVENT
DTSTART;TZID=America/New_York:20250217T113000
DTEND;TZID=America/New_York:20250217T123000
DTSTAMP:20260424T225411
CREATED:20230524T160020Z
LAST-MODIFIED:20230524T160124Z
UID:10000353-1739791800-1739795400@fpcdarien.com
SUMMARY:Al-Anon
DESCRIPTION:
URL:https://fpcdarien.com/event/al-anon-2/2025-02-17/
LOCATION:Education building
END:VEVENT
BEGIN:VEVENT
DTSTART;TZID=America/New_York:20250216T093000
DTEND;TZID=America/New_York:20250216T103000
DTSTAMP:20260424T225411
CREATED:20230525T135738Z
LAST-MODIFIED:20230525T135738Z
UID:10001182-1739698200-1739701800@fpcdarien.com
SUMMARY:Adult Sunday School
DESCRIPTION:
URL:https://fpcdarien.com/event/adult-sunday-school/2025-02-16/
LOCATION:Adult Sunday School room
END:VEVENT
BEGIN:VEVENT
DTSTART;TZID=America/New_York:20250215T100000
DTEND;TZID=America/New_York:20250215T110000
DTSTAMP:20260424T225411
CREATED:20230524T161020Z
LAST-MODIFIED:20230524T161020Z
UID:10000861-1739613600-1739617200@fpcdarien.com
SUMMARY:Men's Bible Study
DESCRIPTION:
URL:https://fpcdarien.com/event/mens-bible-study/2025-02-15/
LOCATION:Adult Sunday School room
END:VEVENT
END:VCALENDAR