BEGIN:VCALENDAR
VERSION:2.0
PRODID:-//First Presbyterian Church of Darien - ECPv6.15.20//NONSGML v1.0//EN
CALSCALE:GREGORIAN
METHOD:PUBLISH
X-WR-CALNAME:First Presbyterian Church of Darien
X-ORIGINAL-URL:https://fpcdarien.com
X-WR-CALDESC:Events for First Presbyterian Church of Darien
REFRESH-INTERVAL;VALUE=DURATION:PT1H
X-Robots-Tag:noindex
X-PUBLISHED-TTL:PT1H
BEGIN:VTIMEZONE
TZID:America/New_York
BEGIN:DAYLIGHT
TZOFFSETFROM:-0500
TZOFFSETTO:-0400
TZNAME:EDT
DTSTART:20260308T070000
END:DAYLIGHT
BEGIN:STANDARD
TZOFFSETFROM:-0400
TZOFFSETTO:-0500
TZNAME:EST
DTSTART:20261101T060000
END:STANDARD
BEGIN:DAYLIGHT
TZOFFSETFROM:-0500
TZOFFSETTO:-0400
TZNAME:EDT
DTSTART:20270314T070000
END:DAYLIGHT
BEGIN:STANDARD
TZOFFSETFROM:-0400
TZOFFSETTO:-0500
TZNAME:EST
DTSTART:20271107T060000
END:STANDARD
BEGIN:DAYLIGHT
TZOFFSETFROM:-0500
TZOFFSETTO:-0400
TZNAME:EDT
DTSTART:20280312T070000
END:DAYLIGHT
BEGIN:STANDARD
TZOFFSETFROM:-0400
TZOFFSETTO:-0500
TZNAME:EST
DTSTART:20281105T060000
END:STANDARD
END:VTIMEZONE
BEGIN:VEVENT
DTSTART;TZID=America/New_York:20270416T100000
DTEND;TZID=America/New_York:20270416T110000
DTSTAMP:20260424T172414
CREATED:20230524T205654Z
LAST-MODIFIED:20230524T205654Z
UID:10001078-1807869600-1807873200@fpcdarien.com
SUMMARY:Memory Matters
DESCRIPTION:
URL:https://fpcdarien.com/event/memory-matters/2027-04-16/
LOCATION:Education building
END:VEVENT
BEGIN:VEVENT
DTSTART;TZID=America/New_York:20270417T100000
DTEND;TZID=America/New_York:20270417T110000
DTSTAMP:20260424T172414
CREATED:20230524T161020Z
LAST-MODIFIED:20230524T161020Z
UID:10000974-1807956000-1807959600@fpcdarien.com
SUMMARY:Men's Bible Study
DESCRIPTION:
URL:https://fpcdarien.com/event/mens-bible-study/2027-04-17/
LOCATION:Adult Sunday School room
END:VEVENT
BEGIN:VEVENT
DTSTART;TZID=America/New_York:20270418T093000
DTEND;TZID=America/New_York:20270418T103000
DTSTAMP:20260424T172414
CREATED:20230525T135738Z
LAST-MODIFIED:20230525T135738Z
UID:10001295-1808040600-1808044200@fpcdarien.com
SUMMARY:Adult Sunday School
DESCRIPTION:
URL:https://fpcdarien.com/event/adult-sunday-school/2027-04-18/
LOCATION:Adult Sunday School room
END:VEVENT
BEGIN:VEVENT
DTSTART;TZID=America/New_York:20270419T113000
DTEND;TZID=America/New_York:20270419T123000
DTSTAMP:20260424T172414
CREATED:20230524T160020Z
LAST-MODIFIED:20230524T160124Z
UID:10000466-1808134200-1808137800@fpcdarien.com
SUMMARY:Al-Anon
DESCRIPTION:
URL:https://fpcdarien.com/event/al-anon-2/2027-04-19/
LOCATION:Education building
END:VEVENT
BEGIN:VEVENT
DTSTART;TZID=America/New_York:20270421T110000
DTEND;TZID=America/New_York:20270421T120000
DTSTAMP:20260424T172414
CREATED:20260414T192812Z
LAST-MODIFIED:20260414T192812Z
UID:10001773-1808305200-1808308800@fpcdarien.com
SUMMARY:Women's Bible Study
DESCRIPTION:
URL:https://fpcdarien.com/event/womens-bible-study-2/2027-04-21/
LOCATION:Adult Sunday School room
END:VEVENT
BEGIN:VEVENT
DTSTART;TZID=America/New_York:20270421T124500
DTEND;TZID=America/New_York:20270421T134500
DTSTAMP:20260424T172414
CREATED:20230525T140835Z
LAST-MODIFIED:20230525T140835Z
UID:10001520-1808311500-1808315100@fpcdarien.com
SUMMARY:Ladies' Birthday Lunch Celebration
DESCRIPTION:
URL:https://fpcdarien.com/event/ladies-birthday-lunch-celebration/2027-04-21/
END:VEVENT
BEGIN:VEVENT
DTSTART;TZID=America/New_York:20270424T100000
DTEND;TZID=America/New_York:20270424T110000
DTSTAMP:20260424T172414
CREATED:20230524T161020Z
LAST-MODIFIED:20230524T161020Z
UID:10000975-1808560800-1808564400@fpcdarien.com
SUMMARY:Men's Bible Study
DESCRIPTION:
URL:https://fpcdarien.com/event/mens-bible-study/2027-04-24/
LOCATION:Adult Sunday School room
END:VEVENT
BEGIN:VEVENT
DTSTART;TZID=America/New_York:20270425T093000
DTEND;TZID=America/New_York:20270425T103000
DTSTAMP:20260424T172414
CREATED:20230525T135738Z
LAST-MODIFIED:20230525T135738Z
UID:10001296-1808645400-1808649000@fpcdarien.com
SUMMARY:Adult Sunday School
DESCRIPTION:
URL:https://fpcdarien.com/event/adult-sunday-school/2027-04-25/
LOCATION:Adult Sunday School room
END:VEVENT
BEGIN:VEVENT
DTSTART;TZID=America/New_York:20270425T120000
DTEND;TZID=America/New_York:20270425T130000
DTSTAMP:20260424T172414
CREATED:20230525T141557Z
LAST-MODIFIED:20230525T141557Z
UID:10001642-1808654400-1808658000@fpcdarien.com
SUMMARY:Congregational Potluck Dinner
DESCRIPTION:
URL:https://fpcdarien.com/event/congregational-potluck-dinner/2027-04-25/
END:VEVENT
BEGIN:VEVENT
DTSTART;TZID=America/New_York:20270426T113000
DTEND;TZID=America/New_York:20270426T123000
DTSTAMP:20260424T172414
CREATED:20230524T160020Z
LAST-MODIFIED:20230524T160124Z
UID:10000467-1808739000-1808742600@fpcdarien.com
SUMMARY:Al-Anon
DESCRIPTION:
URL:https://fpcdarien.com/event/al-anon-2/2027-04-26/
LOCATION:Education building
END:VEVENT
BEGIN:VEVENT
DTSTART;TZID=America/New_York:20270428T110000
DTEND;TZID=America/New_York:20270428T120000
DTSTAMP:20260424T172414
CREATED:20260414T192812Z
LAST-MODIFIED:20260414T192812Z
UID:10001774-1808910000-1808913600@fpcdarien.com
SUMMARY:Women's Bible Study
DESCRIPTION:
URL:https://fpcdarien.com/event/womens-bible-study-2/2027-04-28/
LOCATION:Adult Sunday School room
END:VEVENT
BEGIN:VEVENT
DTSTART;TZID=America/New_York:20270501T100000
DTEND;TZID=America/New_York:20270501T110000
DTSTAMP:20260424T172414
CREATED:20230524T161020Z
LAST-MODIFIED:20230524T161020Z
UID:10000976-1809165600-1809169200@fpcdarien.com
SUMMARY:Men's Bible Study
DESCRIPTION:
URL:https://fpcdarien.com/event/mens-bible-study/2027-05-01/
LOCATION:Adult Sunday School room
END:VEVENT
BEGIN:VEVENT
DTSTART;TZID=America/New_York:20270502T093000
DTEND;TZID=America/New_York:20270502T103000
DTSTAMP:20260424T172414
CREATED:20230525T135738Z
LAST-MODIFIED:20230525T135738Z
UID:10001297-1809250200-1809253800@fpcdarien.com
SUMMARY:Adult Sunday School
DESCRIPTION:
URL:https://fpcdarien.com/event/adult-sunday-school/2027-05-02/
LOCATION:Adult Sunday School room
END:VEVENT
BEGIN:VEVENT
DTSTART;TZID=America/New_York:20270502T110000
DTEND;TZID=America/New_York:20270502T120000
DTSTAMP:20260424T172414
CREATED:20230525T135958Z
LAST-MODIFIED:20230525T135958Z
UID:10001400-1809255600-1809259200@fpcdarien.com
SUMMARY:Communion
DESCRIPTION:
URL:https://fpcdarien.com/event/communion/2027-05-02/
END:VEVENT
BEGIN:VEVENT
DTSTART;TZID=America/New_York:20270503T113000
DTEND;TZID=America/New_York:20270503T123000
DTSTAMP:20260424T172414
CREATED:20230524T160020Z
LAST-MODIFIED:20230524T160124Z
UID:10000468-1809343800-1809347400@fpcdarien.com
SUMMARY:Al-Anon
DESCRIPTION:
URL:https://fpcdarien.com/event/al-anon-2/2027-05-03/
LOCATION:Education building
END:VEVENT
BEGIN:VEVENT
DTSTART;TZID=America/New_York:20270505T110000
DTEND;TZID=America/New_York:20270505T120000
DTSTAMP:20260424T172414
CREATED:20260414T192812Z
LAST-MODIFIED:20260414T192812Z
UID:10001775-1809514800-1809518400@fpcdarien.com
SUMMARY:Women's Bible Study
DESCRIPTION:
URL:https://fpcdarien.com/event/womens-bible-study-2/2027-05-05/
LOCATION:Adult Sunday School room
END:VEVENT
BEGIN:VEVENT
DTSTART;TZID=America/New_York:20270508T100000
DTEND;TZID=America/New_York:20270508T110000
DTSTAMP:20260424T172414
CREATED:20230524T161020Z
LAST-MODIFIED:20230524T161020Z
UID:10000977-1809770400-1809774000@fpcdarien.com
SUMMARY:Men's Bible Study
DESCRIPTION:
URL:https://fpcdarien.com/event/mens-bible-study/2027-05-08/
LOCATION:Adult Sunday School room
END:VEVENT
BEGIN:VEVENT
DTSTART;TZID=America/New_York:20270508T100000
DTEND;TZID=America/New_York:20270508T140000
DTSTAMP:20260424T172414
CREATED:20230726T151626Z
LAST-MODIFIED:20230726T151626Z
UID:10001701-1809770400-1809784800@fpcdarien.com
SUMMARY:Second Saturday
DESCRIPTION:Join us for second Saturday in Darien!
URL:https://fpcdarien.com/event/second-saturday-2/2027-05-08/
LOCATION:Downtown Darien
END:VEVENT
BEGIN:VEVENT
DTSTART;TZID=America/New_York:20270509T093000
DTEND;TZID=America/New_York:20270509T103000
DTSTAMP:20260424T172414
CREATED:20230525T135738Z
LAST-MODIFIED:20230525T135738Z
UID:10001298-1809855000-1809858600@fpcdarien.com
SUMMARY:Adult Sunday School
DESCRIPTION:
URL:https://fpcdarien.com/event/adult-sunday-school/2027-05-09/
LOCATION:Adult Sunday School room
END:VEVENT
BEGIN:VEVENT
DTSTART;TZID=America/New_York:20270510T100000
DTEND;TZID=America/New_York:20270510T110000
DTSTAMP:20260424T172414
CREATED:20230525T140937Z
LAST-MODIFIED:20230525T140937Z
UID:10001581-1809943200-1809946800@fpcdarien.com
SUMMARY:Session
DESCRIPTION:
URL:https://fpcdarien.com/event/session/2027-05-10/
LOCATION:Adult Sunday School room
END:VEVENT
BEGIN:VEVENT
DTSTART;TZID=America/New_York:20270510T113000
DTEND;TZID=America/New_York:20270510T123000
DTSTAMP:20260424T172414
CREATED:20230524T160020Z
LAST-MODIFIED:20230524T160124Z
UID:10000469-1809948600-1809952200@fpcdarien.com
SUMMARY:Al-Anon
DESCRIPTION:
URL:https://fpcdarien.com/event/al-anon-2/2027-05-10/
LOCATION:Education building
END:VEVENT
BEGIN:VEVENT
DTSTART;TZID=America/New_York:20270512T110000
DTEND;TZID=America/New_York:20270512T120000
DTSTAMP:20260424T172414
CREATED:20260414T192812Z
LAST-MODIFIED:20260414T192812Z
UID:10001776-1810119600-1810123200@fpcdarien.com
SUMMARY:Women's Bible Study
DESCRIPTION:
URL:https://fpcdarien.com/event/womens-bible-study-2/2027-05-12/
LOCATION:Adult Sunday School room
END:VEVENT
BEGIN:VEVENT
DTSTART;TZID=America/New_York:20270515T100000
DTEND;TZID=America/New_York:20270515T110000
DTSTAMP:20260424T172414
CREATED:20230524T161020Z
LAST-MODIFIED:20230524T161020Z
UID:10000978-1810375200-1810378800@fpcdarien.com
SUMMARY:Men's Bible Study
DESCRIPTION:
URL:https://fpcdarien.com/event/mens-bible-study/2027-05-15/
LOCATION:Adult Sunday School room
END:VEVENT
BEGIN:VEVENT
DTSTART;TZID=America/New_York:20270516T093000
DTEND;TZID=America/New_York:20270516T103000
DTSTAMP:20260424T172414
CREATED:20230525T135738Z
LAST-MODIFIED:20230525T135738Z
UID:10001299-1810459800-1810463400@fpcdarien.com
SUMMARY:Adult Sunday School
DESCRIPTION:
URL:https://fpcdarien.com/event/adult-sunday-school/2027-05-16/
LOCATION:Adult Sunday School room
END:VEVENT
BEGIN:VEVENT
DTSTART;TZID=America/New_York:20270517T113000
DTEND;TZID=America/New_York:20270517T123000
DTSTAMP:20260424T172414
CREATED:20230524T160020Z
LAST-MODIFIED:20230524T160124Z
UID:10000470-1810553400-1810557000@fpcdarien.com
SUMMARY:Al-Anon
DESCRIPTION:
URL:https://fpcdarien.com/event/al-anon-2/2027-05-17/
LOCATION:Education building
END:VEVENT
BEGIN:VEVENT
DTSTART;TZID=America/New_York:20270519T110000
DTEND;TZID=America/New_York:20270519T120000
DTSTAMP:20260424T172414
CREATED:20260414T192812Z
LAST-MODIFIED:20260414T192812Z
UID:10001777-1810724400-1810728000@fpcdarien.com
SUMMARY:Women's Bible Study
DESCRIPTION:
URL:https://fpcdarien.com/event/womens-bible-study-2/2027-05-19/
LOCATION:Adult Sunday School room
END:VEVENT
BEGIN:VEVENT
DTSTART;TZID=America/New_York:20270519T124500
DTEND;TZID=America/New_York:20270519T134500
DTSTAMP:20260424T172414
CREATED:20230525T140835Z
LAST-MODIFIED:20230525T140835Z
UID:10001521-1810730700-1810734300@fpcdarien.com
SUMMARY:Ladies' Birthday Lunch Celebration
DESCRIPTION:
URL:https://fpcdarien.com/event/ladies-birthday-lunch-celebration/2027-05-19/
END:VEVENT
BEGIN:VEVENT
DTSTART;TZID=America/New_York:20270520T100000
DTEND;TZID=America/New_York:20270520T110000
DTSTAMP:20260424T172414
CREATED:20230525T140644Z
LAST-MODIFIED:20230525T140644Z
UID:10001461-1810807200-1810810800@fpcdarien.com
SUMMARY:Dorcas
DESCRIPTION:
URL:https://fpcdarien.com/event/dorcas/2027-05-20/
LOCATION:Fellowship Hall
END:VEVENT
BEGIN:VEVENT
DTSTART;TZID=America/New_York:20270521T100000
DTEND;TZID=America/New_York:20270521T110000
DTSTAMP:20260424T172414
CREATED:20230524T205654Z
LAST-MODIFIED:20230524T205654Z
UID:10001079-1810893600-1810897200@fpcdarien.com
SUMMARY:Memory Matters
DESCRIPTION:
URL:https://fpcdarien.com/event/memory-matters/2027-05-21/
LOCATION:Education building
END:VEVENT
BEGIN:VEVENT
DTSTART;TZID=America/New_York:20270522T100000
DTEND;TZID=America/New_York:20270522T110000
DTSTAMP:20260424T172414
CREATED:20230524T161020Z
LAST-MODIFIED:20230524T161020Z
UID:10000979-1810980000-1810983600@fpcdarien.com
SUMMARY:Men's Bible Study
DESCRIPTION:
URL:https://fpcdarien.com/event/mens-bible-study/2027-05-22/
LOCATION:Adult Sunday School room
END:VEVENT
END:VCALENDAR