BEGIN:VCALENDAR
VERSION:2.0
PRODID:-//First Presbyterian Church of Darien - ECPv6.15.20//NONSGML v1.0//EN
CALSCALE:GREGORIAN
METHOD:PUBLISH
X-WR-CALNAME:First Presbyterian Church of Darien
X-ORIGINAL-URL:https://fpcdarien.com
X-WR-CALDESC:Events for First Presbyterian Church of Darien
REFRESH-INTERVAL;VALUE=DURATION:PT1H
X-Robots-Tag:noindex
X-PUBLISHED-TTL:PT1H
BEGIN:VTIMEZONE
TZID:America/New_York
BEGIN:DAYLIGHT
TZOFFSETFROM:-0500
TZOFFSETTO:-0400
TZNAME:EDT
DTSTART:20240310T070000
END:DAYLIGHT
BEGIN:STANDARD
TZOFFSETFROM:-0400
TZOFFSETTO:-0500
TZNAME:EST
DTSTART:20241103T060000
END:STANDARD
BEGIN:DAYLIGHT
TZOFFSETFROM:-0500
TZOFFSETTO:-0400
TZNAME:EDT
DTSTART:20250309T070000
END:DAYLIGHT
BEGIN:STANDARD
TZOFFSETFROM:-0400
TZOFFSETTO:-0500
TZNAME:EST
DTSTART:20251102T060000
END:STANDARD
BEGIN:DAYLIGHT
TZOFFSETFROM:-0500
TZOFFSETTO:-0400
TZNAME:EDT
DTSTART:20260308T070000
END:DAYLIGHT
BEGIN:STANDARD
TZOFFSETFROM:-0400
TZOFFSETTO:-0500
TZNAME:EST
DTSTART:20261101T060000
END:STANDARD
END:VTIMEZONE
BEGIN:VEVENT
DTSTART;TZID=America/New_York:20250525T120000
DTEND;TZID=America/New_York:20250525T130000
DTSTAMP:20260424T191936
CREATED:20230525T141557Z
LAST-MODIFIED:20230525T141557Z
UID:10001619-1748174400-1748178000@fpcdarien.com
SUMMARY:Congregational Potluck Dinner
DESCRIPTION:
URL:https://fpcdarien.com/event/congregational-potluck-dinner/2025-05-25/
END:VEVENT
BEGIN:VEVENT
DTSTART;TZID=America/New_York:20250525T093000
DTEND;TZID=America/New_York:20250525T103000
DTSTAMP:20260424T191936
CREATED:20230525T135738Z
LAST-MODIFIED:20230525T135738Z
UID:10001196-1748165400-1748169000@fpcdarien.com
SUMMARY:Adult Sunday School
DESCRIPTION:
URL:https://fpcdarien.com/event/adult-sunday-school/2025-05-25/
LOCATION:Adult Sunday School room
END:VEVENT
BEGIN:VEVENT
DTSTART;TZID=America/New_York:20250524T100000
DTEND;TZID=America/New_York:20250524T110000
DTSTAMP:20260424T191936
CREATED:20230524T161020Z
LAST-MODIFIED:20230524T161020Z
UID:10000875-1748080800-1748084400@fpcdarien.com
SUMMARY:Men's Bible Study
DESCRIPTION:
URL:https://fpcdarien.com/event/mens-bible-study/2025-05-24/
LOCATION:Adult Sunday School room
END:VEVENT
BEGIN:VEVENT
DTSTART;TZID=America/New_York:20250521T124500
DTEND;TZID=America/New_York:20250521T134500
DTSTAMP:20260424T191936
CREATED:20230525T140835Z
LAST-MODIFIED:20230525T140835Z
UID:10001497-1747831500-1747835100@fpcdarien.com
SUMMARY:Ladies' Birthday Lunch Celebration
DESCRIPTION:
URL:https://fpcdarien.com/event/ladies-birthday-lunch-celebration/2025-05-21/
END:VEVENT
BEGIN:VEVENT
DTSTART;TZID=America/New_York:20250520T110000
DTEND;TZID=America/New_York:20250520T120000
DTSTAMP:20260424T191936
CREATED:20230524T160321Z
LAST-MODIFIED:20230524T160849Z
UID:10000613-1747738800-1747742400@fpcdarien.com
SUMMARY:Women's Bible Study
DESCRIPTION:
URL:https://fpcdarien.com/event/womens-bible-study/2025-05-20/
LOCATION:Adult Sunday School room
END:VEVENT
BEGIN:VEVENT
DTSTART;TZID=America/New_York:20250519T113000
DTEND;TZID=America/New_York:20250519T123000
DTSTAMP:20260424T191936
CREATED:20230524T160020Z
LAST-MODIFIED:20230524T160124Z
UID:10000366-1747654200-1747657800@fpcdarien.com
SUMMARY:Al-Anon
DESCRIPTION:
URL:https://fpcdarien.com/event/al-anon-2/2025-05-19/
LOCATION:Education building
END:VEVENT
BEGIN:VEVENT
DTSTART;TZID=America/New_York:20250518T093000
DTEND;TZID=America/New_York:20250518T103000
DTSTAMP:20260424T191936
CREATED:20230525T135738Z
LAST-MODIFIED:20230525T135738Z
UID:10001195-1747560600-1747564200@fpcdarien.com
SUMMARY:Adult Sunday School
DESCRIPTION:
URL:https://fpcdarien.com/event/adult-sunday-school/2025-05-18/
LOCATION:Adult Sunday School room
END:VEVENT
BEGIN:VEVENT
DTSTART;TZID=America/New_York:20250517T100000
DTEND;TZID=America/New_York:20250517T110000
DTSTAMP:20260424T191936
CREATED:20230524T161020Z
LAST-MODIFIED:20230524T161020Z
UID:10000874-1747476000-1747479600@fpcdarien.com
SUMMARY:Men's Bible Study
DESCRIPTION:
URL:https://fpcdarien.com/event/mens-bible-study/2025-05-17/
LOCATION:Adult Sunday School room
END:VEVENT
BEGIN:VEVENT
DTSTART;TZID=America/New_York:20250516T100000
DTEND;TZID=America/New_York:20250516T110000
DTSTAMP:20260424T191936
CREATED:20230524T205654Z
LAST-MODIFIED:20230524T205654Z
UID:10001055-1747389600-1747393200@fpcdarien.com
SUMMARY:Memory Matters
DESCRIPTION:
URL:https://fpcdarien.com/event/memory-matters/2025-05-16/
LOCATION:Education building
END:VEVENT
BEGIN:VEVENT
DTSTART;TZID=America/New_York:20250515T100000
DTEND;TZID=America/New_York:20250515T110000
DTSTAMP:20260424T191936
CREATED:20230525T140644Z
LAST-MODIFIED:20230525T140644Z
UID:10001437-1747303200-1747306800@fpcdarien.com
SUMMARY:Dorcas
DESCRIPTION:
URL:https://fpcdarien.com/event/dorcas/2025-05-15/
LOCATION:Fellowship Hall
END:VEVENT
BEGIN:VEVENT
DTSTART;TZID=America/New_York:20250513T110000
DTEND;TZID=America/New_York:20250513T120000
DTSTAMP:20260424T191936
CREATED:20230524T160321Z
LAST-MODIFIED:20230524T160849Z
UID:10000612-1747134000-1747137600@fpcdarien.com
SUMMARY:Women's Bible Study
DESCRIPTION:
URL:https://fpcdarien.com/event/womens-bible-study/2025-05-13/
LOCATION:Adult Sunday School room
END:VEVENT
BEGIN:VEVENT
DTSTART;TZID=America/New_York:20250512T113000
DTEND;TZID=America/New_York:20250512T123000
DTSTAMP:20260424T191936
CREATED:20230524T160020Z
LAST-MODIFIED:20230524T160124Z
UID:10000365-1747049400-1747053000@fpcdarien.com
SUMMARY:Al-Anon
DESCRIPTION:
URL:https://fpcdarien.com/event/al-anon-2/2025-05-12/
LOCATION:Education building
END:VEVENT
BEGIN:VEVENT
DTSTART;TZID=America/New_York:20250512T100000
DTEND;TZID=America/New_York:20250512T110000
DTSTAMP:20260424T191936
CREATED:20230525T140937Z
LAST-MODIFIED:20230525T140937Z
UID:10001557-1747044000-1747047600@fpcdarien.com
SUMMARY:Session
DESCRIPTION:
URL:https://fpcdarien.com/event/session/2025-05-12/
LOCATION:Adult Sunday School room
END:VEVENT
BEGIN:VEVENT
DTSTART;TZID=America/New_York:20250511T093000
DTEND;TZID=America/New_York:20250511T103000
DTSTAMP:20260424T191936
CREATED:20230525T135738Z
LAST-MODIFIED:20230525T135738Z
UID:10001194-1746955800-1746959400@fpcdarien.com
SUMMARY:Adult Sunday School
DESCRIPTION:
URL:https://fpcdarien.com/event/adult-sunday-school/2025-05-11/
LOCATION:Adult Sunday School room
END:VEVENT
BEGIN:VEVENT
DTSTART;TZID=America/New_York:20250510T100000
DTEND;TZID=America/New_York:20250510T140000
DTSTAMP:20260424T191936
CREATED:20230726T151626Z
LAST-MODIFIED:20230726T151626Z
UID:10001677-1746871200-1746885600@fpcdarien.com
SUMMARY:Second Saturday
DESCRIPTION:Join us for second Saturday in Darien!
URL:https://fpcdarien.com/event/second-saturday-2/2025-05-10/
LOCATION:Downtown Darien
END:VEVENT
BEGIN:VEVENT
DTSTART;TZID=America/New_York:20250510T100000
DTEND;TZID=America/New_York:20250510T110000
DTSTAMP:20260424T191936
CREATED:20230524T161020Z
LAST-MODIFIED:20230524T161020Z
UID:10000873-1746871200-1746874800@fpcdarien.com
SUMMARY:Men's Bible Study
DESCRIPTION:
URL:https://fpcdarien.com/event/mens-bible-study/2025-05-10/
LOCATION:Adult Sunday School room
END:VEVENT
BEGIN:VEVENT
DTSTART;TZID=America/New_York:20250506T110000
DTEND;TZID=America/New_York:20250506T120000
DTSTAMP:20260424T191936
CREATED:20230524T160321Z
LAST-MODIFIED:20230524T160849Z
UID:10000611-1746529200-1746532800@fpcdarien.com
SUMMARY:Women's Bible Study
DESCRIPTION:
URL:https://fpcdarien.com/event/womens-bible-study/2025-05-06/
LOCATION:Adult Sunday School room
END:VEVENT
BEGIN:VEVENT
DTSTART;TZID=America/New_York:20250505T113000
DTEND;TZID=America/New_York:20250505T123000
DTSTAMP:20260424T191936
CREATED:20230524T160020Z
LAST-MODIFIED:20230524T160124Z
UID:10000364-1746444600-1746448200@fpcdarien.com
SUMMARY:Al-Anon
DESCRIPTION:
URL:https://fpcdarien.com/event/al-anon-2/2025-05-05/
LOCATION:Education building
END:VEVENT
BEGIN:VEVENT
DTSTART;TZID=America/New_York:20250504T110000
DTEND;TZID=America/New_York:20250504T120000
DTSTAMP:20260424T191936
CREATED:20230525T135958Z
LAST-MODIFIED:20230525T135958Z
UID:10001376-1746356400-1746360000@fpcdarien.com
SUMMARY:Communion
DESCRIPTION:
URL:https://fpcdarien.com/event/communion/2025-05-04/
END:VEVENT
BEGIN:VEVENT
DTSTART;TZID=America/New_York:20250504T093000
DTEND;TZID=America/New_York:20250504T103000
DTSTAMP:20260424T191936
CREATED:20230525T135738Z
LAST-MODIFIED:20230525T135738Z
UID:10001193-1746351000-1746354600@fpcdarien.com
SUMMARY:Adult Sunday School
DESCRIPTION:
URL:https://fpcdarien.com/event/adult-sunday-school/2025-05-04/
LOCATION:Adult Sunday School room
END:VEVENT
BEGIN:VEVENT
DTSTART;TZID=America/New_York:20250503T100000
DTEND;TZID=America/New_York:20250503T110000
DTSTAMP:20260424T191936
CREATED:20230524T161020Z
LAST-MODIFIED:20230524T161020Z
UID:10000872-1746266400-1746270000@fpcdarien.com
SUMMARY:Men's Bible Study
DESCRIPTION:
URL:https://fpcdarien.com/event/mens-bible-study/2025-05-03/
LOCATION:Adult Sunday School room
END:VEVENT
BEGIN:VEVENT
DTSTART;TZID=America/New_York:20250429T110000
DTEND;TZID=America/New_York:20250429T120000
DTSTAMP:20260424T191936
CREATED:20230524T160321Z
LAST-MODIFIED:20230524T160849Z
UID:10000610-1745924400-1745928000@fpcdarien.com
SUMMARY:Women's Bible Study
DESCRIPTION:
URL:https://fpcdarien.com/event/womens-bible-study/2025-04-29/
LOCATION:Adult Sunday School room
END:VEVENT
BEGIN:VEVENT
DTSTART;TZID=America/New_York:20250428T113000
DTEND;TZID=America/New_York:20250428T123000
DTSTAMP:20260424T191936
CREATED:20230524T160020Z
LAST-MODIFIED:20230524T160124Z
UID:10000363-1745839800-1745843400@fpcdarien.com
SUMMARY:Al-Anon
DESCRIPTION:
URL:https://fpcdarien.com/event/al-anon-2/2025-04-28/
LOCATION:Education building
END:VEVENT
BEGIN:VEVENT
DTSTART;TZID=America/New_York:20250427T120000
DTEND;TZID=America/New_York:20250427T130000
DTSTAMP:20260424T191936
CREATED:20230525T141557Z
LAST-MODIFIED:20230525T141557Z
UID:10001618-1745755200-1745758800@fpcdarien.com
SUMMARY:Congregational Potluck Dinner
DESCRIPTION:
URL:https://fpcdarien.com/event/congregational-potluck-dinner/2025-04-27/
END:VEVENT
BEGIN:VEVENT
DTSTART;TZID=America/New_York:20250427T093000
DTEND;TZID=America/New_York:20250427T103000
DTSTAMP:20260424T191936
CREATED:20230525T135738Z
LAST-MODIFIED:20230525T135738Z
UID:10001192-1745746200-1745749800@fpcdarien.com
SUMMARY:Adult Sunday School
DESCRIPTION:
URL:https://fpcdarien.com/event/adult-sunday-school/2025-04-27/
LOCATION:Adult Sunday School room
END:VEVENT
BEGIN:VEVENT
DTSTART;TZID=America/New_York:20250426T100000
DTEND;TZID=America/New_York:20250426T110000
DTSTAMP:20260424T191936
CREATED:20230524T161020Z
LAST-MODIFIED:20230524T161020Z
UID:10000871-1745661600-1745665200@fpcdarien.com
SUMMARY:Men's Bible Study
DESCRIPTION:
URL:https://fpcdarien.com/event/mens-bible-study/2025-04-26/
LOCATION:Adult Sunday School room
END:VEVENT
BEGIN:VEVENT
DTSTART;TZID=America/New_York:20250422T110000
DTEND;TZID=America/New_York:20250422T120000
DTSTAMP:20260424T191936
CREATED:20230524T160321Z
LAST-MODIFIED:20230524T160849Z
UID:10000609-1745319600-1745323200@fpcdarien.com
SUMMARY:Women's Bible Study
DESCRIPTION:
URL:https://fpcdarien.com/event/womens-bible-study/2025-04-22/
LOCATION:Adult Sunday School room
END:VEVENT
BEGIN:VEVENT
DTSTART;TZID=America/New_York:20250421T113000
DTEND;TZID=America/New_York:20250421T123000
DTSTAMP:20260424T191936
CREATED:20230524T160020Z
LAST-MODIFIED:20230524T160124Z
UID:10000362-1745235000-1745238600@fpcdarien.com
SUMMARY:Al-Anon
DESCRIPTION:
URL:https://fpcdarien.com/event/al-anon-2/2025-04-21/
LOCATION:Education building
END:VEVENT
BEGIN:VEVENT
DTSTART;TZID=America/New_York:20250420T093000
DTEND;TZID=America/New_York:20250420T103000
DTSTAMP:20260424T191936
CREATED:20230525T135738Z
LAST-MODIFIED:20230525T135738Z
UID:10001191-1745141400-1745145000@fpcdarien.com
SUMMARY:Adult Sunday School
DESCRIPTION:
URL:https://fpcdarien.com/event/adult-sunday-school/2025-04-20/
LOCATION:Adult Sunday School room
END:VEVENT
BEGIN:VEVENT
DTSTART;TZID=America/New_York:20250419T100000
DTEND;TZID=America/New_York:20250419T110000
DTSTAMP:20260424T191936
CREATED:20230524T161020Z
LAST-MODIFIED:20230524T161020Z
UID:10000870-1745056800-1745060400@fpcdarien.com
SUMMARY:Men's Bible Study
DESCRIPTION:
URL:https://fpcdarien.com/event/mens-bible-study/2025-04-19/
LOCATION:Adult Sunday School room
END:VEVENT
END:VCALENDAR