BEGIN:VCALENDAR
VERSION:2.0
PRODID:-//First Presbyterian Church of Darien - ECPv6.15.20//NONSGML v1.0//EN
CALSCALE:GREGORIAN
METHOD:PUBLISH
X-WR-CALNAME:First Presbyterian Church of Darien
X-ORIGINAL-URL:https://fpcdarien.com
X-WR-CALDESC:Events for First Presbyterian Church of Darien
REFRESH-INTERVAL;VALUE=DURATION:PT1H
X-Robots-Tag:noindex
X-PUBLISHED-TTL:PT1H
BEGIN:VTIMEZONE
TZID:America/New_York
BEGIN:DAYLIGHT
TZOFFSETFROM:-0500
TZOFFSETTO:-0400
TZNAME:EDT
DTSTART:20260308T070000
END:DAYLIGHT
BEGIN:STANDARD
TZOFFSETFROM:-0400
TZOFFSETTO:-0500
TZNAME:EST
DTSTART:20261101T060000
END:STANDARD
BEGIN:DAYLIGHT
TZOFFSETFROM:-0500
TZOFFSETTO:-0400
TZNAME:EDT
DTSTART:20270314T070000
END:DAYLIGHT
BEGIN:STANDARD
TZOFFSETFROM:-0400
TZOFFSETTO:-0500
TZNAME:EST
DTSTART:20271107T060000
END:STANDARD
BEGIN:DAYLIGHT
TZOFFSETFROM:-0500
TZOFFSETTO:-0400
TZNAME:EDT
DTSTART:20280312T070000
END:DAYLIGHT
BEGIN:STANDARD
TZOFFSETFROM:-0400
TZOFFSETTO:-0500
TZNAME:EST
DTSTART:20281105T060000
END:STANDARD
END:VTIMEZONE
BEGIN:VEVENT
DTSTART;TZID=America/New_York:20270308T113000
DTEND;TZID=America/New_York:20270308T123000
DTSTAMP:20260424T123346
CREATED:20230524T160020Z
LAST-MODIFIED:20230524T160124Z
UID:10000460-1804505400-1804509000@fpcdarien.com
SUMMARY:Al-Anon
DESCRIPTION:
URL:https://fpcdarien.com/event/al-anon-2/2027-03-08/
LOCATION:Education building
END:VEVENT
BEGIN:VEVENT
DTSTART;TZID=America/New_York:20270310T110000
DTEND;TZID=America/New_York:20270310T120000
DTSTAMP:20260424T123346
CREATED:20260414T192812Z
LAST-MODIFIED:20260414T192812Z
UID:10001767-1804676400-1804680000@fpcdarien.com
SUMMARY:Women's Bible Study
DESCRIPTION:
URL:https://fpcdarien.com/event/womens-bible-study-2/2027-03-10/
LOCATION:Adult Sunday School room
END:VEVENT
BEGIN:VEVENT
DTSTART;TZID=America/New_York:20270313T100000
DTEND;TZID=America/New_York:20270313T110000
DTSTAMP:20260424T123346
CREATED:20230524T161020Z
LAST-MODIFIED:20230524T161020Z
UID:10000969-1804932000-1804935600@fpcdarien.com
SUMMARY:Men's Bible Study
DESCRIPTION:
URL:https://fpcdarien.com/event/mens-bible-study/2027-03-13/
LOCATION:Adult Sunday School room
END:VEVENT
BEGIN:VEVENT
DTSTART;TZID=America/New_York:20270313T100000
DTEND;TZID=America/New_York:20270313T140000
DTSTAMP:20260424T123346
CREATED:20230726T151626Z
LAST-MODIFIED:20230726T151626Z
UID:10001699-1804932000-1804946400@fpcdarien.com
SUMMARY:Second Saturday
DESCRIPTION:Join us for second Saturday in Darien!
URL:https://fpcdarien.com/event/second-saturday-2/2027-03-13/
LOCATION:Downtown Darien
END:VEVENT
BEGIN:VEVENT
DTSTART;TZID=America/New_York:20270314T093000
DTEND;TZID=America/New_York:20270314T103000
DTSTAMP:20260424T123346
CREATED:20230525T135738Z
LAST-MODIFIED:20230525T135738Z
UID:10001290-1805016600-1805020200@fpcdarien.com
SUMMARY:Adult Sunday School
DESCRIPTION:
URL:https://fpcdarien.com/event/adult-sunday-school/2027-03-14/
LOCATION:Adult Sunday School room
END:VEVENT
BEGIN:VEVENT
DTSTART;TZID=America/New_York:20270315T113000
DTEND;TZID=America/New_York:20270315T123000
DTSTAMP:20260424T123346
CREATED:20230524T160020Z
LAST-MODIFIED:20230524T160124Z
UID:10000461-1805110200-1805113800@fpcdarien.com
SUMMARY:Al-Anon
DESCRIPTION:
URL:https://fpcdarien.com/event/al-anon-2/2027-03-15/
LOCATION:Education building
END:VEVENT
BEGIN:VEVENT
DTSTART;TZID=America/New_York:20270317T110000
DTEND;TZID=America/New_York:20270317T120000
DTSTAMP:20260424T123346
CREATED:20260414T192812Z
LAST-MODIFIED:20260414T192812Z
UID:10001768-1805281200-1805284800@fpcdarien.com
SUMMARY:Women's Bible Study
DESCRIPTION:
URL:https://fpcdarien.com/event/womens-bible-study-2/2027-03-17/
LOCATION:Adult Sunday School room
END:VEVENT
BEGIN:VEVENT
DTSTART;TZID=America/New_York:20270317T124500
DTEND;TZID=America/New_York:20270317T134500
DTSTAMP:20260424T123346
CREATED:20230525T140835Z
LAST-MODIFIED:20230525T140835Z
UID:10001519-1805287500-1805291100@fpcdarien.com
SUMMARY:Ladies' Birthday Lunch Celebration
DESCRIPTION:
URL:https://fpcdarien.com/event/ladies-birthday-lunch-celebration/2027-03-17/
END:VEVENT
BEGIN:VEVENT
DTSTART;TZID=America/New_York:20270318T100000
DTEND;TZID=America/New_York:20270318T110000
DTSTAMP:20260424T123346
CREATED:20230525T140644Z
LAST-MODIFIED:20230525T140644Z
UID:10001459-1805364000-1805367600@fpcdarien.com
SUMMARY:Dorcas
DESCRIPTION:
URL:https://fpcdarien.com/event/dorcas/2027-03-18/
LOCATION:Fellowship Hall
END:VEVENT
BEGIN:VEVENT
DTSTART;TZID=America/New_York:20270319T100000
DTEND;TZID=America/New_York:20270319T110000
DTSTAMP:20260424T123346
CREATED:20230524T205654Z
LAST-MODIFIED:20230524T205654Z
UID:10001077-1805450400-1805454000@fpcdarien.com
SUMMARY:Memory Matters
DESCRIPTION:
URL:https://fpcdarien.com/event/memory-matters/2027-03-19/
LOCATION:Education building
END:VEVENT
BEGIN:VEVENT
DTSTART;TZID=America/New_York:20270320T100000
DTEND;TZID=America/New_York:20270320T110000
DTSTAMP:20260424T123346
CREATED:20230524T161020Z
LAST-MODIFIED:20230524T161020Z
UID:10000970-1805536800-1805540400@fpcdarien.com
SUMMARY:Men's Bible Study
DESCRIPTION:
URL:https://fpcdarien.com/event/mens-bible-study/2027-03-20/
LOCATION:Adult Sunday School room
END:VEVENT
BEGIN:VEVENT
DTSTART;TZID=America/New_York:20270321T093000
DTEND;TZID=America/New_York:20270321T103000
DTSTAMP:20260424T123346
CREATED:20230525T135738Z
LAST-MODIFIED:20230525T135738Z
UID:10001291-1805621400-1805625000@fpcdarien.com
SUMMARY:Adult Sunday School
DESCRIPTION:
URL:https://fpcdarien.com/event/adult-sunday-school/2027-03-21/
LOCATION:Adult Sunday School room
END:VEVENT
BEGIN:VEVENT
DTSTART;TZID=America/New_York:20270322T113000
DTEND;TZID=America/New_York:20270322T123000
DTSTAMP:20260424T123346
CREATED:20230524T160020Z
LAST-MODIFIED:20230524T160124Z
UID:10000462-1805715000-1805718600@fpcdarien.com
SUMMARY:Al-Anon
DESCRIPTION:
URL:https://fpcdarien.com/event/al-anon-2/2027-03-22/
LOCATION:Education building
END:VEVENT
BEGIN:VEVENT
DTSTART;TZID=America/New_York:20270324T110000
DTEND;TZID=America/New_York:20270324T120000
DTSTAMP:20260424T123346
CREATED:20260414T192812Z
LAST-MODIFIED:20260414T192812Z
UID:10001769-1805886000-1805889600@fpcdarien.com
SUMMARY:Women's Bible Study
DESCRIPTION:
URL:https://fpcdarien.com/event/womens-bible-study-2/2027-03-24/
LOCATION:Adult Sunday School room
END:VEVENT
BEGIN:VEVENT
DTSTART;TZID=America/New_York:20270327T100000
DTEND;TZID=America/New_York:20270327T110000
DTSTAMP:20260424T123346
CREATED:20230524T161020Z
LAST-MODIFIED:20230524T161020Z
UID:10000971-1806141600-1806145200@fpcdarien.com
SUMMARY:Men's Bible Study
DESCRIPTION:
URL:https://fpcdarien.com/event/mens-bible-study/2027-03-27/
LOCATION:Adult Sunday School room
END:VEVENT
BEGIN:VEVENT
DTSTART;TZID=America/New_York:20270328T093000
DTEND;TZID=America/New_York:20270328T103000
DTSTAMP:20260424T123346
CREATED:20230525T135738Z
LAST-MODIFIED:20230525T135738Z
UID:10001292-1806226200-1806229800@fpcdarien.com
SUMMARY:Adult Sunday School
DESCRIPTION:
URL:https://fpcdarien.com/event/adult-sunday-school/2027-03-28/
LOCATION:Adult Sunday School room
END:VEVENT
BEGIN:VEVENT
DTSTART;TZID=America/New_York:20270328T120000
DTEND;TZID=America/New_York:20270328T130000
DTSTAMP:20260424T123346
CREATED:20230525T141557Z
LAST-MODIFIED:20230525T141557Z
UID:10001641-1806235200-1806238800@fpcdarien.com
SUMMARY:Congregational Potluck Dinner
DESCRIPTION:
URL:https://fpcdarien.com/event/congregational-potluck-dinner/2027-03-28/
END:VEVENT
BEGIN:VEVENT
DTSTART;TZID=America/New_York:20270329T113000
DTEND;TZID=America/New_York:20270329T123000
DTSTAMP:20260424T123346
CREATED:20230524T160020Z
LAST-MODIFIED:20230524T160124Z
UID:10000463-1806319800-1806323400@fpcdarien.com
SUMMARY:Al-Anon
DESCRIPTION:
URL:https://fpcdarien.com/event/al-anon-2/2027-03-29/
LOCATION:Education building
END:VEVENT
BEGIN:VEVENT
DTSTART;TZID=America/New_York:20270331T110000
DTEND;TZID=America/New_York:20270331T120000
DTSTAMP:20260424T123346
CREATED:20260414T192812Z
LAST-MODIFIED:20260414T192812Z
UID:10001770-1806490800-1806494400@fpcdarien.com
SUMMARY:Women's Bible Study
DESCRIPTION:
URL:https://fpcdarien.com/event/womens-bible-study-2/2027-03-31/
LOCATION:Adult Sunday School room
END:VEVENT
BEGIN:VEVENT
DTSTART;TZID=America/New_York:20270403T100000
DTEND;TZID=America/New_York:20270403T110000
DTSTAMP:20260424T123346
CREATED:20230524T161020Z
LAST-MODIFIED:20230524T161020Z
UID:10000972-1806746400-1806750000@fpcdarien.com
SUMMARY:Men's Bible Study
DESCRIPTION:
URL:https://fpcdarien.com/event/mens-bible-study/2027-04-03/
LOCATION:Adult Sunday School room
END:VEVENT
BEGIN:VEVENT
DTSTART;TZID=America/New_York:20270404T093000
DTEND;TZID=America/New_York:20270404T103000
DTSTAMP:20260424T123346
CREATED:20230525T135738Z
LAST-MODIFIED:20230525T135738Z
UID:10001293-1806831000-1806834600@fpcdarien.com
SUMMARY:Adult Sunday School
DESCRIPTION:
URL:https://fpcdarien.com/event/adult-sunday-school/2027-04-04/
LOCATION:Adult Sunday School room
END:VEVENT
BEGIN:VEVENT
DTSTART;TZID=America/New_York:20270404T110000
DTEND;TZID=America/New_York:20270404T120000
DTSTAMP:20260424T123346
CREATED:20230525T135958Z
LAST-MODIFIED:20230525T135958Z
UID:10001399-1806836400-1806840000@fpcdarien.com
SUMMARY:Communion
DESCRIPTION:
URL:https://fpcdarien.com/event/communion/2027-04-04/
END:VEVENT
BEGIN:VEVENT
DTSTART;TZID=America/New_York:20270405T113000
DTEND;TZID=America/New_York:20270405T123000
DTSTAMP:20260424T123346
CREATED:20230524T160020Z
LAST-MODIFIED:20230524T160124Z
UID:10000464-1806924600-1806928200@fpcdarien.com
SUMMARY:Al-Anon
DESCRIPTION:
URL:https://fpcdarien.com/event/al-anon-2/2027-04-05/
LOCATION:Education building
END:VEVENT
BEGIN:VEVENT
DTSTART;TZID=America/New_York:20270407T110000
DTEND;TZID=America/New_York:20270407T120000
DTSTAMP:20260424T123346
CREATED:20260414T192812Z
LAST-MODIFIED:20260414T192812Z
UID:10001771-1807095600-1807099200@fpcdarien.com
SUMMARY:Women's Bible Study
DESCRIPTION:
URL:https://fpcdarien.com/event/womens-bible-study-2/2027-04-07/
LOCATION:Adult Sunday School room
END:VEVENT
BEGIN:VEVENT
DTSTART;TZID=America/New_York:20270410T100000
DTEND;TZID=America/New_York:20270410T110000
DTSTAMP:20260424T123346
CREATED:20230524T161020Z
LAST-MODIFIED:20230524T161020Z
UID:10000973-1807351200-1807354800@fpcdarien.com
SUMMARY:Men's Bible Study
DESCRIPTION:
URL:https://fpcdarien.com/event/mens-bible-study/2027-04-10/
LOCATION:Adult Sunday School room
END:VEVENT
BEGIN:VEVENT
DTSTART;TZID=America/New_York:20270411T093000
DTEND;TZID=America/New_York:20270411T103000
DTSTAMP:20260424T123346
CREATED:20230525T135738Z
LAST-MODIFIED:20230525T135738Z
UID:10001294-1807435800-1807439400@fpcdarien.com
SUMMARY:Adult Sunday School
DESCRIPTION:
URL:https://fpcdarien.com/event/adult-sunday-school/2027-04-11/
LOCATION:Adult Sunday School room
END:VEVENT
BEGIN:VEVENT
DTSTART;TZID=America/New_York:20270412T100000
DTEND;TZID=America/New_York:20270412T110000
DTSTAMP:20260424T123346
CREATED:20230525T140937Z
LAST-MODIFIED:20230525T140937Z
UID:10001580-1807524000-1807527600@fpcdarien.com
SUMMARY:Session
DESCRIPTION:
URL:https://fpcdarien.com/event/session/2027-04-12/
LOCATION:Adult Sunday School room
END:VEVENT
BEGIN:VEVENT
DTSTART;TZID=America/New_York:20270412T113000
DTEND;TZID=America/New_York:20270412T123000
DTSTAMP:20260424T123346
CREATED:20230524T160020Z
LAST-MODIFIED:20230524T160124Z
UID:10000465-1807529400-1807533000@fpcdarien.com
SUMMARY:Al-Anon
DESCRIPTION:
URL:https://fpcdarien.com/event/al-anon-2/2027-04-12/
LOCATION:Education building
END:VEVENT
BEGIN:VEVENT
DTSTART;TZID=America/New_York:20270414T110000
DTEND;TZID=America/New_York:20270414T120000
DTSTAMP:20260424T123346
CREATED:20260414T192812Z
LAST-MODIFIED:20260414T192812Z
UID:10001772-1807700400-1807704000@fpcdarien.com
SUMMARY:Women's Bible Study
DESCRIPTION:
URL:https://fpcdarien.com/event/womens-bible-study-2/2027-04-14/
LOCATION:Adult Sunday School room
END:VEVENT
BEGIN:VEVENT
DTSTART;TZID=America/New_York:20270415T100000
DTEND;TZID=America/New_York:20270415T110000
DTSTAMP:20260424T123346
CREATED:20230525T140644Z
LAST-MODIFIED:20230525T140644Z
UID:10001460-1807783200-1807786800@fpcdarien.com
SUMMARY:Dorcas
DESCRIPTION:
URL:https://fpcdarien.com/event/dorcas/2027-04-15/
LOCATION:Fellowship Hall
END:VEVENT
END:VCALENDAR