BEGIN:VCALENDAR
VERSION:2.0
PRODID:-//First Presbyterian Church of Darien - ECPv6.15.20//NONSGML v1.0//EN
CALSCALE:GREGORIAN
METHOD:PUBLISH
X-WR-CALNAME:First Presbyterian Church of Darien
X-ORIGINAL-URL:https://fpcdarien.com
X-WR-CALDESC:Events for First Presbyterian Church of Darien
REFRESH-INTERVAL;VALUE=DURATION:PT1H
X-Robots-Tag:noindex
X-PUBLISHED-TTL:PT1H
BEGIN:VTIMEZONE
TZID:America/New_York
BEGIN:DAYLIGHT
TZOFFSETFROM:-0500
TZOFFSETTO:-0400
TZNAME:EDT
DTSTART:20240310T070000
END:DAYLIGHT
BEGIN:STANDARD
TZOFFSETFROM:-0400
TZOFFSETTO:-0500
TZNAME:EST
DTSTART:20241103T060000
END:STANDARD
BEGIN:DAYLIGHT
TZOFFSETFROM:-0500
TZOFFSETTO:-0400
TZNAME:EDT
DTSTART:20250309T070000
END:DAYLIGHT
BEGIN:STANDARD
TZOFFSETFROM:-0400
TZOFFSETTO:-0500
TZNAME:EST
DTSTART:20251102T060000
END:STANDARD
BEGIN:DAYLIGHT
TZOFFSETFROM:-0500
TZOFFSETTO:-0400
TZNAME:EDT
DTSTART:20260308T070000
END:DAYLIGHT
BEGIN:STANDARD
TZOFFSETFROM:-0400
TZOFFSETTO:-0500
TZNAME:EST
DTSTART:20261101T060000
END:STANDARD
END:VTIMEZONE
BEGIN:VEVENT
DTSTART;TZID=America/New_York:20250701T110000
DTEND;TZID=America/New_York:20250701T120000
DTSTAMP:20260424T115302
CREATED:20230524T160321Z
LAST-MODIFIED:20230524T160849Z
UID:10000619-1751367600-1751371200@fpcdarien.com
SUMMARY:Women's Bible Study
DESCRIPTION:
URL:https://fpcdarien.com/event/womens-bible-study/2025-07-01/
LOCATION:Adult Sunday School room
END:VEVENT
BEGIN:VEVENT
DTSTART;TZID=America/New_York:20250630T113000
DTEND;TZID=America/New_York:20250630T123000
DTSTAMP:20260424T115302
CREATED:20230524T160020Z
LAST-MODIFIED:20230524T160124Z
UID:10000372-1751283000-1751286600@fpcdarien.com
SUMMARY:Al-Anon
DESCRIPTION:
URL:https://fpcdarien.com/event/al-anon-2/2025-06-30/
LOCATION:Education building
END:VEVENT
BEGIN:VEVENT
DTSTART;TZID=America/New_York:20250629T120000
DTEND;TZID=America/New_York:20250629T130000
DTSTAMP:20260424T115302
CREATED:20230525T141557Z
LAST-MODIFIED:20230525T141557Z
UID:10001620-1751198400-1751202000@fpcdarien.com
SUMMARY:Congregational Potluck Dinner
DESCRIPTION:
URL:https://fpcdarien.com/event/congregational-potluck-dinner/2025-06-29/
END:VEVENT
BEGIN:VEVENT
DTSTART;TZID=America/New_York:20250629T093000
DTEND;TZID=America/New_York:20250629T103000
DTSTAMP:20260424T115302
CREATED:20230525T135738Z
LAST-MODIFIED:20230525T135738Z
UID:10001201-1751189400-1751193000@fpcdarien.com
SUMMARY:Adult Sunday School
DESCRIPTION:
URL:https://fpcdarien.com/event/adult-sunday-school/2025-06-29/
LOCATION:Adult Sunday School room
END:VEVENT
BEGIN:VEVENT
DTSTART;TZID=America/New_York:20250628T100000
DTEND;TZID=America/New_York:20250628T110000
DTSTAMP:20260424T115302
CREATED:20230524T161020Z
LAST-MODIFIED:20230524T161020Z
UID:10000880-1751104800-1751108400@fpcdarien.com
SUMMARY:Men's Bible Study
DESCRIPTION:
URL:https://fpcdarien.com/event/mens-bible-study/2025-06-28/
LOCATION:Adult Sunday School room
END:VEVENT
BEGIN:VEVENT
DTSTART;TZID=America/New_York:20250624T110000
DTEND;TZID=America/New_York:20250624T120000
DTSTAMP:20260424T115302
CREATED:20230524T160321Z
LAST-MODIFIED:20230524T160849Z
UID:10000618-1750762800-1750766400@fpcdarien.com
SUMMARY:Women's Bible Study
DESCRIPTION:
URL:https://fpcdarien.com/event/womens-bible-study/2025-06-24/
LOCATION:Adult Sunday School room
END:VEVENT
BEGIN:VEVENT
DTSTART;TZID=America/New_York:20250623T113000
DTEND;TZID=America/New_York:20250623T123000
DTSTAMP:20260424T115302
CREATED:20230524T160020Z
LAST-MODIFIED:20230524T160124Z
UID:10000371-1750678200-1750681800@fpcdarien.com
SUMMARY:Al-Anon
DESCRIPTION:
URL:https://fpcdarien.com/event/al-anon-2/2025-06-23/
LOCATION:Education building
END:VEVENT
BEGIN:VEVENT
DTSTART;TZID=America/New_York:20250622T093000
DTEND;TZID=America/New_York:20250622T103000
DTSTAMP:20260424T115302
CREATED:20230525T135738Z
LAST-MODIFIED:20230525T135738Z
UID:10001200-1750584600-1750588200@fpcdarien.com
SUMMARY:Adult Sunday School
DESCRIPTION:
URL:https://fpcdarien.com/event/adult-sunday-school/2025-06-22/
LOCATION:Adult Sunday School room
END:VEVENT
BEGIN:VEVENT
DTSTART;TZID=America/New_York:20250621T100000
DTEND;TZID=America/New_York:20250621T110000
DTSTAMP:20260424T115302
CREATED:20230524T161020Z
LAST-MODIFIED:20230524T161020Z
UID:10000879-1750500000-1750503600@fpcdarien.com
SUMMARY:Men's Bible Study
DESCRIPTION:
URL:https://fpcdarien.com/event/mens-bible-study/2025-06-21/
LOCATION:Adult Sunday School room
END:VEVENT
BEGIN:VEVENT
DTSTART;TZID=America/New_York:20250620T100000
DTEND;TZID=America/New_York:20250620T110000
DTSTAMP:20260424T115302
CREATED:20230524T205654Z
LAST-MODIFIED:20230524T205654Z
UID:10001056-1750413600-1750417200@fpcdarien.com
SUMMARY:Memory Matters
DESCRIPTION:
URL:https://fpcdarien.com/event/memory-matters/2025-06-20/
LOCATION:Education building
END:VEVENT
BEGIN:VEVENT
DTSTART;TZID=America/New_York:20250619T100000
DTEND;TZID=America/New_York:20250619T110000
DTSTAMP:20260424T115302
CREATED:20230525T140644Z
LAST-MODIFIED:20230525T140644Z
UID:10001438-1750327200-1750330800@fpcdarien.com
SUMMARY:Dorcas
DESCRIPTION:
URL:https://fpcdarien.com/event/dorcas/2025-06-19/
LOCATION:Fellowship Hall
END:VEVENT
BEGIN:VEVENT
DTSTART;TZID=America/New_York:20250618T124500
DTEND;TZID=America/New_York:20250618T134500
DTSTAMP:20260424T115302
CREATED:20230525T140835Z
LAST-MODIFIED:20230525T140835Z
UID:10001498-1750250700-1750254300@fpcdarien.com
SUMMARY:Ladies' Birthday Lunch Celebration
DESCRIPTION:
URL:https://fpcdarien.com/event/ladies-birthday-lunch-celebration/2025-06-18/
END:VEVENT
BEGIN:VEVENT
DTSTART;TZID=America/New_York:20250617T110000
DTEND;TZID=America/New_York:20250617T120000
DTSTAMP:20260424T115302
CREATED:20230524T160321Z
LAST-MODIFIED:20230524T160849Z
UID:10000617-1750158000-1750161600@fpcdarien.com
SUMMARY:Women's Bible Study
DESCRIPTION:
URL:https://fpcdarien.com/event/womens-bible-study/2025-06-17/
LOCATION:Adult Sunday School room
END:VEVENT
BEGIN:VEVENT
DTSTART;TZID=America/New_York:20250616T113000
DTEND;TZID=America/New_York:20250616T123000
DTSTAMP:20260424T115302
CREATED:20230524T160020Z
LAST-MODIFIED:20230524T160124Z
UID:10000370-1750073400-1750077000@fpcdarien.com
SUMMARY:Al-Anon
DESCRIPTION:
URL:https://fpcdarien.com/event/al-anon-2/2025-06-16/
LOCATION:Education building
END:VEVENT
BEGIN:VEVENT
DTSTART;TZID=America/New_York:20250615T093000
DTEND;TZID=America/New_York:20250615T103000
DTSTAMP:20260424T115302
CREATED:20230525T135738Z
LAST-MODIFIED:20230525T135738Z
UID:10001199-1749979800-1749983400@fpcdarien.com
SUMMARY:Adult Sunday School
DESCRIPTION:
URL:https://fpcdarien.com/event/adult-sunday-school/2025-06-15/
LOCATION:Adult Sunday School room
END:VEVENT
BEGIN:VEVENT
DTSTART;TZID=America/New_York:20250614T100000
DTEND;TZID=America/New_York:20250614T110000
DTSTAMP:20260424T115302
CREATED:20230524T161020Z
LAST-MODIFIED:20230524T161020Z
UID:10000878-1749895200-1749898800@fpcdarien.com
SUMMARY:Men's Bible Study
DESCRIPTION:
URL:https://fpcdarien.com/event/mens-bible-study/2025-06-14/
LOCATION:Adult Sunday School room
END:VEVENT
BEGIN:VEVENT
DTSTART;TZID=America/New_York:20250610T110000
DTEND;TZID=America/New_York:20250610T120000
DTSTAMP:20260424T115302
CREATED:20230524T160321Z
LAST-MODIFIED:20230524T160849Z
UID:10000616-1749553200-1749556800@fpcdarien.com
SUMMARY:Women's Bible Study
DESCRIPTION:
URL:https://fpcdarien.com/event/womens-bible-study/2025-06-10/
LOCATION:Adult Sunday School room
END:VEVENT
BEGIN:VEVENT
DTSTART;TZID=America/New_York:20250609T113000
DTEND;TZID=America/New_York:20250609T123000
DTSTAMP:20260424T115302
CREATED:20230524T160020Z
LAST-MODIFIED:20230524T160124Z
UID:10000369-1749468600-1749472200@fpcdarien.com
SUMMARY:Al-Anon
DESCRIPTION:
URL:https://fpcdarien.com/event/al-anon-2/2025-06-09/
LOCATION:Education building
END:VEVENT
BEGIN:VEVENT
DTSTART;TZID=America/New_York:20250609T100000
DTEND;TZID=America/New_York:20250609T110000
DTSTAMP:20260424T115302
CREATED:20230525T140937Z
LAST-MODIFIED:20230525T140937Z
UID:10001558-1749463200-1749466800@fpcdarien.com
SUMMARY:Session
DESCRIPTION:
URL:https://fpcdarien.com/event/session/2025-06-09/
LOCATION:Adult Sunday School room
END:VEVENT
BEGIN:VEVENT
DTSTART;TZID=America/New_York:20250608T093000
DTEND;TZID=America/New_York:20250608T103000
DTSTAMP:20260424T115302
CREATED:20230525T135738Z
LAST-MODIFIED:20230525T135738Z
UID:10001198-1749375000-1749378600@fpcdarien.com
SUMMARY:Adult Sunday School
DESCRIPTION:
URL:https://fpcdarien.com/event/adult-sunday-school/2025-06-08/
LOCATION:Adult Sunday School room
END:VEVENT
BEGIN:VEVENT
DTSTART;TZID=America/New_York:20250607T100000
DTEND;TZID=America/New_York:20250607T110000
DTSTAMP:20260424T115302
CREATED:20230524T161020Z
LAST-MODIFIED:20230524T161020Z
UID:10000877-1749290400-1749294000@fpcdarien.com
SUMMARY:Men's Bible Study
DESCRIPTION:
URL:https://fpcdarien.com/event/mens-bible-study/2025-06-07/
LOCATION:Adult Sunday School room
END:VEVENT
BEGIN:VEVENT
DTSTART;TZID=America/New_York:20250603T110000
DTEND;TZID=America/New_York:20250603T120000
DTSTAMP:20260424T115302
CREATED:20230524T160321Z
LAST-MODIFIED:20230524T160849Z
UID:10000615-1748948400-1748952000@fpcdarien.com
SUMMARY:Women's Bible Study
DESCRIPTION:
URL:https://fpcdarien.com/event/womens-bible-study/2025-06-03/
LOCATION:Adult Sunday School room
END:VEVENT
BEGIN:VEVENT
DTSTART;TZID=America/New_York:20250602T113000
DTEND;TZID=America/New_York:20250602T123000
DTSTAMP:20260424T115302
CREATED:20230524T160020Z
LAST-MODIFIED:20230524T160124Z
UID:10000368-1748863800-1748867400@fpcdarien.com
SUMMARY:Al-Anon
DESCRIPTION:
URL:https://fpcdarien.com/event/al-anon-2/2025-06-02/
LOCATION:Education building
END:VEVENT
BEGIN:VEVENT
DTSTART;TZID=America/New_York:20250601T110000
DTEND;TZID=America/New_York:20250601T120000
DTSTAMP:20260424T115302
CREATED:20230525T135958Z
LAST-MODIFIED:20230525T135958Z
UID:10001377-1748775600-1748779200@fpcdarien.com
SUMMARY:Communion
DESCRIPTION:
URL:https://fpcdarien.com/event/communion/2025-06-01/
END:VEVENT
BEGIN:VEVENT
DTSTART;TZID=America/New_York:20250601T093000
DTEND;TZID=America/New_York:20250601T103000
DTSTAMP:20260424T115302
CREATED:20230525T135738Z
LAST-MODIFIED:20230525T135738Z
UID:10001197-1748770200-1748773800@fpcdarien.com
SUMMARY:Adult Sunday School
DESCRIPTION:
URL:https://fpcdarien.com/event/adult-sunday-school/2025-06-01/
LOCATION:Adult Sunday School room
END:VEVENT
BEGIN:VEVENT
DTSTART;TZID=America/New_York:20250531T100000
DTEND;TZID=America/New_York:20250531T110000
DTSTAMP:20260424T115302
CREATED:20230524T161020Z
LAST-MODIFIED:20230524T161020Z
UID:10000876-1748685600-1748689200@fpcdarien.com
SUMMARY:Men's Bible Study
DESCRIPTION:
URL:https://fpcdarien.com/event/mens-bible-study/2025-05-31/
LOCATION:Adult Sunday School room
END:VEVENT
BEGIN:VEVENT
DTSTART;TZID=America/New_York:20250527T110000
DTEND;TZID=America/New_York:20250527T120000
DTSTAMP:20260424T115302
CREATED:20230524T160321Z
LAST-MODIFIED:20230524T160849Z
UID:10000614-1748343600-1748347200@fpcdarien.com
SUMMARY:Women's Bible Study
DESCRIPTION:
URL:https://fpcdarien.com/event/womens-bible-study/2025-05-27/
LOCATION:Adult Sunday School room
END:VEVENT
BEGIN:VEVENT
DTSTART;TZID=America/New_York:20250526T113000
DTEND;TZID=America/New_York:20250526T123000
DTSTAMP:20260424T115302
CREATED:20230524T160020Z
LAST-MODIFIED:20230524T160124Z
UID:10000367-1748259000-1748262600@fpcdarien.com
SUMMARY:Al-Anon
DESCRIPTION:
URL:https://fpcdarien.com/event/al-anon-2/2025-05-26/
LOCATION:Education building
END:VEVENT
BEGIN:VEVENT
DTSTART;TZID=America/New_York:20250525T120000
DTEND;TZID=America/New_York:20250525T130000
DTSTAMP:20260424T115302
CREATED:20230525T141557Z
LAST-MODIFIED:20230525T141557Z
UID:10001619-1748174400-1748178000@fpcdarien.com
SUMMARY:Congregational Potluck Dinner
DESCRIPTION:
URL:https://fpcdarien.com/event/congregational-potluck-dinner/2025-05-25/
END:VEVENT
BEGIN:VEVENT
DTSTART;TZID=America/New_York:20250525T093000
DTEND;TZID=America/New_York:20250525T103000
DTSTAMP:20260424T115302
CREATED:20230525T135738Z
LAST-MODIFIED:20230525T135738Z
UID:10001196-1748165400-1748169000@fpcdarien.com
SUMMARY:Adult Sunday School
DESCRIPTION:
URL:https://fpcdarien.com/event/adult-sunday-school/2025-05-25/
LOCATION:Adult Sunday School room
END:VEVENT
END:VCALENDAR