BEGIN:VCALENDAR
VERSION:2.0
PRODID:-//First Presbyterian Church of Darien - ECPv6.15.20//NONSGML v1.0//EN
CALSCALE:GREGORIAN
METHOD:PUBLISH
X-ORIGINAL-URL:https://fpcdarien.com
X-WR-CALDESC:Events for First Presbyterian Church of Darien
REFRESH-INTERVAL;VALUE=DURATION:PT1H
X-Robots-Tag:noindex
X-PUBLISHED-TTL:PT1H
BEGIN:VTIMEZONE
TZID:America/New_York
BEGIN:DAYLIGHT
TZOFFSETFROM:-0500
TZOFFSETTO:-0400
TZNAME:EDT
DTSTART:20250309T070000
END:DAYLIGHT
BEGIN:STANDARD
TZOFFSETFROM:-0400
TZOFFSETTO:-0500
TZNAME:EST
DTSTART:20251102T060000
END:STANDARD
BEGIN:DAYLIGHT
TZOFFSETFROM:-0500
TZOFFSETTO:-0400
TZNAME:EDT
DTSTART:20260308T070000
END:DAYLIGHT
BEGIN:STANDARD
TZOFFSETFROM:-0400
TZOFFSETTO:-0500
TZNAME:EST
DTSTART:20261101T060000
END:STANDARD
BEGIN:DAYLIGHT
TZOFFSETFROM:-0500
TZOFFSETTO:-0400
TZNAME:EDT
DTSTART:20270314T070000
END:DAYLIGHT
BEGIN:STANDARD
TZOFFSETFROM:-0400
TZOFFSETTO:-0500
TZNAME:EST
DTSTART:20271107T060000
END:STANDARD
BEGIN:DAYLIGHT
TZOFFSETFROM:-0500
TZOFFSETTO:-0400
TZNAME:EDT
DTSTART:20280312T070000
END:DAYLIGHT
BEGIN:STANDARD
TZOFFSETFROM:-0400
TZOFFSETTO:-0500
TZNAME:EST
DTSTART:20281105T060000
END:STANDARD
END:VTIMEZONE
BEGIN:VEVENT
DTSTART;TZID=America/New_York:20261207T113000
DTEND;TZID=America/New_York:20261207T123000
DTSTAMP:20260424T025028
CREATED:20230524T160020Z
LAST-MODIFIED:20230524T160124Z
UID:10000447-1796643000-1796646600@fpcdarien.com
SUMMARY:Al-Anon
DESCRIPTION:
URL:https://fpcdarien.com/event/al-anon-2/2026-12-07/
LOCATION:Education building
END:VEVENT
BEGIN:VEVENT
DTSTART;TZID=America/New_York:20261209T110000
DTEND;TZID=America/New_York:20261209T120000
DTSTAMP:20260424T025028
CREATED:20260414T192812Z
LAST-MODIFIED:20260414T192812Z
UID:10001754-1796814000-1796817600@fpcdarien.com
SUMMARY:Women's Bible Study
DESCRIPTION:
URL:https://fpcdarien.com/event/womens-bible-study-2/2026-12-09/
LOCATION:Adult Sunday School room
END:VEVENT
BEGIN:VEVENT
DTSTART;TZID=America/New_York:20261212T100000
DTEND;TZID=America/New_York:20261212T110000
DTSTAMP:20260424T025028
CREATED:20230524T161020Z
LAST-MODIFIED:20230524T161020Z
UID:10000956-1797069600-1797073200@fpcdarien.com
SUMMARY:Men's Bible Study
DESCRIPTION:
URL:https://fpcdarien.com/event/mens-bible-study/2026-12-12/
LOCATION:Adult Sunday School room
END:VEVENT
BEGIN:VEVENT
DTSTART;TZID=America/New_York:20261213T093000
DTEND;TZID=America/New_York:20261213T103000
DTSTAMP:20260424T025028
CREATED:20230525T135738Z
LAST-MODIFIED:20230525T135738Z
UID:10001277-1797154200-1797157800@fpcdarien.com
SUMMARY:Adult Sunday School
DESCRIPTION:
URL:https://fpcdarien.com/event/adult-sunday-school/2026-12-13/
LOCATION:Adult Sunday School room
END:VEVENT
BEGIN:VEVENT
DTSTART;TZID=America/New_York:20261214T100000
DTEND;TZID=America/New_York:20261214T110000
DTSTAMP:20260424T025028
CREATED:20230525T140937Z
LAST-MODIFIED:20230525T140937Z
UID:10001576-1797242400-1797246000@fpcdarien.com
SUMMARY:Session
DESCRIPTION:
URL:https://fpcdarien.com/event/session/2026-12-14/
LOCATION:Adult Sunday School room
END:VEVENT
BEGIN:VEVENT
DTSTART;TZID=America/New_York:20261214T113000
DTEND;TZID=America/New_York:20261214T123000
DTSTAMP:20260424T025028
CREATED:20230524T160020Z
LAST-MODIFIED:20230524T160124Z
UID:10000448-1797247800-1797251400@fpcdarien.com
SUMMARY:Al-Anon
DESCRIPTION:
URL:https://fpcdarien.com/event/al-anon-2/2026-12-14/
LOCATION:Education building
END:VEVENT
BEGIN:VEVENT
DTSTART;TZID=America/New_York:20261216T110000
DTEND;TZID=America/New_York:20261216T120000
DTSTAMP:20260424T025028
CREATED:20260414T192812Z
LAST-MODIFIED:20260414T192812Z
UID:10001755-1797418800-1797422400@fpcdarien.com
SUMMARY:Women's Bible Study
DESCRIPTION:
URL:https://fpcdarien.com/event/womens-bible-study-2/2026-12-16/
LOCATION:Adult Sunday School room
END:VEVENT
BEGIN:VEVENT
DTSTART;TZID=America/New_York:20261216T124500
DTEND;TZID=America/New_York:20261216T134500
DTSTAMP:20260424T025028
CREATED:20230525T140835Z
LAST-MODIFIED:20230525T140835Z
UID:10001516-1797425100-1797428700@fpcdarien.com
SUMMARY:Ladies' Birthday Lunch Celebration
DESCRIPTION:
URL:https://fpcdarien.com/event/ladies-birthday-lunch-celebration/2026-12-16/
END:VEVENT
BEGIN:VEVENT
DTSTART;TZID=America/New_York:20261217T100000
DTEND;TZID=America/New_York:20261217T110000
DTSTAMP:20260424T025028
CREATED:20230525T140644Z
LAST-MODIFIED:20230525T140644Z
UID:10001456-1797501600-1797505200@fpcdarien.com
SUMMARY:Dorcas
DESCRIPTION:
URL:https://fpcdarien.com/event/dorcas/2026-12-17/
LOCATION:Fellowship Hall
END:VEVENT
BEGIN:VEVENT
DTSTART;TZID=America/New_York:20261218T100000
DTEND;TZID=America/New_York:20261218T110000
DTSTAMP:20260424T025028
CREATED:20230524T205654Z
LAST-MODIFIED:20230524T205654Z
UID:10001074-1797588000-1797591600@fpcdarien.com
SUMMARY:Memory Matters
DESCRIPTION:
URL:https://fpcdarien.com/event/memory-matters/2026-12-18/
LOCATION:Education building
END:VEVENT
BEGIN:VEVENT
DTSTART;TZID=America/New_York:20261219T100000
DTEND;TZID=America/New_York:20261219T110000
DTSTAMP:20260424T025028
CREATED:20230524T161020Z
LAST-MODIFIED:20230524T161020Z
UID:10000957-1797674400-1797678000@fpcdarien.com
SUMMARY:Men's Bible Study
DESCRIPTION:
URL:https://fpcdarien.com/event/mens-bible-study/2026-12-19/
LOCATION:Adult Sunday School room
END:VEVENT
BEGIN:VEVENT
DTSTART;TZID=America/New_York:20261220T093000
DTEND;TZID=America/New_York:20261220T103000
DTSTAMP:20260424T025028
CREATED:20230525T135738Z
LAST-MODIFIED:20230525T135738Z
UID:10001278-1797759000-1797762600@fpcdarien.com
SUMMARY:Adult Sunday School
DESCRIPTION:
URL:https://fpcdarien.com/event/adult-sunday-school/2026-12-20/
LOCATION:Adult Sunday School room
END:VEVENT
BEGIN:VEVENT
DTSTART;TZID=America/New_York:20261221T113000
DTEND;TZID=America/New_York:20261221T123000
DTSTAMP:20260424T025028
CREATED:20230524T160020Z
LAST-MODIFIED:20230524T160124Z
UID:10000449-1797852600-1797856200@fpcdarien.com
SUMMARY:Al-Anon
DESCRIPTION:
URL:https://fpcdarien.com/event/al-anon-2/2026-12-21/
LOCATION:Education building
END:VEVENT
BEGIN:VEVENT
DTSTART;TZID=America/New_York:20261223T110000
DTEND;TZID=America/New_York:20261223T120000
DTSTAMP:20260424T025028
CREATED:20260414T192812Z
LAST-MODIFIED:20260414T192812Z
UID:10001756-1798023600-1798027200@fpcdarien.com
SUMMARY:Women's Bible Study
DESCRIPTION:
URL:https://fpcdarien.com/event/womens-bible-study-2/2026-12-23/
LOCATION:Adult Sunday School room
END:VEVENT
BEGIN:VEVENT
DTSTART;TZID=America/New_York:20261226T100000
DTEND;TZID=America/New_York:20261226T110000
DTSTAMP:20260424T025028
CREATED:20230524T161020Z
LAST-MODIFIED:20230524T161020Z
UID:10000958-1798279200-1798282800@fpcdarien.com
SUMMARY:Men's Bible Study
DESCRIPTION:
URL:https://fpcdarien.com/event/mens-bible-study/2026-12-26/
LOCATION:Adult Sunday School room
END:VEVENT
BEGIN:VEVENT
DTSTART;TZID=America/New_York:20261227T093000
DTEND;TZID=America/New_York:20261227T103000
DTSTAMP:20260424T025028
CREATED:20230525T135738Z
LAST-MODIFIED:20230525T135738Z
UID:10001279-1798363800-1798367400@fpcdarien.com
SUMMARY:Adult Sunday School
DESCRIPTION:
URL:https://fpcdarien.com/event/adult-sunday-school/2026-12-27/
LOCATION:Adult Sunday School room
END:VEVENT
BEGIN:VEVENT
DTSTART;TZID=America/New_York:20261227T120000
DTEND;TZID=America/New_York:20261227T130000
DTSTAMP:20260424T025028
CREATED:20230525T141557Z
LAST-MODIFIED:20230525T141557Z
UID:10001638-1798372800-1798376400@fpcdarien.com
SUMMARY:Congregational Potluck Dinner
DESCRIPTION:
URL:https://fpcdarien.com/event/congregational-potluck-dinner/2026-12-27/
END:VEVENT
BEGIN:VEVENT
DTSTART;TZID=America/New_York:20261228T113000
DTEND;TZID=America/New_York:20261228T123000
DTSTAMP:20260424T025028
CREATED:20230524T160020Z
LAST-MODIFIED:20230524T160124Z
UID:10000450-1798457400-1798461000@fpcdarien.com
SUMMARY:Al-Anon
DESCRIPTION:
URL:https://fpcdarien.com/event/al-anon-2/2026-12-28/
LOCATION:Education building
END:VEVENT
BEGIN:VEVENT
DTSTART;TZID=America/New_York:20261230T110000
DTEND;TZID=America/New_York:20261230T120000
DTSTAMP:20260424T025028
CREATED:20260414T192812Z
LAST-MODIFIED:20260414T192812Z
UID:10001757-1798628400-1798632000@fpcdarien.com
SUMMARY:Women's Bible Study
DESCRIPTION:
URL:https://fpcdarien.com/event/womens-bible-study-2/2026-12-30/
LOCATION:Adult Sunday School room
END:VEVENT
BEGIN:VEVENT
DTSTART;TZID=America/New_York:20270102T100000
DTEND;TZID=America/New_York:20270102T110000
DTSTAMP:20260424T025028
CREATED:20230524T161020Z
LAST-MODIFIED:20230524T161020Z
UID:10000959-1798884000-1798887600@fpcdarien.com
SUMMARY:Men's Bible Study
DESCRIPTION:
URL:https://fpcdarien.com/event/mens-bible-study/2027-01-02/
LOCATION:Adult Sunday School room
END:VEVENT
BEGIN:VEVENT
DTSTART;TZID=America/New_York:20270103T093000
DTEND;TZID=America/New_York:20270103T103000
DTSTAMP:20260424T025028
CREATED:20230525T135738Z
LAST-MODIFIED:20230525T135738Z
UID:10001280-1798968600-1798972200@fpcdarien.com
SUMMARY:Adult Sunday School
DESCRIPTION:
URL:https://fpcdarien.com/event/adult-sunday-school/2027-01-03/
LOCATION:Adult Sunday School room
END:VEVENT
BEGIN:VEVENT
DTSTART;TZID=America/New_York:20270103T110000
DTEND;TZID=America/New_York:20270103T120000
DTSTAMP:20260424T025028
CREATED:20230525T135958Z
LAST-MODIFIED:20230525T135958Z
UID:10001396-1798974000-1798977600@fpcdarien.com
SUMMARY:Communion
DESCRIPTION:
URL:https://fpcdarien.com/event/communion/2027-01-03/
END:VEVENT
BEGIN:VEVENT
DTSTART;TZID=America/New_York:20270104T113000
DTEND;TZID=America/New_York:20270104T123000
DTSTAMP:20260424T025028
CREATED:20230524T160020Z
LAST-MODIFIED:20230524T160124Z
UID:10000451-1799062200-1799065800@fpcdarien.com
SUMMARY:Al-Anon
DESCRIPTION:
URL:https://fpcdarien.com/event/al-anon-2/2027-01-04/
LOCATION:Education building
END:VEVENT
BEGIN:VEVENT
DTSTART;TZID=America/New_York:20270106T110000
DTEND;TZID=America/New_York:20270106T120000
DTSTAMP:20260424T025028
CREATED:20260414T192812Z
LAST-MODIFIED:20260414T192812Z
UID:10001758-1799233200-1799236800@fpcdarien.com
SUMMARY:Women's Bible Study
DESCRIPTION:
URL:https://fpcdarien.com/event/womens-bible-study-2/2027-01-06/
LOCATION:Adult Sunday School room
END:VEVENT
BEGIN:VEVENT
DTSTART;TZID=America/New_York:20270109T100000
DTEND;TZID=America/New_York:20270109T110000
DTSTAMP:20260424T025028
CREATED:20230524T161020Z
LAST-MODIFIED:20230524T161020Z
UID:10000960-1799488800-1799492400@fpcdarien.com
SUMMARY:Men's Bible Study
DESCRIPTION:
URL:https://fpcdarien.com/event/mens-bible-study/2027-01-09/
LOCATION:Adult Sunday School room
END:VEVENT
BEGIN:VEVENT
DTSTART;TZID=America/New_York:20270109T100000
DTEND;TZID=America/New_York:20270109T140000
DTSTAMP:20260424T025028
CREATED:20230726T151626Z
LAST-MODIFIED:20230726T151626Z
UID:10001697-1799488800-1799503200@fpcdarien.com
SUMMARY:Second Saturday
DESCRIPTION:Join us for second Saturday in Darien!
URL:https://fpcdarien.com/event/second-saturday-2/2027-01-09/
LOCATION:Downtown Darien
END:VEVENT
BEGIN:VEVENT
DTSTART;TZID=America/New_York:20270110T093000
DTEND;TZID=America/New_York:20270110T103000
DTSTAMP:20260424T025028
CREATED:20230525T135738Z
LAST-MODIFIED:20230525T135738Z
UID:10001281-1799573400-1799577000@fpcdarien.com
SUMMARY:Adult Sunday School
DESCRIPTION:
URL:https://fpcdarien.com/event/adult-sunday-school/2027-01-10/
LOCATION:Adult Sunday School room
END:VEVENT
BEGIN:VEVENT
DTSTART;TZID=America/New_York:20270111T100000
DTEND;TZID=America/New_York:20270111T110000
DTSTAMP:20260424T025028
CREATED:20230525T140937Z
LAST-MODIFIED:20230525T140937Z
UID:10001577-1799661600-1799665200@fpcdarien.com
SUMMARY:Session
DESCRIPTION:
URL:https://fpcdarien.com/event/session/2027-01-11/
LOCATION:Adult Sunday School room
END:VEVENT
BEGIN:VEVENT
DTSTART;TZID=America/New_York:20270111T113000
DTEND;TZID=America/New_York:20270111T123000
DTSTAMP:20260424T025028
CREATED:20230524T160020Z
LAST-MODIFIED:20230524T160124Z
UID:10000452-1799667000-1799670600@fpcdarien.com
SUMMARY:Al-Anon
DESCRIPTION:
URL:https://fpcdarien.com/event/al-anon-2/2027-01-11/
LOCATION:Education building
END:VEVENT
BEGIN:VEVENT
DTSTART;TZID=America/New_York:20270113T110000
DTEND;TZID=America/New_York:20270113T120000
DTSTAMP:20260424T025028
CREATED:20260414T192812Z
LAST-MODIFIED:20260414T192812Z
UID:10001759-1799838000-1799841600@fpcdarien.com
SUMMARY:Women's Bible Study
DESCRIPTION:
URL:https://fpcdarien.com/event/womens-bible-study-2/2027-01-13/
LOCATION:Adult Sunday School room
END:VEVENT
END:VCALENDAR