BEGIN:VCALENDAR
VERSION:2.0
PRODID:-//First Presbyterian Church of Darien - ECPv6.15.20//NONSGML v1.0//EN
CALSCALE:GREGORIAN
METHOD:PUBLISH
X-WR-CALNAME:First Presbyterian Church of Darien
X-ORIGINAL-URL:https://fpcdarien.com
X-WR-CALDESC:Events for First Presbyterian Church of Darien
REFRESH-INTERVAL;VALUE=DURATION:PT1H
X-Robots-Tag:noindex
X-PUBLISHED-TTL:PT1H
BEGIN:VTIMEZONE
TZID:America/New_York
BEGIN:DAYLIGHT
TZOFFSETFROM:-0500
TZOFFSETTO:-0400
TZNAME:EDT
DTSTART:20240310T070000
END:DAYLIGHT
BEGIN:STANDARD
TZOFFSETFROM:-0400
TZOFFSETTO:-0500
TZNAME:EST
DTSTART:20241103T060000
END:STANDARD
BEGIN:DAYLIGHT
TZOFFSETFROM:-0500
TZOFFSETTO:-0400
TZNAME:EDT
DTSTART:20250309T070000
END:DAYLIGHT
BEGIN:STANDARD
TZOFFSETFROM:-0400
TZOFFSETTO:-0500
TZNAME:EST
DTSTART:20251102T060000
END:STANDARD
BEGIN:DAYLIGHT
TZOFFSETFROM:-0500
TZOFFSETTO:-0400
TZNAME:EDT
DTSTART:20260308T070000
END:DAYLIGHT
BEGIN:STANDARD
TZOFFSETFROM:-0400
TZOFFSETTO:-0500
TZNAME:EST
DTSTART:20261101T060000
END:STANDARD
END:VTIMEZONE
BEGIN:VEVENT
DTSTART;TZID=America/New_York:20250918T100000
DTEND;TZID=America/New_York:20250918T110000
DTSTAMP:20260424T061243
CREATED:20230525T140644Z
LAST-MODIFIED:20230525T140644Z
UID:10001441-1758189600-1758193200@fpcdarien.com
SUMMARY:Dorcas
DESCRIPTION:
URL:https://fpcdarien.com/event/dorcas/2025-09-18/
LOCATION:Fellowship Hall
END:VEVENT
BEGIN:VEVENT
DTSTART;TZID=America/New_York:20250917T124500
DTEND;TZID=America/New_York:20250917T134500
DTSTAMP:20260424T061243
CREATED:20230525T140835Z
LAST-MODIFIED:20230525T140835Z
UID:10001501-1758113100-1758116700@fpcdarien.com
SUMMARY:Ladies' Birthday Lunch Celebration
DESCRIPTION:
URL:https://fpcdarien.com/event/ladies-birthday-lunch-celebration/2025-09-17/
END:VEVENT
BEGIN:VEVENT
DTSTART;TZID=America/New_York:20250916T110000
DTEND;TZID=America/New_York:20250916T120000
DTSTAMP:20260424T061243
CREATED:20230524T160321Z
LAST-MODIFIED:20230524T160849Z
UID:10000630-1758020400-1758024000@fpcdarien.com
SUMMARY:Women's Bible Study
DESCRIPTION:
URL:https://fpcdarien.com/event/womens-bible-study/2025-09-16/
LOCATION:Adult Sunday School room
END:VEVENT
BEGIN:VEVENT
DTSTART;TZID=America/New_York:20250915T113000
DTEND;TZID=America/New_York:20250915T123000
DTSTAMP:20260424T061243
CREATED:20230524T160020Z
LAST-MODIFIED:20230524T160124Z
UID:10000383-1757935800-1757939400@fpcdarien.com
SUMMARY:Al-Anon
DESCRIPTION:
URL:https://fpcdarien.com/event/al-anon-2/2025-09-15/
LOCATION:Education building
END:VEVENT
BEGIN:VEVENT
DTSTART;TZID=America/New_York:20250914T093000
DTEND;TZID=America/New_York:20250914T103000
DTSTAMP:20260424T061243
CREATED:20230525T135738Z
LAST-MODIFIED:20230525T135738Z
UID:10001212-1757842200-1757845800@fpcdarien.com
SUMMARY:Adult Sunday School
DESCRIPTION:
URL:https://fpcdarien.com/event/adult-sunday-school/2025-09-14/
LOCATION:Adult Sunday School room
END:VEVENT
BEGIN:VEVENT
DTSTART;TZID=America/New_York:20250913T100000
DTEND;TZID=America/New_York:20250913T140000
DTSTAMP:20260424T061243
CREATED:20230726T151626Z
LAST-MODIFIED:20230726T151626Z
UID:10001681-1757757600-1757772000@fpcdarien.com
SUMMARY:Second Saturday
DESCRIPTION:Join us for second Saturday in Darien!
URL:https://fpcdarien.com/event/second-saturday-2/2025-09-13/
LOCATION:Downtown Darien
END:VEVENT
BEGIN:VEVENT
DTSTART;TZID=America/New_York:20250913T100000
DTEND;TZID=America/New_York:20250913T110000
DTSTAMP:20260424T061243
CREATED:20230524T161020Z
LAST-MODIFIED:20230524T161020Z
UID:10000891-1757757600-1757761200@fpcdarien.com
SUMMARY:Men's Bible Study
DESCRIPTION:
URL:https://fpcdarien.com/event/mens-bible-study/2025-09-13/
LOCATION:Adult Sunday School room
END:VEVENT
BEGIN:VEVENT
DTSTART;TZID=America/New_York:20250909T110000
DTEND;TZID=America/New_York:20250909T120000
DTSTAMP:20260424T061243
CREATED:20230524T160321Z
LAST-MODIFIED:20230524T160849Z
UID:10000629-1757415600-1757419200@fpcdarien.com
SUMMARY:Women's Bible Study
DESCRIPTION:
URL:https://fpcdarien.com/event/womens-bible-study/2025-09-09/
LOCATION:Adult Sunday School room
END:VEVENT
BEGIN:VEVENT
DTSTART;TZID=America/New_York:20250908T113000
DTEND;TZID=America/New_York:20250908T123000
DTSTAMP:20260424T061243
CREATED:20230524T160020Z
LAST-MODIFIED:20230524T160124Z
UID:10000382-1757331000-1757334600@fpcdarien.com
SUMMARY:Al-Anon
DESCRIPTION:
URL:https://fpcdarien.com/event/al-anon-2/2025-09-08/
LOCATION:Education building
END:VEVENT
BEGIN:VEVENT
DTSTART;TZID=America/New_York:20250908T100000
DTEND;TZID=America/New_York:20250908T110000
DTSTAMP:20260424T061243
CREATED:20230525T140937Z
LAST-MODIFIED:20230525T140937Z
UID:10001561-1757325600-1757329200@fpcdarien.com
SUMMARY:Session
DESCRIPTION:
URL:https://fpcdarien.com/event/session/2025-09-08/
LOCATION:Adult Sunday School room
END:VEVENT
BEGIN:VEVENT
DTSTART;TZID=America/New_York:20250907T110000
DTEND;TZID=America/New_York:20250907T120000
DTSTAMP:20260424T061243
CREATED:20230525T135958Z
LAST-MODIFIED:20230525T135958Z
UID:10001380-1757242800-1757246400@fpcdarien.com
SUMMARY:Communion
DESCRIPTION:
URL:https://fpcdarien.com/event/communion/2025-09-07/
END:VEVENT
BEGIN:VEVENT
DTSTART;TZID=America/New_York:20250907T093000
DTEND;TZID=America/New_York:20250907T103000
DTSTAMP:20260424T061243
CREATED:20230525T135738Z
LAST-MODIFIED:20230525T135738Z
UID:10001211-1757237400-1757241000@fpcdarien.com
SUMMARY:Adult Sunday School
DESCRIPTION:
URL:https://fpcdarien.com/event/adult-sunday-school/2025-09-07/
LOCATION:Adult Sunday School room
END:VEVENT
BEGIN:VEVENT
DTSTART;TZID=America/New_York:20250906T100000
DTEND;TZID=America/New_York:20250906T110000
DTSTAMP:20260424T061243
CREATED:20230524T161020Z
LAST-MODIFIED:20230524T161020Z
UID:10000890-1757152800-1757156400@fpcdarien.com
SUMMARY:Men's Bible Study
DESCRIPTION:
URL:https://fpcdarien.com/event/mens-bible-study/2025-09-06/
LOCATION:Adult Sunday School room
END:VEVENT
BEGIN:VEVENT
DTSTART;TZID=America/New_York:20250902T110000
DTEND;TZID=America/New_York:20250902T120000
DTSTAMP:20260424T061243
CREATED:20230524T160321Z
LAST-MODIFIED:20230524T160849Z
UID:10000628-1756810800-1756814400@fpcdarien.com
SUMMARY:Women's Bible Study
DESCRIPTION:
URL:https://fpcdarien.com/event/womens-bible-study/2025-09-02/
LOCATION:Adult Sunday School room
END:VEVENT
BEGIN:VEVENT
DTSTART;TZID=America/New_York:20250901T113000
DTEND;TZID=America/New_York:20250901T123000
DTSTAMP:20260424T061243
CREATED:20230524T160020Z
LAST-MODIFIED:20230524T160124Z
UID:10000381-1756726200-1756729800@fpcdarien.com
SUMMARY:Al-Anon
DESCRIPTION:
URL:https://fpcdarien.com/event/al-anon-2/2025-09-01/
LOCATION:Education building
END:VEVENT
BEGIN:VEVENT
DTSTART;TZID=America/New_York:20250831T120000
DTEND;TZID=America/New_York:20250831T130000
DTSTAMP:20260424T061243
CREATED:20230525T141557Z
LAST-MODIFIED:20230525T141557Z
UID:10001622-1756641600-1756645200@fpcdarien.com
SUMMARY:Congregational Potluck Dinner
DESCRIPTION:
URL:https://fpcdarien.com/event/congregational-potluck-dinner/2025-08-31/
END:VEVENT
BEGIN:VEVENT
DTSTART;TZID=America/New_York:20250831T093000
DTEND;TZID=America/New_York:20250831T103000
DTSTAMP:20260424T061243
CREATED:20230525T135738Z
LAST-MODIFIED:20230525T135738Z
UID:10001210-1756632600-1756636200@fpcdarien.com
SUMMARY:Adult Sunday School
DESCRIPTION:
URL:https://fpcdarien.com/event/adult-sunday-school/2025-08-31/
LOCATION:Adult Sunday School room
END:VEVENT
BEGIN:VEVENT
DTSTART;TZID=America/New_York:20250830T100000
DTEND;TZID=America/New_York:20250830T110000
DTSTAMP:20260424T061243
CREATED:20230524T161020Z
LAST-MODIFIED:20230524T161020Z
UID:10000889-1756548000-1756551600@fpcdarien.com
SUMMARY:Men's Bible Study
DESCRIPTION:
URL:https://fpcdarien.com/event/mens-bible-study/2025-08-30/
LOCATION:Adult Sunday School room
END:VEVENT
BEGIN:VEVENT
DTSTART;TZID=America/New_York:20250826T110000
DTEND;TZID=America/New_York:20250826T120000
DTSTAMP:20260424T061243
CREATED:20230524T160321Z
LAST-MODIFIED:20230524T160849Z
UID:10000627-1756206000-1756209600@fpcdarien.com
SUMMARY:Women's Bible Study
DESCRIPTION:
URL:https://fpcdarien.com/event/womens-bible-study/2025-08-26/
LOCATION:Adult Sunday School room
END:VEVENT
BEGIN:VEVENT
DTSTART;TZID=America/New_York:20250825T113000
DTEND;TZID=America/New_York:20250825T123000
DTSTAMP:20260424T061243
CREATED:20230524T160020Z
LAST-MODIFIED:20230524T160124Z
UID:10000380-1756121400-1756125000@fpcdarien.com
SUMMARY:Al-Anon
DESCRIPTION:
URL:https://fpcdarien.com/event/al-anon-2/2025-08-25/
LOCATION:Education building
END:VEVENT
BEGIN:VEVENT
DTSTART;TZID=America/New_York:20250824T093000
DTEND;TZID=America/New_York:20250824T103000
DTSTAMP:20260424T061243
CREATED:20230525T135738Z
LAST-MODIFIED:20230525T135738Z
UID:10001209-1756027800-1756031400@fpcdarien.com
SUMMARY:Adult Sunday School
DESCRIPTION:
URL:https://fpcdarien.com/event/adult-sunday-school/2025-08-24/
LOCATION:Adult Sunday School room
END:VEVENT
BEGIN:VEVENT
DTSTART;TZID=America/New_York:20250823T100000
DTEND;TZID=America/New_York:20250823T110000
DTSTAMP:20260424T061243
CREATED:20230524T161020Z
LAST-MODIFIED:20230524T161020Z
UID:10000888-1755943200-1755946800@fpcdarien.com
SUMMARY:Men's Bible Study
DESCRIPTION:
URL:https://fpcdarien.com/event/mens-bible-study/2025-08-23/
LOCATION:Adult Sunday School room
END:VEVENT
BEGIN:VEVENT
DTSTART;TZID=America/New_York:20250821T100000
DTEND;TZID=America/New_York:20250821T110000
DTSTAMP:20260424T061243
CREATED:20230525T140644Z
LAST-MODIFIED:20230525T140644Z
UID:10001440-1755770400-1755774000@fpcdarien.com
SUMMARY:Dorcas
DESCRIPTION:
URL:https://fpcdarien.com/event/dorcas/2025-08-21/
LOCATION:Fellowship Hall
END:VEVENT
BEGIN:VEVENT
DTSTART;TZID=America/New_York:20250820T124500
DTEND;TZID=America/New_York:20250820T134500
DTSTAMP:20260424T061243
CREATED:20230525T140835Z
LAST-MODIFIED:20230525T140835Z
UID:10001500-1755693900-1755697500@fpcdarien.com
SUMMARY:Ladies' Birthday Lunch Celebration
DESCRIPTION:
URL:https://fpcdarien.com/event/ladies-birthday-lunch-celebration/2025-08-20/
END:VEVENT
BEGIN:VEVENT
DTSTART;TZID=America/New_York:20250819T110000
DTEND;TZID=America/New_York:20250819T120000
DTSTAMP:20260424T061243
CREATED:20230524T160321Z
LAST-MODIFIED:20230524T160849Z
UID:10000626-1755601200-1755604800@fpcdarien.com
SUMMARY:Women's Bible Study
DESCRIPTION:
URL:https://fpcdarien.com/event/womens-bible-study/2025-08-19/
LOCATION:Adult Sunday School room
END:VEVENT
BEGIN:VEVENT
DTSTART;TZID=America/New_York:20250818T113000
DTEND;TZID=America/New_York:20250818T123000
DTSTAMP:20260424T061243
CREATED:20230524T160020Z
LAST-MODIFIED:20230524T160124Z
UID:10000379-1755516600-1755520200@fpcdarien.com
SUMMARY:Al-Anon
DESCRIPTION:
URL:https://fpcdarien.com/event/al-anon-2/2025-08-18/
LOCATION:Education building
END:VEVENT
BEGIN:VEVENT
DTSTART;TZID=America/New_York:20250817T093000
DTEND;TZID=America/New_York:20250817T103000
DTSTAMP:20260424T061243
CREATED:20230525T135738Z
LAST-MODIFIED:20230525T135738Z
UID:10001208-1755423000-1755426600@fpcdarien.com
SUMMARY:Adult Sunday School
DESCRIPTION:
URL:https://fpcdarien.com/event/adult-sunday-school/2025-08-17/
LOCATION:Adult Sunday School room
END:VEVENT
BEGIN:VEVENT
DTSTART;TZID=America/New_York:20250816T100000
DTEND;TZID=America/New_York:20250816T110000
DTSTAMP:20260424T061243
CREATED:20230524T161020Z
LAST-MODIFIED:20230524T161020Z
UID:10000887-1755338400-1755342000@fpcdarien.com
SUMMARY:Men's Bible Study
DESCRIPTION:
URL:https://fpcdarien.com/event/mens-bible-study/2025-08-16/
LOCATION:Adult Sunday School room
END:VEVENT
BEGIN:VEVENT
DTSTART;TZID=America/New_York:20250815T100000
DTEND;TZID=America/New_York:20250815T110000
DTSTAMP:20260424T061243
CREATED:20230524T205654Z
LAST-MODIFIED:20230524T205654Z
UID:10001058-1755252000-1755255600@fpcdarien.com
SUMMARY:Memory Matters
DESCRIPTION:
URL:https://fpcdarien.com/event/memory-matters/2025-08-15/
LOCATION:Education building
END:VEVENT
BEGIN:VEVENT
DTSTART;TZID=America/New_York:20250812T110000
DTEND;TZID=America/New_York:20250812T120000
DTSTAMP:20260424T061243
CREATED:20230524T160321Z
LAST-MODIFIED:20230524T160849Z
UID:10000625-1754996400-1755000000@fpcdarien.com
SUMMARY:Women's Bible Study
DESCRIPTION:
URL:https://fpcdarien.com/event/womens-bible-study/2025-08-12/
LOCATION:Adult Sunday School room
END:VEVENT
END:VCALENDAR