BEGIN:VCALENDAR
VERSION:2.0
PRODID:-//First Presbyterian Church of Darien - ECPv6.15.20//NONSGML v1.0//EN
CALSCALE:GREGORIAN
METHOD:PUBLISH
X-WR-CALNAME:First Presbyterian Church of Darien
X-ORIGINAL-URL:https://fpcdarien.com
X-WR-CALDESC:Events for First Presbyterian Church of Darien
REFRESH-INTERVAL;VALUE=DURATION:PT1H
X-Robots-Tag:noindex
X-PUBLISHED-TTL:PT1H
BEGIN:VTIMEZONE
TZID:America/New_York
BEGIN:DAYLIGHT
TZOFFSETFROM:-0500
TZOFFSETTO:-0400
TZNAME:EDT
DTSTART:20240310T070000
END:DAYLIGHT
BEGIN:STANDARD
TZOFFSETFROM:-0400
TZOFFSETTO:-0500
TZNAME:EST
DTSTART:20241103T060000
END:STANDARD
BEGIN:DAYLIGHT
TZOFFSETFROM:-0500
TZOFFSETTO:-0400
TZNAME:EDT
DTSTART:20250309T070000
END:DAYLIGHT
BEGIN:STANDARD
TZOFFSETFROM:-0400
TZOFFSETTO:-0500
TZNAME:EST
DTSTART:20251102T060000
END:STANDARD
BEGIN:DAYLIGHT
TZOFFSETFROM:-0500
TZOFFSETTO:-0400
TZNAME:EDT
DTSTART:20260308T070000
END:DAYLIGHT
BEGIN:STANDARD
TZOFFSETFROM:-0400
TZOFFSETTO:-0500
TZNAME:EST
DTSTART:20261101T060000
END:STANDARD
END:VTIMEZONE
BEGIN:VEVENT
DTSTART;TZID=America/New_York:20251109T093000
DTEND;TZID=America/New_York:20251109T103000
DTSTAMP:20260424T005043
CREATED:20230525T135738Z
LAST-MODIFIED:20230525T135738Z
UID:10001220-1762680600-1762684200@fpcdarien.com
SUMMARY:Adult Sunday School
DESCRIPTION:
URL:https://fpcdarien.com/event/adult-sunday-school/2025-11-09/
LOCATION:Adult Sunday School room
END:VEVENT
BEGIN:VEVENT
DTSTART;TZID=America/New_York:20251108T100000
DTEND;TZID=America/New_York:20251108T140000
DTSTAMP:20260424T005043
CREATED:20230726T151626Z
LAST-MODIFIED:20230726T151626Z
UID:10001683-1762596000-1762610400@fpcdarien.com
SUMMARY:Second Saturday
DESCRIPTION:Join us for second Saturday in Darien!
URL:https://fpcdarien.com/event/second-saturday-2/2025-11-08/
LOCATION:Downtown Darien
END:VEVENT
BEGIN:VEVENT
DTSTART;TZID=America/New_York:20251108T100000
DTEND;TZID=America/New_York:20251108T110000
DTSTAMP:20260424T005043
CREATED:20230524T161020Z
LAST-MODIFIED:20230524T161020Z
UID:10000899-1762596000-1762599600@fpcdarien.com
SUMMARY:Men's Bible Study
DESCRIPTION:
URL:https://fpcdarien.com/event/mens-bible-study/2025-11-08/
LOCATION:Adult Sunday School room
END:VEVENT
BEGIN:VEVENT
DTSTART;TZID=America/New_York:20251104T110000
DTEND;TZID=America/New_York:20251104T120000
DTSTAMP:20260424T005043
CREATED:20230524T160321Z
LAST-MODIFIED:20230524T160849Z
UID:10000637-1762254000-1762257600@fpcdarien.com
SUMMARY:Women's Bible Study
DESCRIPTION:
URL:https://fpcdarien.com/event/womens-bible-study/2025-11-04/
LOCATION:Adult Sunday School room
END:VEVENT
BEGIN:VEVENT
DTSTART;TZID=America/New_York:20251103T113000
DTEND;TZID=America/New_York:20251103T123000
DTSTAMP:20260424T005043
CREATED:20230524T160020Z
LAST-MODIFIED:20230524T160124Z
UID:10000390-1762169400-1762173000@fpcdarien.com
SUMMARY:Al-Anon
DESCRIPTION:
URL:https://fpcdarien.com/event/al-anon-2/2025-11-03/
LOCATION:Education building
END:VEVENT
BEGIN:VEVENT
DTSTART;TZID=America/New_York:20251102T110000
DTEND;TZID=America/New_York:20251102T120000
DTSTAMP:20260424T005043
CREATED:20230525T135958Z
LAST-MODIFIED:20230525T135958Z
UID:10001382-1762081200-1762084800@fpcdarien.com
SUMMARY:Communion
DESCRIPTION:
URL:https://fpcdarien.com/event/communion/2025-11-02/
END:VEVENT
BEGIN:VEVENT
DTSTART;TZID=America/New_York:20251102T093000
DTEND;TZID=America/New_York:20251102T103000
DTSTAMP:20260424T005043
CREATED:20230525T135738Z
LAST-MODIFIED:20230525T135738Z
UID:10001219-1762075800-1762079400@fpcdarien.com
SUMMARY:Adult Sunday School
DESCRIPTION:
URL:https://fpcdarien.com/event/adult-sunday-school/2025-11-02/
LOCATION:Adult Sunday School room
END:VEVENT
BEGIN:VEVENT
DTSTART;TZID=America/New_York:20251101T100000
DTEND;TZID=America/New_York:20251101T110000
DTSTAMP:20260424T005043
CREATED:20230524T161020Z
LAST-MODIFIED:20230524T161020Z
UID:10000898-1761991200-1761994800@fpcdarien.com
SUMMARY:Men's Bible Study
DESCRIPTION:
URL:https://fpcdarien.com/event/mens-bible-study/2025-11-01/
LOCATION:Adult Sunday School room
END:VEVENT
BEGIN:VEVENT
DTSTART;TZID=America/New_York:20251028T110000
DTEND;TZID=America/New_York:20251028T120000
DTSTAMP:20260424T005043
CREATED:20230524T160321Z
LAST-MODIFIED:20230524T160849Z
UID:10000636-1761649200-1761652800@fpcdarien.com
SUMMARY:Women's Bible Study
DESCRIPTION:
URL:https://fpcdarien.com/event/womens-bible-study/2025-10-28/
LOCATION:Adult Sunday School room
END:VEVENT
BEGIN:VEVENT
DTSTART;TZID=America/New_York:20251027T113000
DTEND;TZID=America/New_York:20251027T123000
DTSTAMP:20260424T005043
CREATED:20230524T160020Z
LAST-MODIFIED:20230524T160124Z
UID:10000389-1761564600-1761568200@fpcdarien.com
SUMMARY:Al-Anon
DESCRIPTION:
URL:https://fpcdarien.com/event/al-anon-2/2025-10-27/
LOCATION:Education building
END:VEVENT
BEGIN:VEVENT
DTSTART;TZID=America/New_York:20251026T120000
DTEND;TZID=America/New_York:20251026T130000
DTSTAMP:20260424T005043
CREATED:20230525T141557Z
LAST-MODIFIED:20230525T141557Z
UID:10001624-1761480000-1761483600@fpcdarien.com
SUMMARY:Congregational Potluck Dinner
DESCRIPTION:
URL:https://fpcdarien.com/event/congregational-potluck-dinner/2025-10-26/
END:VEVENT
BEGIN:VEVENT
DTSTART;TZID=America/New_York:20251026T093000
DTEND;TZID=America/New_York:20251026T103000
DTSTAMP:20260424T005043
CREATED:20230525T135738Z
LAST-MODIFIED:20230525T135738Z
UID:10001218-1761471000-1761474600@fpcdarien.com
SUMMARY:Adult Sunday School
DESCRIPTION:
URL:https://fpcdarien.com/event/adult-sunday-school/2025-10-26/
LOCATION:Adult Sunday School room
END:VEVENT
BEGIN:VEVENT
DTSTART;TZID=America/New_York:20251025T100000
DTEND;TZID=America/New_York:20251025T110000
DTSTAMP:20260424T005043
CREATED:20230524T161020Z
LAST-MODIFIED:20230524T161020Z
UID:10000897-1761386400-1761390000@fpcdarien.com
SUMMARY:Men's Bible Study
DESCRIPTION:
URL:https://fpcdarien.com/event/mens-bible-study/2025-10-25/
LOCATION:Adult Sunday School room
END:VEVENT
BEGIN:VEVENT
DTSTART;TZID=America/New_York:20251021T110000
DTEND;TZID=America/New_York:20251021T120000
DTSTAMP:20260424T005043
CREATED:20230524T160321Z
LAST-MODIFIED:20230524T160849Z
UID:10000635-1761044400-1761048000@fpcdarien.com
SUMMARY:Women's Bible Study
DESCRIPTION:
URL:https://fpcdarien.com/event/womens-bible-study/2025-10-21/
LOCATION:Adult Sunday School room
END:VEVENT
BEGIN:VEVENT
DTSTART;TZID=America/New_York:20251020T113000
DTEND;TZID=America/New_York:20251020T123000
DTSTAMP:20260424T005043
CREATED:20230524T160020Z
LAST-MODIFIED:20230524T160124Z
UID:10000388-1760959800-1760963400@fpcdarien.com
SUMMARY:Al-Anon
DESCRIPTION:
URL:https://fpcdarien.com/event/al-anon-2/2025-10-20/
LOCATION:Education building
END:VEVENT
BEGIN:VEVENT
DTSTART;TZID=America/New_York:20251019T093000
DTEND;TZID=America/New_York:20251019T103000
DTSTAMP:20260424T005043
CREATED:20230525T135738Z
LAST-MODIFIED:20230525T135738Z
UID:10001217-1760866200-1760869800@fpcdarien.com
SUMMARY:Adult Sunday School
DESCRIPTION:
URL:https://fpcdarien.com/event/adult-sunday-school/2025-10-19/
LOCATION:Adult Sunday School room
END:VEVENT
BEGIN:VEVENT
DTSTART;TZID=America/New_York:20251018T100000
DTEND;TZID=America/New_York:20251018T110000
DTSTAMP:20260424T005043
CREATED:20230524T161020Z
LAST-MODIFIED:20230524T161020Z
UID:10000896-1760781600-1760785200@fpcdarien.com
SUMMARY:Men's Bible Study
DESCRIPTION:
URL:https://fpcdarien.com/event/mens-bible-study/2025-10-18/
LOCATION:Adult Sunday School room
END:VEVENT
BEGIN:VEVENT
DTSTART;TZID=America/New_York:20251017T100000
DTEND;TZID=America/New_York:20251017T110000
DTSTAMP:20260424T005043
CREATED:20230524T205654Z
LAST-MODIFIED:20230524T205654Z
UID:10001060-1760695200-1760698800@fpcdarien.com
SUMMARY:Memory Matters
DESCRIPTION:
URL:https://fpcdarien.com/event/memory-matters/2025-10-17/
LOCATION:Education building
END:VEVENT
BEGIN:VEVENT
DTSTART;TZID=America/New_York:20251016T100000
DTEND;TZID=America/New_York:20251016T110000
DTSTAMP:20260424T005043
CREATED:20230525T140644Z
LAST-MODIFIED:20230525T140644Z
UID:10001442-1760608800-1760612400@fpcdarien.com
SUMMARY:Dorcas
DESCRIPTION:
URL:https://fpcdarien.com/event/dorcas/2025-10-16/
LOCATION:Fellowship Hall
END:VEVENT
BEGIN:VEVENT
DTSTART;TZID=America/New_York:20251015T124500
DTEND;TZID=America/New_York:20251015T134500
DTSTAMP:20260424T005043
CREATED:20230525T140835Z
LAST-MODIFIED:20230525T140835Z
UID:10001502-1760532300-1760535900@fpcdarien.com
SUMMARY:Ladies' Birthday Lunch Celebration
DESCRIPTION:
URL:https://fpcdarien.com/event/ladies-birthday-lunch-celebration/2025-10-15/
END:VEVENT
BEGIN:VEVENT
DTSTART;TZID=America/New_York:20251014T110000
DTEND;TZID=America/New_York:20251014T120000
DTSTAMP:20260424T005043
CREATED:20230524T160321Z
LAST-MODIFIED:20230524T160849Z
UID:10000634-1760439600-1760443200@fpcdarien.com
SUMMARY:Women's Bible Study
DESCRIPTION:
URL:https://fpcdarien.com/event/womens-bible-study/2025-10-14/
LOCATION:Adult Sunday School room
END:VEVENT
BEGIN:VEVENT
DTSTART;TZID=America/New_York:20251013T113000
DTEND;TZID=America/New_York:20251013T123000
DTSTAMP:20260424T005043
CREATED:20230524T160020Z
LAST-MODIFIED:20230524T160124Z
UID:10000387-1760355000-1760358600@fpcdarien.com
SUMMARY:Al-Anon
DESCRIPTION:
URL:https://fpcdarien.com/event/al-anon-2/2025-10-13/
LOCATION:Education building
END:VEVENT
BEGIN:VEVENT
DTSTART;TZID=America/New_York:20251013T100000
DTEND;TZID=America/New_York:20251013T110000
DTSTAMP:20260424T005043
CREATED:20230525T140937Z
LAST-MODIFIED:20230525T140937Z
UID:10001562-1760349600-1760353200@fpcdarien.com
SUMMARY:Session
DESCRIPTION:
URL:https://fpcdarien.com/event/session/2025-10-13/
LOCATION:Adult Sunday School room
END:VEVENT
BEGIN:VEVENT
DTSTART;TZID=America/New_York:20251012T093000
DTEND;TZID=America/New_York:20251012T103000
DTSTAMP:20260424T005043
CREATED:20230525T135738Z
LAST-MODIFIED:20230525T135738Z
UID:10001216-1760261400-1760265000@fpcdarien.com
SUMMARY:Adult Sunday School
DESCRIPTION:
URL:https://fpcdarien.com/event/adult-sunday-school/2025-10-12/
LOCATION:Adult Sunday School room
END:VEVENT
BEGIN:VEVENT
DTSTART;TZID=America/New_York:20251011T100000
DTEND;TZID=America/New_York:20251011T110000
DTSTAMP:20260424T005043
CREATED:20230524T161020Z
LAST-MODIFIED:20230524T161020Z
UID:10000895-1760176800-1760180400@fpcdarien.com
SUMMARY:Men's Bible Study
DESCRIPTION:
URL:https://fpcdarien.com/event/mens-bible-study/2025-10-11/
LOCATION:Adult Sunday School room
END:VEVENT
BEGIN:VEVENT
DTSTART;TZID=America/New_York:20251007T110000
DTEND;TZID=America/New_York:20251007T120000
DTSTAMP:20260424T005043
CREATED:20230524T160321Z
LAST-MODIFIED:20230524T160849Z
UID:10000633-1759834800-1759838400@fpcdarien.com
SUMMARY:Women's Bible Study
DESCRIPTION:
URL:https://fpcdarien.com/event/womens-bible-study/2025-10-07/
LOCATION:Adult Sunday School room
END:VEVENT
BEGIN:VEVENT
DTSTART;TZID=America/New_York:20251006T113000
DTEND;TZID=America/New_York:20251006T123000
DTSTAMP:20260424T005043
CREATED:20230524T160020Z
LAST-MODIFIED:20230524T160124Z
UID:10000386-1759750200-1759753800@fpcdarien.com
SUMMARY:Al-Anon
DESCRIPTION:
URL:https://fpcdarien.com/event/al-anon-2/2025-10-06/
LOCATION:Education building
END:VEVENT
BEGIN:VEVENT
DTSTART;TZID=America/New_York:20251005T110000
DTEND;TZID=America/New_York:20251005T120000
DTSTAMP:20260424T005043
CREATED:20230525T135958Z
LAST-MODIFIED:20230525T135958Z
UID:10001381-1759662000-1759665600@fpcdarien.com
SUMMARY:Communion
DESCRIPTION:
URL:https://fpcdarien.com/event/communion/2025-10-05/
END:VEVENT
BEGIN:VEVENT
DTSTART;TZID=America/New_York:20251005T093000
DTEND;TZID=America/New_York:20251005T103000
DTSTAMP:20260424T005043
CREATED:20230525T135738Z
LAST-MODIFIED:20230525T135738Z
UID:10001215-1759656600-1759660200@fpcdarien.com
SUMMARY:Adult Sunday School
DESCRIPTION:
URL:https://fpcdarien.com/event/adult-sunday-school/2025-10-05/
LOCATION:Adult Sunday School room
END:VEVENT
BEGIN:VEVENT
DTSTART;TZID=America/New_York:20251004T100000
DTEND;TZID=America/New_York:20251004T110000
DTSTAMP:20260424T005044
CREATED:20230524T161020Z
LAST-MODIFIED:20230524T161020Z
UID:10000894-1759572000-1759575600@fpcdarien.com
SUMMARY:Men's Bible Study
DESCRIPTION:
URL:https://fpcdarien.com/event/mens-bible-study/2025-10-04/
LOCATION:Adult Sunday School room
END:VEVENT
END:VCALENDAR