BEGIN:VCALENDAR
VERSION:2.0
PRODID:-//First Presbyterian Church of Darien - ECPv6.15.20//NONSGML v1.0//EN
CALSCALE:GREGORIAN
METHOD:PUBLISH
X-WR-CALNAME:First Presbyterian Church of Darien
X-ORIGINAL-URL:https://fpcdarien.com
X-WR-CALDESC:Events for First Presbyterian Church of Darien
REFRESH-INTERVAL;VALUE=DURATION:PT1H
X-Robots-Tag:noindex
X-PUBLISHED-TTL:PT1H
BEGIN:VTIMEZONE
TZID:America/New_York
BEGIN:DAYLIGHT
TZOFFSETFROM:-0500
TZOFFSETTO:-0400
TZNAME:EDT
DTSTART:20250309T070000
END:DAYLIGHT
BEGIN:STANDARD
TZOFFSETFROM:-0400
TZOFFSETTO:-0500
TZNAME:EST
DTSTART:20251102T060000
END:STANDARD
BEGIN:DAYLIGHT
TZOFFSETFROM:-0500
TZOFFSETTO:-0400
TZNAME:EDT
DTSTART:20260308T070000
END:DAYLIGHT
BEGIN:STANDARD
TZOFFSETFROM:-0400
TZOFFSETTO:-0500
TZNAME:EST
DTSTART:20261101T060000
END:STANDARD
BEGIN:DAYLIGHT
TZOFFSETFROM:-0500
TZOFFSETTO:-0400
TZNAME:EDT
DTSTART:20270314T070000
END:DAYLIGHT
BEGIN:STANDARD
TZOFFSETFROM:-0400
TZOFFSETTO:-0500
TZNAME:EST
DTSTART:20271107T060000
END:STANDARD
END:VTIMEZONE
BEGIN:VEVENT
DTSTART;TZID=America/New_York:20260913T093000
DTEND;TZID=America/New_York:20260913T103000
DTSTAMP:20260423T183131
CREATED:20230525T135738Z
LAST-MODIFIED:20230525T135738Z
UID:10001264-1789291800-1789295400@fpcdarien.com
SUMMARY:Adult Sunday School
DESCRIPTION:
URL:https://fpcdarien.com/event/adult-sunday-school/2026-09-13/
LOCATION:Adult Sunday School room
END:VEVENT
BEGIN:VEVENT
DTSTART;TZID=America/New_York:20260914T100000
DTEND;TZID=America/New_York:20260914T110000
DTSTAMP:20260423T183131
CREATED:20230525T140937Z
LAST-MODIFIED:20230525T140937Z
UID:10001573-1789380000-1789383600@fpcdarien.com
SUMMARY:Session
DESCRIPTION:
URL:https://fpcdarien.com/event/session/2026-09-14/
LOCATION:Adult Sunday School room
END:VEVENT
BEGIN:VEVENT
DTSTART;TZID=America/New_York:20260914T113000
DTEND;TZID=America/New_York:20260914T123000
DTSTAMP:20260423T183131
CREATED:20230524T160020Z
LAST-MODIFIED:20230524T160124Z
UID:10000435-1789385400-1789389000@fpcdarien.com
SUMMARY:Al-Anon
DESCRIPTION:
URL:https://fpcdarien.com/event/al-anon-2/2026-09-14/
LOCATION:Education building
END:VEVENT
BEGIN:VEVENT
DTSTART;TZID=America/New_York:20260916T110000
DTEND;TZID=America/New_York:20260916T120000
DTSTAMP:20260423T183131
CREATED:20260414T192812Z
LAST-MODIFIED:20260414T192812Z
UID:10001742-1789556400-1789560000@fpcdarien.com
SUMMARY:Women's Bible Study
DESCRIPTION:
URL:https://fpcdarien.com/event/womens-bible-study-2/2026-09-16/
LOCATION:Adult Sunday School room
END:VEVENT
BEGIN:VEVENT
DTSTART;TZID=America/New_York:20260916T124500
DTEND;TZID=America/New_York:20260916T134500
DTSTAMP:20260423T183131
CREATED:20230525T140835Z
LAST-MODIFIED:20230525T140835Z
UID:10001513-1789562700-1789566300@fpcdarien.com
SUMMARY:Ladies' Birthday Lunch Celebration
DESCRIPTION:
URL:https://fpcdarien.com/event/ladies-birthday-lunch-celebration/2026-09-16/
END:VEVENT
BEGIN:VEVENT
DTSTART;TZID=America/New_York:20260917T100000
DTEND;TZID=America/New_York:20260917T110000
DTSTAMP:20260423T183131
CREATED:20230525T140644Z
LAST-MODIFIED:20230525T140644Z
UID:10001453-1789639200-1789642800@fpcdarien.com
SUMMARY:Dorcas
DESCRIPTION:
URL:https://fpcdarien.com/event/dorcas/2026-09-17/
LOCATION:Fellowship Hall
END:VEVENT
BEGIN:VEVENT
DTSTART;TZID=America/New_York:20260918T100000
DTEND;TZID=America/New_York:20260918T110000
DTSTAMP:20260423T183131
CREATED:20230524T205654Z
LAST-MODIFIED:20230524T205654Z
UID:10001071-1789725600-1789729200@fpcdarien.com
SUMMARY:Memory Matters
DESCRIPTION:
URL:https://fpcdarien.com/event/memory-matters/2026-09-18/
LOCATION:Education building
END:VEVENT
BEGIN:VEVENT
DTSTART;TZID=America/New_York:20260919T100000
DTEND;TZID=America/New_York:20260919T110000
DTSTAMP:20260423T183131
CREATED:20230524T161020Z
LAST-MODIFIED:20230524T161020Z
UID:10000944-1789812000-1789815600@fpcdarien.com
SUMMARY:Men's Bible Study
DESCRIPTION:
URL:https://fpcdarien.com/event/mens-bible-study/2026-09-19/
LOCATION:Adult Sunday School room
END:VEVENT
BEGIN:VEVENT
DTSTART;TZID=America/New_York:20260920T093000
DTEND;TZID=America/New_York:20260920T103000
DTSTAMP:20260423T183131
CREATED:20230525T135738Z
LAST-MODIFIED:20230525T135738Z
UID:10001265-1789896600-1789900200@fpcdarien.com
SUMMARY:Adult Sunday School
DESCRIPTION:
URL:https://fpcdarien.com/event/adult-sunday-school/2026-09-20/
LOCATION:Adult Sunday School room
END:VEVENT
BEGIN:VEVENT
DTSTART;TZID=America/New_York:20260921T113000
DTEND;TZID=America/New_York:20260921T123000
DTSTAMP:20260423T183131
CREATED:20230524T160020Z
LAST-MODIFIED:20230524T160124Z
UID:10000436-1789990200-1789993800@fpcdarien.com
SUMMARY:Al-Anon
DESCRIPTION:
URL:https://fpcdarien.com/event/al-anon-2/2026-09-21/
LOCATION:Education building
END:VEVENT
BEGIN:VEVENT
DTSTART;TZID=America/New_York:20260923T110000
DTEND;TZID=America/New_York:20260923T120000
DTSTAMP:20260423T183131
CREATED:20260414T192812Z
LAST-MODIFIED:20260414T192812Z
UID:10001743-1790161200-1790164800@fpcdarien.com
SUMMARY:Women's Bible Study
DESCRIPTION:
URL:https://fpcdarien.com/event/womens-bible-study-2/2026-09-23/
LOCATION:Adult Sunday School room
END:VEVENT
BEGIN:VEVENT
DTSTART;TZID=America/New_York:20260926T100000
DTEND;TZID=America/New_York:20260926T110000
DTSTAMP:20260423T183131
CREATED:20230524T161020Z
LAST-MODIFIED:20230524T161020Z
UID:10000945-1790416800-1790420400@fpcdarien.com
SUMMARY:Men's Bible Study
DESCRIPTION:
URL:https://fpcdarien.com/event/mens-bible-study/2026-09-26/
LOCATION:Adult Sunday School room
END:VEVENT
BEGIN:VEVENT
DTSTART;TZID=America/New_York:20260927T093000
DTEND;TZID=America/New_York:20260927T103000
DTSTAMP:20260423T183131
CREATED:20230525T135738Z
LAST-MODIFIED:20230525T135738Z
UID:10001266-1790501400-1790505000@fpcdarien.com
SUMMARY:Adult Sunday School
DESCRIPTION:
URL:https://fpcdarien.com/event/adult-sunday-school/2026-09-27/
LOCATION:Adult Sunday School room
END:VEVENT
BEGIN:VEVENT
DTSTART;TZID=America/New_York:20260927T120000
DTEND;TZID=America/New_York:20260927T130000
DTSTAMP:20260423T183131
CREATED:20230525T141557Z
LAST-MODIFIED:20230525T141557Z
UID:10001635-1790510400-1790514000@fpcdarien.com
SUMMARY:Congregational Potluck Dinner
DESCRIPTION:
URL:https://fpcdarien.com/event/congregational-potluck-dinner/2026-09-27/
END:VEVENT
BEGIN:VEVENT
DTSTART;TZID=America/New_York:20260928T113000
DTEND;TZID=America/New_York:20260928T123000
DTSTAMP:20260423T183131
CREATED:20230524T160020Z
LAST-MODIFIED:20230524T160124Z
UID:10000437-1790595000-1790598600@fpcdarien.com
SUMMARY:Al-Anon
DESCRIPTION:
URL:https://fpcdarien.com/event/al-anon-2/2026-09-28/
LOCATION:Education building
END:VEVENT
BEGIN:VEVENT
DTSTART;TZID=America/New_York:20260930T110000
DTEND;TZID=America/New_York:20260930T120000
DTSTAMP:20260423T183131
CREATED:20260414T192812Z
LAST-MODIFIED:20260414T192812Z
UID:10001744-1790766000-1790769600@fpcdarien.com
SUMMARY:Women's Bible Study
DESCRIPTION:
URL:https://fpcdarien.com/event/womens-bible-study-2/2026-09-30/
LOCATION:Adult Sunday School room
END:VEVENT
BEGIN:VEVENT
DTSTART;TZID=America/New_York:20261003T100000
DTEND;TZID=America/New_York:20261003T110000
DTSTAMP:20260423T183131
CREATED:20230524T161020Z
LAST-MODIFIED:20230524T161020Z
UID:10000946-1791021600-1791025200@fpcdarien.com
SUMMARY:Men's Bible Study
DESCRIPTION:
URL:https://fpcdarien.com/event/mens-bible-study/2026-10-03/
LOCATION:Adult Sunday School room
END:VEVENT
BEGIN:VEVENT
DTSTART;TZID=America/New_York:20261004T093000
DTEND;TZID=America/New_York:20261004T103000
DTSTAMP:20260423T183131
CREATED:20230525T135738Z
LAST-MODIFIED:20230525T135738Z
UID:10001267-1791106200-1791109800@fpcdarien.com
SUMMARY:Adult Sunday School
DESCRIPTION:
URL:https://fpcdarien.com/event/adult-sunday-school/2026-10-04/
LOCATION:Adult Sunday School room
END:VEVENT
BEGIN:VEVENT
DTSTART;TZID=America/New_York:20261004T110000
DTEND;TZID=America/New_York:20261004T120000
DTSTAMP:20260423T183131
CREATED:20230525T135958Z
LAST-MODIFIED:20230525T135958Z
UID:10001393-1791111600-1791115200@fpcdarien.com
SUMMARY:Communion
DESCRIPTION:
URL:https://fpcdarien.com/event/communion/2026-10-04/
END:VEVENT
BEGIN:VEVENT
DTSTART;TZID=America/New_York:20261005T113000
DTEND;TZID=America/New_York:20261005T123000
DTSTAMP:20260423T183131
CREATED:20230524T160020Z
LAST-MODIFIED:20230524T160124Z
UID:10000438-1791199800-1791203400@fpcdarien.com
SUMMARY:Al-Anon
DESCRIPTION:
URL:https://fpcdarien.com/event/al-anon-2/2026-10-05/
LOCATION:Education building
END:VEVENT
BEGIN:VEVENT
DTSTART;TZID=America/New_York:20261007T110000
DTEND;TZID=America/New_York:20261007T120000
DTSTAMP:20260423T183131
CREATED:20260414T192812Z
LAST-MODIFIED:20260414T192812Z
UID:10001745-1791370800-1791374400@fpcdarien.com
SUMMARY:Women's Bible Study
DESCRIPTION:
URL:https://fpcdarien.com/event/womens-bible-study-2/2026-10-07/
LOCATION:Adult Sunday School room
END:VEVENT
BEGIN:VEVENT
DTSTART;TZID=America/New_York:20261010T100000
DTEND;TZID=America/New_York:20261010T110000
DTSTAMP:20260423T183131
CREATED:20230524T161020Z
LAST-MODIFIED:20230524T161020Z
UID:10000947-1791626400-1791630000@fpcdarien.com
SUMMARY:Men's Bible Study
DESCRIPTION:
URL:https://fpcdarien.com/event/mens-bible-study/2026-10-10/
LOCATION:Adult Sunday School room
END:VEVENT
BEGIN:VEVENT
DTSTART;TZID=America/New_York:20261011T093000
DTEND;TZID=America/New_York:20261011T103000
DTSTAMP:20260423T183131
CREATED:20230525T135738Z
LAST-MODIFIED:20230525T135738Z
UID:10001268-1791711000-1791714600@fpcdarien.com
SUMMARY:Adult Sunday School
DESCRIPTION:
URL:https://fpcdarien.com/event/adult-sunday-school/2026-10-11/
LOCATION:Adult Sunday School room
END:VEVENT
BEGIN:VEVENT
DTSTART;TZID=America/New_York:20261012T100000
DTEND;TZID=America/New_York:20261012T110000
DTSTAMP:20260423T183131
CREATED:20230525T140937Z
LAST-MODIFIED:20230525T140937Z
UID:10001574-1791799200-1791802800@fpcdarien.com
SUMMARY:Session
DESCRIPTION:
URL:https://fpcdarien.com/event/session/2026-10-12/
LOCATION:Adult Sunday School room
END:VEVENT
BEGIN:VEVENT
DTSTART;TZID=America/New_York:20261012T113000
DTEND;TZID=America/New_York:20261012T123000
DTSTAMP:20260423T183131
CREATED:20230524T160020Z
LAST-MODIFIED:20230524T160124Z
UID:10000439-1791804600-1791808200@fpcdarien.com
SUMMARY:Al-Anon
DESCRIPTION:
URL:https://fpcdarien.com/event/al-anon-2/2026-10-12/
LOCATION:Education building
END:VEVENT
BEGIN:VEVENT
DTSTART;TZID=America/New_York:20261014T110000
DTEND;TZID=America/New_York:20261014T120000
DTSTAMP:20260423T183131
CREATED:20260414T192812Z
LAST-MODIFIED:20260414T192812Z
UID:10001746-1791975600-1791979200@fpcdarien.com
SUMMARY:Women's Bible Study
DESCRIPTION:
URL:https://fpcdarien.com/event/womens-bible-study-2/2026-10-14/
LOCATION:Adult Sunday School room
END:VEVENT
BEGIN:VEVENT
DTSTART;TZID=America/New_York:20261015T100000
DTEND;TZID=America/New_York:20261015T110000
DTSTAMP:20260423T183131
CREATED:20230525T140644Z
LAST-MODIFIED:20230525T140644Z
UID:10001454-1792058400-1792062000@fpcdarien.com
SUMMARY:Dorcas
DESCRIPTION:
URL:https://fpcdarien.com/event/dorcas/2026-10-15/
LOCATION:Fellowship Hall
END:VEVENT
BEGIN:VEVENT
DTSTART;TZID=America/New_York:20261016T100000
DTEND;TZID=America/New_York:20261016T110000
DTSTAMP:20260423T183131
CREATED:20230524T205654Z
LAST-MODIFIED:20230524T205654Z
UID:10001072-1792144800-1792148400@fpcdarien.com
SUMMARY:Memory Matters
DESCRIPTION:
URL:https://fpcdarien.com/event/memory-matters/2026-10-16/
LOCATION:Education building
END:VEVENT
BEGIN:VEVENT
DTSTART;TZID=America/New_York:20261017T100000
DTEND;TZID=America/New_York:20261017T110000
DTSTAMP:20260423T183131
CREATED:20230524T161020Z
LAST-MODIFIED:20230524T161020Z
UID:10000948-1792231200-1792234800@fpcdarien.com
SUMMARY:Men's Bible Study
DESCRIPTION:
URL:https://fpcdarien.com/event/mens-bible-study/2026-10-17/
LOCATION:Adult Sunday School room
END:VEVENT
BEGIN:VEVENT
DTSTART;TZID=America/New_York:20261018T093000
DTEND;TZID=America/New_York:20261018T103000
DTSTAMP:20260423T183131
CREATED:20230525T135738Z
LAST-MODIFIED:20230525T135738Z
UID:10001269-1792315800-1792319400@fpcdarien.com
SUMMARY:Adult Sunday School
DESCRIPTION:
URL:https://fpcdarien.com/event/adult-sunday-school/2026-10-18/
LOCATION:Adult Sunday School room
END:VEVENT
END:VCALENDAR